Workbook
Name BIORETENTION: DA10_BMPs!$B$122
Name BIORETENTION: DA2_BMPs!$B$122
Name BIORETENTION: DA3_BMPs!$B$122
Name BIORETENTION: DA4_BMPs!$B$122
Name BIORETENTION: DA5_BMPs!$B$122
Name BIORETENTION: DA6_BMPs!$B$122
Name BIORETENTION: DA7_BMPs!$B$122
Name BIORETENTION: DA8_BMPs!$B$122
Name BIORETENTION: DA9_BMPs!$B$122
Name BIORETENTION: DA1_BMPs!$B$122
Name BMP: DA10_BMPs!$B$121:$C$134
Name BMP: DA2_BMPs!$B$121:$C$134
Name BMP: DA3_BMPs!$B$121:$C$134
Name BMP: DA4_BMPs!$B$121:$C$134
Name BMP: DA5_BMPs!$B$121:$C$134
Name BMP: DA6_BMPs!$B$121:$C$134
Name BMP: DA7_BMPs!$B$121:$C$134
Name BMP: DA8_BMPs!$B$121:$C$134
Name BMP: DA9_BMPs!$B$121:$C$134
Name BMP: DA1_BMPs!$B$121:$C$134
Name CHANNEL: 'CALCULATIONS and TABLES'!$I$103:$N$121
Name Cistern: DA10_BMPs!$L$105:$L$106
Name Cistern: DA2_BMPs!$L$105:$L$106
Name Cistern: DA3_BMPs!$L$105:$L$106
Name Cistern: DA4_BMPs!$L$105:$L$106
Name Cistern: DA5_BMPs!$L$105:$L$106
Name Cistern: DA6_BMPs!$L$105:$L$106
Name Cistern: DA7_BMPs!$L$105:$L$106
Name Cistern: DA8_BMPs!$L$105:$L$106
Name Cistern: DA9_BMPs!$L$105:$L$106
Name Cistern: DA1_BMPs!$L$105:$L$106
Name CN: DA10_BMPs!$H$120:$I$181
Name CN: DA2_BMPs!$H$120:$I$181
Name CN: DA3_BMPs!$H$120:$I$181
Name CN: DA4_BMPs!$H$120:$I$181
Name CN: DA5_BMPs!$H$120:$I$181
Name CN: DA6_BMPs!$H$120:$I$181
Name CN: DA7_BMPs!$H$120:$I$181
Name CN: DA8_BMPs!$H$120:$I$181
Name CN: DA9_BMPs!$H$120:$I$181
Name CN: DA1_BMPs!$H$120:$I$181
Name CN10YR: DA10_BMPs!$L$120:$M$181
Name CN10YR: DA2_BMPs!$L$120:$M$181
Name CN10YR: DA3_BMPs!$L$120:$M$181
Name CN10YR: DA4_BMPs!$L$120:$M$181
Name CN10YR: DA5_BMPs!$L$120:$M$181
Name CN10YR: DA6_BMPs!$L$120:$M$181
Name CN10YR: DA7_BMPs!$L$120:$M$181
Name CN10YR: DA8_BMPs!$L$120:$M$181
Name CN10YR: DA9_BMPs!$L$120:$M$181
Name CN10YR: DA1_BMPs!$L$120:$M$181
Name CN2YR: DA10_BMPs!$J$120:$K$181
Name CN2YR: DA2_BMPs!$J$120:$K$181
Name CN2YR: DA3_BMPs!$J$120:$K$181
Name CN2YR: DA4_BMPs!$J$120:$K$181
Name CN2YR: DA5_BMPs!$J$120:$K$181
Name CN2YR: DA6_BMPs!$J$120:$K$181
Name CN2YR: DA7_BMPs!$J$120:$K$181
Name CN2YR: DA8_BMPs!$J$120:$K$181
Name CN2YR: DA9_BMPs!$J$120:$K$181

Sheet Version Changes
A1: High Density volume to be the greater of the Simple Method and Discrete Method
A2: Nitrogen volume error removed
A3: Nitrogen loading error corrected in hidden cells
A4: Modified Water Quality volume on BMP sheets to be the runoff from the 1" of rain -confirmed with Bradley Bennett (6.21.11) that runoff, not 1" of runoff to be used
A5: Various changes to notes and cell titles for clarification
A6: Added Cistern to BMPs with N and volume reduction
A7: Based on Bradley Bennett conversation, simple or discrete should be used unless project is LID (low and ultra still use SCS, will run scenarios to see if still comparable)
A8: Various formatting of cells, hid some cells with unused information to simplify (Ex: Qtarget)
A9: Allowed Users to Select Locked cells
A11: Version 5 Changes | B11: 42803
A12: Tc on DA Sheets | C12: made Engineer override possible, removed 5 min autopopulation and changed calc note to "Note: Minimal 5 minute Tc"
A13: TOTAL SITE NITROGEN TO MITIGATE (lbs/yr) specified target for Wendell Only
A14: Remove BMP DA autopopulation and associated notes
A15: Site Summary
A16: Wendell: - Requires on-site mitigation down to 3.6 lbs/yr unless LID classification is achieved Rolesville: - Projects that are required to provide Stormwater Control Measures (SCMs) shall provide nitrogen loading reduction Zebulon: - Projects shall provide nitrogen loading reduction onsite. | C16: Added notes to Site Summary and to BMP summary to clarify N requirements

Sheet TOOL DIRECTIONS
C1: Towns of Rolesville, Wendell and Zebulon Stormwater Tool Directions
C3: The Wake County Municipal Stormwater Tool is required for all stormwater submittals in Rolesville Wendell, and Zebulon. Engineer will input all data requested that is highlighted in blue. Engineer may follow provided links to view calculations used in this tool. Calculations for peak flow, runoff, time of concentration, etc. are for individual drainage areas. Engineer should complete a worksheet for each drainage area within a project limit.
C5: 1 | D5: Complete SITE DATA worksheet. SITE DATA worksheet should be submitted with preliminary plan submittals and modified and submitted for construction plan submittals.
D6: The 2-yr, 24-hr rainfall input will be used for projects requesting LID classification further into the tool. The 10-year, 24-hour rainfall input will be used for potential Downstream Impact Analyses (DIA).
D7: Stormwater Narrative should describe the site conditions in pre- and post-development conditions including a description of site improvements and proposed stormwater BMPs.
C8: 2 | D8: Complete DA worksheets. Most of the site data is inputted by the engineer on the DA worksheets. DA worksheets are designed essentially to account for Ultra-Low, Low, and High Density project requirements per Ordinance standards.
D9: DA Worksheets will calculate runoff, time of concentration, peak flow, and volume to be managed per drainage area. Inputs will also be used to calculate the site composite curve numbers for pre and post development, Target Curve Number (TCN), and total nitrogen loading (TN) calculations.
D10: This sheet will also calculate required volume management for the 1st inch rainfall for high density projects. 1st inch of runoff should be handled by each DA BMP for High Density projects.
D11: Disconnected Impervious - This area will be used to provide an adjusted post development composite curve number (CNadjusted) to allow a credit for the use of disconnected impervious. Site plans should clearly indicate areas of disconnected impervious.
C12: 3 | D12: SITE SUMMARY worksheet summarizes the pre and post runoff, Tc, and peak flow per drainage area based on inputs from DA worksheets. This worksheet denotes the volume required for management per drainage area based on high density requirements.
D13: TCN and composite curve numbers for pre and post development are also calculated and summarized. If the TCN is exceeded, this worksheet will calculate total volume to be managed for the entire site based on TCN requirements.
D14: Nitrogen Loading: Nitrogen Loading Rate for the site is calculated based on the Hydrologic Soil Groups and site acreages imputed on DA worksheets. This worksheet calculates the total amount of nitrogen loading. Nitrogen total will be used on following BMP worksheets.
D15: Note: There are no engineer inputs on this sheet and all exeedances from DA worksheets will be flagged in red.
C16: 4 | D16: DA BMP worksheets require engineer to input proposed BMP information. BMPs are categorized by sub-basins within the drainage area. Engineer should input BMP device name, type, and volume provided. BMP requirements are automatically imported from previous inputs.
D17: Engineer should input land uses by sub-basin. Off-site drainage to the sub-basin may also be inputted to allow credit for nitrogen removal (if said drainage is routed through the BMP).
D18: BMPs are required in each DA where post-development peak flow is higher than pre-development peak flow. Only under special circumstances will a BMP not be required. In these cases, the engineer must show the following: 1. Total runoff volume for the DA must be less than 10% of the entire site runoff. 2. TN must be handled for the site elsewhere. 3. Runoff must not leave the DA at an erosive velocity. 4. Proposed design must comply with all state and federal regulations.
D19: DA BMP worksheets will ensure that proposed BMPs meet requirements for peak flow, TCN, and for Nitrogen. Engineer must input post-BMP discharge.
D20: Note: Engineers are required to input post BMP peak flow for the 1-year, 2-year, and 10-year storms for each DA. The SW Design Tool uses the TR-55 method. The TR-55 method is preferred for post BMP calculations. If engineer uses a method/model other than TR-55 for the post-BMP peak discharge and runoff, engineer must also provide pre-development calculations from the method/model (in addition to the SW Design Tool) and pre-development calculations must be within 10% of results computed by the SW Design Tool). A summary sheet should be attached with the submittal to for all inputs used in design.
C21: 5 | D21: BMP SUMMARY worksheet summarizes the pre and post BMP runoff, and peak flow per drainage area based on inputs from DA BMP worksheets.
D22: Nitrogen Loading: Nitrogen mitigated for the site is calculated based on the inputs on DA BMP worksheets. This worksheet calculates the total amount of nitrogen left to be mitigated for the site (Wendell only). Site expansions use the aportioning method.
D23: Note: There are no engineer inputs on this sheet and all exeedances from DA BMP worksheets will be flagged in red.
C24: 6 | D24: LID worksheet summarizes the pre and post runoff, Tc, and peak flow per drainage area for the 2-year, 24-hour storm based on inputs from DA and BMP worksheets. This worksheet will determine if design calculations provided meet LID classification.
D25: Engineers may wish to modify site design or mitigate with additional BMPs to meet LID Requirements. In that case, DA and BMP worksheets should be modified to meet these requirements and the LID sheet will be updated automatically.
D26: If calculation requirements for LID are met, Engineer should complete the LID CHECKLIST on LID worksheet and provide associated documentation to determine if project meets ALL LID requirements.
C27: 7 | D27: Downstream Impact Analysis DIA worksheet presents requirements for a downstream impact analysis. Based on engineer inputs, this sheet will report if a DIA is required for the project based on the 10-year storm discharge leaving each discharge point. This stormwater tool does NOT complete the actual downstream impact analyses.
D28: A DIA shall be performed at the outlet(s) of the site, and downstream at each tributary junction to the point(s) in the conveyance system where the area of the portion of the site draining into the system is less than or equal to 10 percent of the total drainage area above that point. The outflow hydrograph at these points is to be determined for the pre-development condition. Then, the outflow hydrograph at each of these points is to be determined for the conditions after the site in question has been developed. All hydrographs and inputs should be provided with plan submittal.

Sheet SITE DATA
B1: SITE DATA
B8: Project Information
B9: Project Name:
B10: Applicant:
B11: Applicant Contact Name:
B12: Applicant Contact Number:
B13: Contact Email:
B14: Municipal Jurisdiction (Select from dropdown menu):
B15: Last Updated:
B16: Site Data:
B17: Total Site Area (Ac):
B18: Existing Lake/Pond Area (Ac):
... B21: Type of Development (Select from Dropdown menu):
B22: Percent Built Upon Area (BUA): | F22: =ROUND(F20/F17,2) -> #VALUE!
B23: Project Density: | F23: =IF($F$22<=15%,"Ultra-Low",IF($F$22>=24%,"High","Low")) -> #VALUE!
B24: Is the proposed project a site expansion?
B25: Number of Drainage Areas on Site:
B26: NOAA | C26: 1-Year, 24-Hour Storm (inches) (See NOAA Website): | N26: =IF(AND(F26>0,F26<2.84),"VALUE IS TOO LOW!","")
C27: 2-Year, 24-Hour Storm (inches) (See NOAA Website): | N27: =IF(AND(F27>0,F27<3.42),"VALUE IS TOO LOW!","")
C28: 10-Year, 24-Hour Storm (inches) (See NOAA Website): | N28: =IF(AND(F28>0,F28<4.96),"VALUE IS TOO LOW!","")
B29: Lot Data (if applicable):
B30: Total Acreage in Lots:
B31: Number of Lots:
B32: Average Lot Size (SF):
B33: Total Impervious Surface Area on Lots (SF):
B34: Average Impervious Surface Area Per Lot (SF):
B35: Stormwater Narrative (limit to 1,200 characters - attach additional pages with submittal if necessary):
B36: Sidney Creek is a proposed subdivision in Zebulon, Wake County of NC HWY 39 and Chamblee Road on where Wake County is adjacent to Johnston County. The existing site is an undveloped combination of forrest and farm land. This is Phase One of a multiple phase +/- 650 lot development with three stormwater control measures, water, sewer, and other required utilities. For more detail see the Stormwater Calculations book.
B73: TO HIDE
C74: TYPE | D74: y/n
C75: Residential | D75: Yes
C76: Non-Residential | D76: No
C79: JURISDICTION
C80: Wendell
C81: Rolesville
C82: Zebulon

Sheet DA1
B1: Project Name: | E1: ='SITE DATA'!F9 -> 0
B3: DRAINAGE AREA 1
B4: STORMWATER PRE-POST CALCULATIONS
B8: LAND USE & SITE DATA | D8: PRE-DEVELOPMENT | H8: POST-DEVELOPMENT | L8: LINKS/COMMENTS
B9: Drainage Area (Acres)= | L9: Note: Includes offsite drainage
B10: Site Acreage within Drainage=
B11: One-year, 24-hour rainfall (in)= | D11: ='SITE DATA'!$F$26 -> 0
B12: Two-year, 24-hour rainfall (in)= | D12: ='SITE DATA'!$F$27 -> 0 | L12: From Site Data
B13: Ten-year, 24-hour storm (in)= | D13: ='SITE DATA'!$F$28 -> 0
B14: Total Lake/Pond Area (Acres)=
B15: Lake/Pond Area not in the Tc flow path (Acres)=
B16: Site Land Use (acres): | D16: A | E16: B | F16: C | G16: D | H16: A | I16: B | J16: C | K16: D | L16: See Weighted Curve Number
B17: Pasture
B18: Woods, Poor Condition
B19: Woods, Fair Condition
B20: Woods, Good Condition
B21: Open Space, Poor Condition
B22: Open Space, Fair condition
B23: Open Space, Good Condition
B24: Reforestation (in dedicated OS)
B25: Connected Impervious
B26: Disconnected Impervious | L26: =IF(OR(SUM($H$17:$K$26)>$H$10,SUM($H$17:$K$26)<$H$10),"LAND USE MUST MATCH SITE ACREAGE","") -> LAND USE MUST MATCH SITE ACREAGE
B27: SITE FLOW | D27: PRE-DEVELOPMENT Tc | H27: POST-DEVELOPMENT Tc
B28: Sheet Flow
B29: Length (ft)=
B30: Slope (ft/ft)= | L30: See Sheet Flow Calculations
B31: Surface Cover:
B32: n-value= | D32: =IF(D31=$B$143,$G$143,IF(D31=$B$144,$G$144,IF(D31=$B$145,$G$145,""))) | H32: =IF(H31=$B$143,$G$143,IF(H31=$B$144,$G$144,IF(H31=$B$145,$G$145,"")))
B33: Tt (hrs)= | D33: =IF(D29>0,(0.007*(D32*D29)^0.8)/(($D$11^0.5)*(D30^0.4)),0) -> #VALUE! | H33: =IF(H29>0,(0.007*(H32*H29)^0.8)/(($D$11^0.5)*(H30^0.4)),0) -> #VALUE!
B34: Shallow Flow
B35: Length (ft)=
B36: Slope (ft/ft)=
B37: Surface Cover:
B38: Average Velocity (ft/sec)= | D38: =IF(D37="Unpaved",16.1345*D36^0.5,IF(D37="Paved",20.32828*D36^0.5,0)) -> 0 | H38: =IF(H37="Unpaved",16.1345*H36^0.5,IF(H37="Paved",20.32828*H36^0.5,0)) -> 0 | L38: See Shallow Flow Calculations
B39: Tt (hrs)= | D39: =IF(D38>0,D35/(3600*D38),0) -> 0 | H39: =IF(H38>0,H35/(3600*H38),0) -> 0
B40: Channel Flow 1
B41: Length (ft)=
B42: Slope (ft/ft)=
B43: Cross Sectional Flow Area (ft2)=
B44: Wetted Perimeter (ft)=
...

Sheet DA2
B1: Project Name: | E1: ='SITE DATA'!F9 -> 0
B3: DRAINAGE AREA 2
B4: STORMWATER PRE-POST CALCULATIONS
B8: LAND USE & SITE DATA | D8: PRE-DEVELOPMENT | H8: POST-DEVELOPMENT | L8: LINKS/COMMENTS
B9: Drainage Area (Acres)= | L9: Note: Includes offsite drainage
B10: Site Acreage within Drainage=
B11: One-year, 24-hour rainfall (in)= | D11: ='SITE DATA'!$F$26 -> 0
B12: Two-year, 24-hour rainfall (in)= | D12: ='SITE DATA'!$F$27 -> 0 | L12: From Site Data
B13: Ten-year, 24-hour storm (in)= | D13: ='SITE DATA'!$F$28 -> 0
B14: Total Lake/Pond Area (Acres)=
B15: Lake/Pond Area not in the Tc flow path (Acres)=
B16: Site Land Use (acres): | D16: A | E16: B | F16: C | G16: D | H16: A | I16: B | J16: C | K16: D | L16: See Weighted Curve Number
B17: Pasture
B18: Woods, Poor Condition
B19: Woods, Fair Condition
B20: Woods, Good Condition
B21: Open Space, Poor Condition
B22: Open Space, Fair condition
B23: Open Space, Good Condition
B24: Reforestation (in dedicated OS)
B25: Connected Impervious
B26: Disconnected Impervious | L26: =IF(OR(SUM($H$17:$K$26)>$H$10,SUM($H$17:$K$26)<$H$10),"LAND USE MUST MATCH SITE ACREAGE","") -> LAND USE MUST MATCH SITE ACREAGE
B27: SITE FLOW | D27: PRE-DEVELOPMENT Tc | H27: POST-DEVELOPMENT Tc
B28: Sheet Flow
B29: Length (ft)=
B30: Slope (ft/ft)= | L30: See Sheet Flow Calculations
B31: Surface Cover:
B32: n-value= | D32: =IF(D31=$B$143,$G$143,IF(D31=$B$144,$G$144,IF(D31=$B$145,$G$145,""))) | H32: =IF(H31=$B$143,$G$143,IF(H31=$B$144,$G$144,IF(H31=$B$145,$G$145,"")))
B33: Tt (hrs)= | D33: =IF(D29>0,(0.007*(D32*D29)^0.8)/(($D$11^0.5)*(D30^0.4)),0) -> #VALUE! | H33: =IF(H29>0,(0.007*(H32*H29)^0.8)/(($D$11^0.5)*(H30^0.4)),0) -> #VALUE!
B34: Shallow Flow
B35: Length (ft)=
B36: Slope (ft/ft)=
B37: Surface Cover:
B38: Average Velocity (ft/sec)= | D38: =IF(D37="Unpaved",16.1345*D36^0.5,IF(D37="Paved",20.32828*D36^0.5,0)) -> 0 | H38: =IF(H37="Unpaved",16.1345*H36^0.5,IF(H37="Paved",20.32828*H36^0.5,0)) -> 0 | L38: See Shallow Flow Calculations
B39: Tt (hrs)= | D39: =IF(D38>0,D35/(3600*D38),0) -> 0 | H39: =IF(H38>0,H35/(3600*H38),0) -> 0
B40: Channel Flow 1
B41: Length (ft)=
B42: Slope (ft/ft)=
B43: Cross Sectional Flow Area (ft2)=
B44: Wetted Perimeter (ft)=
...

Sheet DA3
B1: Project Name: | E1: ='SITE DATA'!F9 -> 0
B3: DRAINAGE AREA 3
B4: STORMWATER PRE-POST CALCULATIONS
B8: LAND USE & SITE DATA | D8: PRE-DEVELOPMENT | H8: POST-DEVELOPMENT | L8: LINKS/COMMENTS
B9: Drainage Area (Acres)= | L9: Note: Includes offsite drainage
B10: Site Acreage within Drainage=
B11: One-year, 24-hour rainfall (in)= | D11: ='SITE DATA'!$F$26 -> 0
B12: Two-year, 24-hour rainfall (in)= | D12: ='SITE DATA'!$F$27 -> 0 | L12: From Site Data
B13: Ten-year, 24-hour storm (in)= | D13: ='SITE DATA'!$F$28 -> 0
B14: Total Lake/Pond Area (Acres)=
B15: Lake/Pond Area not in the Tc flow path (Acres)=
B16: Site Land Use (acres): | D16: A | E16: B | F16: C | G16: D | H16: A | I16: B | J16: C | K16: D | L16: See Weighted Curve Number
B17: Pasture
B18: Woods, Poor Condition
B19: Woods, Fair Condition
B20: Woods, Good Condition
B21: Open Space, Poor Condition
B22: Open Space, Fair condition
B23: Open Space, Good Condition
B24: Reforestation (in dedicated OS)
B25: Connected Impervious
B26: Disconnected Impervious | L26: =IF(OR(SUM($H$17:$K$26)>$H$10,SUM($H$17:$K$26)<$H$10),"LAND USE MUST MATCH SITE ACREAGE","") -> LAND USE MUST MATCH SITE ACREAGE
B27: SITE FLOW | D27: PRE-DEVELOPMENT Tc | H27: POST-DEVELOPMENT Tc
B28: Sheet Flow
B29: Length (ft)=
B30: Slope (ft/ft)= | L30: See Sheet Flow Calculations
B31: Surface Cover:
B32: n-value= | D32: =IF(D31=$B$143,$G$143,IF(D31=$B$144,$G$144,IF(D31=$B$145,$G$145,""))) | H32: =IF(H31=$B$143,$G$143,IF(H31=$B$144,$G$144,IF(H31=$B$145,$G$145,"")))
B33: Tt (hrs)= | D33: =IF(D29>0,(0.007*(D32*D29)^0.8)/(($D$11^0.5)*(D30^0.4)),0) -> #VALUE! | H33: =IF(H29>0,(0.007*(H32*H29)^0.8)/(($D$11^0.5)*(H30^0.4)),0) -> #VALUE!
B34: Shallow Flow
B35: Length (ft)=
B36: Slope (ft/ft)=
B37: Surface Cover:
B38: Average Velocity (ft/sec)= | D38: =IF(D37="Unpaved",16.1345*D36^0.5,IF(D37="Paved",20.32828*D36^0.5,0)) -> 0 | H38: =IF(H37="Unpaved",16.1345*H36^0.5,IF(H37="Paved",20.32828*H36^0.5,0)) -> 0 | L38: See Shallow Flow Calculations
B39: Tt (hrs)= | D39: =IF(D38>0,D35/(3600*D38),0) -> 0 | H39: =IF(H38>0,H35/(3600*H38),0) -> 0
B40: Channel Flow 1
B41: Length (ft)=
B42: Slope (ft/ft)=
B43: Cross Sectional Flow Area (ft2)=
B44: Wetted Perimeter (ft)=
...

Sheet DA4
B1: Project Name: | E1: ='SITE DATA'!F9 -> 0
B3: DRAINAGE AREA 4
B4: STORMWATER PRE-POST CALCULATIONS
B8: LAND USE & SITE DATA | D8: PRE-DEVELOPMENT | H8: POST-DEVELOPMENT | L8: LINKS/COMMENTS
B9: Drainage Area (Acres)= | L9: Note: Includes offsite drainage
B10: Site Acreage within Drainage=
B11: One-year, 24-hour rainfall (in)= | D11: ='SITE DATA'!$F$26 -> 0
B12: Two-year, 24-hour rainfall (in)= | D12: ='SITE DATA'!$F$27 -> 0 | L12: From Site Data
B13: Ten-year, 24-hour storm (in)= | D13: ='SITE DATA'!$F$28 -> 0
B14: Total Lake/Pond Area (Acres)=
B15: Lake/Pond Area not in the Tc flow path (Acres)=
B16: Site Land Use (acres): | D16: A | E16: B | F16: C | G16: D | H16: A | I16: B | J16: C | K16: D | L16: See Weighted Curve Number
B17: Pasture
B18: Woods, Poor Condition
B19: Woods, Fair Condition
B20: Woods, Good Condition
B21: Open Space, Poor Condition
B22: Open Space, Fair condition
B23: Open Space, Good Condition
B24: Reforestation (in dedicated OS)
B25: Connected Impervious
B26: Disconnected Impervious | L26: =IF(OR(SUM($H$17:$K$26)>$H$10,SUM($H$17:$K$26)<$H$10),"LAND USE MUST MATCH SITE ACREAGE","")
B27: SITE FLOW | D27: PRE-DEVELOPMENT Tc | H27: POST-DEVELOPMENT Tc
B28: Sheet Flow
B29: Length (ft)=
B30: Slope (ft/ft)= | L30: See Sheet Flow Calculations
B31: Surface Cover:
B32: n-value= | D32: =IF(D31=$B$143,$G$143,IF(D31=$B$144,$G$144,IF(D31=$B$145,$G$145,""))) | H32: =IF(H31=$B$143,$G$143,IF(H31=$B$144,$G$144,IF(H31=$B$145,$G$145,"")))
B33: Tt (hrs)= | D33: =IF(D29>0,(0.007*(D32*D29)^0.8)/(($D$11^0.5)*(D30^0.4)),0) -> 0 | H33: =IF(H29>0,(0.007*(H32*H29)^0.8)/(($D$11^0.5)*(H30^0.4)),0) -> 0
B34: Shallow Flow
B35: Length (ft)=
B36: Slope (ft/ft)=
B37: Surface Cover:
B38: Average Velocity (ft/sec)= | D38: =IF(D37="Unpaved",16.1345*D36^0.5,IF(D37="Paved",20.32828*D36^0.5,0)) -> 0 | H38: =IF(H37="Unpaved",16.1345*H36^0.5,IF(H37="Paved",20.32828*H36^0.5,0)) -> 0 | L38: See Shallow Flow Calculations
B39: Tt (hrs)= | D39: =IF(D38>0,D35/(3600*D38),0) -> 0 | H39: =IF(H38>0,H35/(3600*H38),0) -> 0
B40: Channel Flow 1
B41: Length (ft)=
B42: Slope (ft/ft)=
B43: Cross Sectional Flow Area (ft2)=
B44: Wetted Perimeter (ft)=
...

Sheet DA5
B1: Project Name: | E1: ='SITE DATA'!F9 -> 0
B3: DRAINAGE AREA 5
B4: STORMWATER PRE-POST CALCULATIONS
B8: LAND USE & SITE DATA | D8: PRE-DEVELOPMENT | H8: POST-DEVELOPMENT | L8: LINKS/COMMENTS
B9: Drainage Area (Acres)= | L9: Note: Includes offsite drainage
B10: Site Acreage within Drainage=
B11: One-year, 24-hour rainfall (in)= | D11: ='SITE DATA'!$F$26 -> 0
B12: Two-year, 24-hour rainfall (in)= | D12: ='SITE DATA'!$F$27 -> 0 | L12: From Site Data
B13: Ten-year, 24-hour storm (in)= | D13: ='SITE DATA'!$F$28 -> 0
B14: Total Lake/Pond Area (Acres)=
B15: Lake/Pond Area not in the Tc flow path (Acres)=
B16: Site Land Use (acres): | D16: A | E16: B | F16: C | G16: D | H16: A | I16: B | J16: C | K16: D | L16: See Weighted Curve Number
B17: Pasture
B18: Woods, Poor Condition
B19: Woods, Fair Condition
B20: Woods, Good Condition
B21: Open Space, Poor Condition
B22: Open Space, Fair condition
B23: Open Space, Good Condition
B24: Reforestation (in dedicated OS)
B25: Connected Impervious
B26: Disconnected Impervious | L26: =IF(OR(SUM($H$17:$K$26)>$H$10,SUM($H$17:$K$26)<$H$10),"LAND USE MUST MATCH SITE ACREAGE","")
B27: SITE FLOW | D27: PRE-DEVELOPMENT Tc | H27: POST-DEVELOPMENT Tc
B28: Sheet Flow
B29: Length (ft)=
B30: Slope (ft/ft)= | L30: See Sheet Flow Calculations
B31: Surface Cover:
B32: n-value= | D32: =IF(D31=$B$143,$G$143,IF(D31=$B$144,$G$144,IF(D31=$B$145,$G$145,""))) | H32: =IF(H31=$B$143,$G$143,IF(H31=$B$144,$G$144,IF(H31=$B$145,$G$145,"")))
B33: Tt (hrs)= | D33: =IF(D29>0,(0.007*(D32*D29)^0.8)/(($D$11^0.5)*(D30^0.4)),0) -> 0 | H33: =IF(H29>0,(0.007*(H32*H29)^0.8)/(($D$11^0.5)*(H30^0.4)),0) -> 0
B34: Shallow Flow
B35: Length (ft)=
B36: Slope (ft/ft)=
B37: Surface Cover:
B38: Average Velocity (ft/sec)= | D38: =IF(D37="Unpaved",16.1345*D36^0.5,IF(D37="Paved",20.32828*D36^0.5,0)) -> 0 | H38: =IF(H37="Unpaved",16.1345*H36^0.5,IF(H37="Paved",20.32828*H36^0.5,0)) -> 0 | L38: See Shallow Flow Calculations
B39: Tt (hrs)= | D39: =IF(D38>0,D35/(3600*D38),0) -> 0 | H39: =IF(H38>0,H35/(3600*H38),0) -> 0
B40: Channel Flow 1
B41: Length (ft)=
B42: Slope (ft/ft)=
B43: Cross Sectional Flow Area (ft2)=
B44: Wetted Perimeter (ft)=
...

Sheet DA6
B1: Project Name: | E1: ='SITE DATA'!F9 -> 0
B3: DRAINAGE AREA 6
B4: STORMWATER PRE-POST CALCULATIONS
B8: LAND USE & SITE DATA | D8: PRE-DEVELOPMENT | H8: POST-DEVELOPMENT | L8: LINKS/COMMENTS
B9: Drainage Area (Acres)= | L9: Note: Includes offsite drainage
B10: Site Acreage within Drainage=
B11: One-year, 24-hour rainfall (in)= | D11: ='SITE DATA'!$F$26 -> 0
B12: Two-year, 24-hour rainfall (in)= | D12: ='SITE DATA'!$F$27 -> 0 | L12: From Site Data
B13: Ten-year, 24-hour storm (in)= | D13: ='SITE DATA'!$F$28 -> 0
B14: Total Lake/Pond Area (Acres)=
B15: Lake/Pond Area not in the Tc flow path (Acres)=
B16: Site Land Use (acres): | D16: A | E16: B | F16: C | G16: D | H16: A | I16: B | J16: C | K16: D | L16: See Weighted Curve Number
B17: Pasture
B18: Woods, Poor Condition
B19: Woods, Fair Condition
B20: Woods, Good Condition
B21: Open Space, Poor Condition
B22: Open Space, Fair condition
B23: Open Space, Good Condition
B24: Reforestation (in dedicated OS)
B25: Connected Impervious
B26: Disconnected Impervious | L26: =IF(OR(SUM($H$17:$K$26)>$H$10,SUM($H$17:$K$26)<$H$10),"LAND USE MUST MATCH SITE ACREAGE","")
B27: SITE FLOW | D27: PRE-DEVELOPMENT Tc | H27: POST-DEVELOPMENT Tc
B28: Sheet Flow
B29: Length (ft)=
B30: Slope (ft/ft)= | L30: See Sheet Flow Calculations
B31: Surface Cover:
B32: n-value= | D32: =IF(D31=$B$143,$G$143,IF(D31=$B$144,$G$144,IF(D31=$B$145,$G$145,""))) | H32: =IF(H31=$B$143,$G$143,IF(H31=$B$144,$G$144,IF(H31=$B$145,$G$145,"")))
B33: Tt (hrs)= | D33: =IF(D29>0,(0.007*(D32*D29)^0.8)/(($D$11^0.5)*(D30^0.4)),0) -> 0 | H33: =IF(H29>0,(0.007*(H32*H29)^0.8)/(($D$11^0.5)*(H30^0.4)),0) -> 0
B34: Shallow Flow
B35: Length (ft)=
B36: Slope (ft/ft)=
B37: Surface Cover:
B38: Average Velocity (ft/sec)= | D38: =IF(D37="Unpaved",16.1345*D36^0.5,IF(D37="Paved",20.32828*D36^0.5,0)) -> 0 | H38: =IF(H37="Unpaved",16.1345*H36^0.5,IF(H37="Paved",20.32828*H36^0.5,0)) -> 0 | L38: See Shallow Flow Calculations
B39: Tt (hrs)= | D39: =IF(D38>0,D35/(3600*D38),0) -> 0 | H39: =IF(H38>0,H35/(3600*H38),0) -> 0
B40: Channel Flow 1
B41: Length (ft)=
B42: Slope (ft/ft)=
B43: Cross Sectional Flow Area (ft2)=
B44: Wetted Perimeter (ft)=
...

Sheet DA7
B1: Project Name: | E1: ='SITE DATA'!F9 -> 0
B3: DRAINAGE AREA 7
B4: STORMWATER PRE-POST CALCULATIONS
B8: LAND USE & SITE DATA | D8: PRE-DEVELOPMENT | H8: POST-DEVELOPMENT | L8: LINKS/COMMENTS
B9: Drainage Area (Acres)= | L9: Note: Includes offsite drainage
B10: Site Acreage within Drainage=
B11: One-year, 24-hour rainfall (in)= | D11: ='SITE DATA'!$F$26 -> 0
B12: Two-year, 24-hour rainfall (in)= | D12: ='SITE DATA'!$F$27 -> 0 | L12: From Site Data
B13: Ten-year, 24-hour storm (in)= | D13: ='SITE DATA'!$F$28 -> 0
B14: Total Lake/Pond Area (Acres)=
B15: Lake/Pond Area not in the Tc flow path (Acres)=
B16: Site Land Use (acres): | D16: A | E16: B | F16: C | G16: D | H16: A | I16: B | J16: C | K16: D | L16: See Weighted Curve Number
B17: Pasture
B18: Woods, Poor Condition
B19: Woods, Fair Condition
B20: Woods, Good Condition
B21: Open Space, Poor Condition
B22: Open Space, Fair condition
B23: Open Space, Good Condition
B24: Reforestation (in dedicated OS)
B25: Connected Impervious
B26: Disconnected Impervious | L26: =IF(OR(SUM($H$17:$K$26)>$H$10,SUM($H$17:$K$26)<$H$10),"LAND USE MUST MATCH SITE ACREAGE","")
B27: SITE FLOW | D27: PRE-DEVELOPMENT Tc | H27: POST-DEVELOPMENT Tc
B28: Sheet Flow
B29: Length (ft)=
B30: Slope (ft/ft)= | L30: See Sheet Flow Calculations
B31: Surface Cover:
B32: n-value= | D32: =IF(D31=$B$143,$G$143,IF(D31=$B$144,$G$144,IF(D31=$B$145,$G$145,""))) | H32: =IF(H31=$B$143,$G$143,IF(H31=$B$144,$G$144,IF(H31=$B$145,$G$145,"")))
B33: Tt (hrs)= | D33: =IF(D29>0,(0.007*(D32*D29)^0.8)/(($D$11^0.5)*(D30^0.4)),0) -> 0 | H33: =IF(H29>0,(0.007*(H32*H29)^0.8)/(($D$11^0.5)*(H30^0.4)),0) -> 0
B34: Shallow Flow
B35: Length (ft)=
B36: Slope (ft/ft)=
B37: Surface Cover:
B38: Average Velocity (ft/sec)= | D38: =IF(D37="Unpaved",16.1345*D36^0.5,IF(D37="Paved",20.32828*D36^0.5,0)) -> 0 | H38: =IF(H37="Unpaved",16.1345*H36^0.5,IF(H37="Paved",20.32828*H36^0.5,0)) -> 0 | L38: See Shallow Flow Calculations
B39: Tt (hrs)= | D39: =IF(D38>0,D35/(3600*D38),0) -> 0 | H39: =IF(H38>0,H35/(3600*H38),0) -> 0
B40: Channel Flow 1
B41: Length (ft)=
B42: Slope (ft/ft)=
B43: Cross Sectional Flow Area (ft2)=
B44: Wetted Perimeter (ft)=
...

Sheet DA8
B1: Project Name: | E1: ='SITE DATA'!F9 -> 0
B3: DRAINAGE AREA 8
B4: STORMWATER PRE-POST CALCULATIONS
B8: LAND USE & SITE DATA | D8: PRE-DEVELOPMENT | H8: POST-DEVELOPMENT | L8: LINKS/COMMENTS
B9: Drainage Area (Acres)= | L9: Note: Includes offsite drainage
B10: Site Acreage within Drainage=
B11: One-year, 24-hour rainfall (in)= | D11: ='SITE DATA'!$F$26 -> 0
B12: Two-year, 24-hour rainfall (in)= | D12: ='SITE DATA'!$F$27 -> 0 | L12: From Site Data
B13: Ten-year, 24-hour storm (in)= | D13: ='SITE DATA'!$F$28 -> 0
B14: Total Lake/Pond Area (Acres)=
B15: Lake/Pond Area not in the Tc flow path (Acres)=
B16: Site Land Use (acres): | D16: A | E16: B | F16: C | G16: D | H16: A | I16: B | J16: C | K16: D | L16: See Weighted Curve Number
B17: Pasture
B18: Woods, Poor Condition
B19: Woods, Fair Condition
B20: Woods, Good Condition
B21: Open Space, Poor Condition
B22: Open Space, Fair condition
B23: Open Space, Good Condition
B24: Reforestation (in dedicated OS)
B25: Connected Impervious
B26: Disconnected Impervious | L26: =IF(OR(SUM($H$17:$K$26)>$H$10,SUM($H$17:$K$26)<$H$10),"LAND USE MUST MATCH SITE ACREAGE","")
B27: SITE FLOW | D27: PRE-DEVELOPMENT Tc | H27: POST-DEVELOPMENT Tc
B28: Sheet Flow
B29: Length (ft)=
B30: Slope (ft/ft)= | L30: See Sheet Flow Calculations
B31: Surface Cover:
B32: n-value= | D32: =IF(D31=$B$143,$G$143,IF(D31=$B$144,$G$144,IF(D31=$B$145,$G$145,""))) | H32: =IF(H31=$B$143,$G$143,IF(H31=$B$144,$G$144,IF(H31=$B$145,$G$145,"")))
B33: Tt (hrs)= | D33: =IF(D29>0,(0.007*(D32*D29)^0.8)/(($D$11^0.5)*(D30^0.4)),0) -> 0 | H33: =IF(H29>0,(0.007*(H32*H29)^0.8)/(($D$11^0.5)*(H30^0.4)),0) -> 0
B34: Shallow Flow
B35: Length (ft)=
B36: Slope (ft/ft)=
B37: Surface Cover:
B38: Average Velocity (ft/sec)= | D38: =IF(D37="Unpaved",16.1345*D36^0.5,IF(D37="Paved",20.32828*D36^0.5,0)) -> 0 | H38: =IF(H37="Unpaved",16.1345*H36^0.5,IF(H37="Paved",20.32828*H36^0.5,0)) -> 0 | L38: See Shallow Flow Calculations
B39: Tt (hrs)= | D39: =IF(D38>0,D35/(3600*D38),0) -> 0 | H39: =IF(H38>0,H35/(3600*H38),0) -> 0
B40: Channel Flow 1
B41: Length (ft)=
B42: Slope (ft/ft)=
B43: Cross Sectional Flow Area (ft2)=
B44: Wetted Perimeter (ft)=
...

Sheet DA9
B1: Project Name: | E1: ='SITE DATA'!F9 -> 0
B3: DRAINAGE AREA 9
B4: STORMWATER PRE-POST CALCULATIONS
B8: LAND USE & SITE DATA | D8: PRE-DEVELOPMENT | H8: POST-DEVELOPMENT | L8: LINKS/COMMENTS
B9: Drainage Area (Acres)= | L9: Note: Includes offsite drainage
B10: Site Acreage within Drainage=
B11: One-year, 24-hour rainfall (in)= | D11: ='SITE DATA'!$F$26 -> 0
B12: Two-year, 24-hour rainfall (in)= | D12: ='SITE DATA'!$F$27 -> 0 | L12: From Site Data
B13: Ten-year, 24-hour storm (in)= | D13: ='SITE DATA'!$F$28 -> 0
B14: Total Lake/Pond Area (Acres)=
B15: Lake/Pond Area not in the Tc flow path (Acres)=
B16: Site Land Use (acres): | D16: A | E16: B | F16: C | G16: D | H16: A | I16: B | J16: C | K16: D | L16: See Weighted Curve Number
B17: Pasture
B18: Woods, Poor Condition
B19: Woods, Fair Condition
B20: Woods, Good Condition
B21: Open Space, Poor Condition
B22: Open Space, Fair condition
B23: Open Space, Good Condition
B24: Reforestation (in dedicated OS)
B25: Connected Impervious
B26: Disconnected Impervious | L26: =IF(OR(SUM($H$17:$K$26)>$H$10,SUM($H$17:$K$26)<$H$10),"LAND USE MUST MATCH SITE ACREAGE","")
B27: SITE FLOW | D27: PRE-DEVELOPMENT Tc | H27: POST-DEVELOPMENT Tc
B28: Sheet Flow
B29: Length (ft)=
B30: Slope (ft/ft)= | L30: See Sheet Flow Calculations
B31: Surface Cover:
B32: n-value= | D32: =IF(D31=$B$143,$G$143,IF(D31=$B$144,$G$144,IF(D31=$B$145,$G$145,""))) | H32: =IF(H31=$B$143,$G$143,IF(H31=$B$144,$G$144,IF(H31=$B$145,$G$145,"")))
B33: Tt (hrs)= | D33: =IF(D29>0,(0.007*(D32*D29)^0.8)/(($D$11^0.5)*(D30^0.4)),0) -> 0 | H33: =IF(H29>0,(0.007*(H32*H29)^0.8)/(($D$11^0.5)*(H30^0.4)),0) -> 0
B34: Shallow Flow
B35: Length (ft)=
B36: Slope (ft/ft)=
B37: Surface Cover:
B38: Average Velocity (ft/sec)= | D38: =IF(D37="Unpaved",16.1345*D36^0.5,IF(D37="Paved",20.32828*D36^0.5,0)) -> 0 | H38: =IF(H37="Unpaved",16.1345*H36^0.5,IF(H37="Paved",20.32828*H36^0.5,0)) -> 0 | L38: See Shallow Flow Calculations
B39: Tt (hrs)= | D39: =IF(D38>0,D35/(3600*D38),0) -> 0 | H39: =IF(H38>0,H35/(3600*H38),0) -> 0
B40: Channel Flow 1
B41: Length (ft)=
B42: Slope (ft/ft)=
B43: Cross Sectional Flow Area (ft2)=
B44: Wetted Perimeter (ft)=
...

Sheet DA10
B1: Project Name: | E1: ='SITE DATA'!F9 -> 0
B3: DRAINAGE AREA 10
B4: STORMWATER PRE-POST CALCULATIONS
B8: LAND USE & SITE DATA | D8: PRE-DEVELOPMENT | H8: POST-DEVELOPMENT | L8: LINKS/COMMENTS
B9: Drainage Area (Acres)= | L9: Note: Includes offsite drainage
B10: Site Acreage within Drainage=
B11: One-year, 24-hour rainfall (in)= | D11: ='SITE DATA'!$F$26 -> 0
B12: Two-year, 24-hour rainfall (in)= | D12: ='SITE DATA'!$F$27 -> 0 | L12: From Site Data
B13: Ten-year, 24-hour storm (in)= | D13: ='SITE DATA'!$F$28 -> 0
B14: Total Lake/Pond Area (Acres)=
B15: Lake/Pond Area not in the Tc flow path (Acres)=
B16: Site Land Use (acres): | D16: A | E16: B | F16: C | G16: D | H16: A | I16: B | J16: C | K16: D | L16: See Weighted Curve Number
B17: Pasture
B18: Woods, Poor Condition
B19: Woods, Fair Condition
B20: Woods, Good Condition
B21: Open Space, Poor Condition
B22: Open Space, Fair condition
B23: Open Space, Good Condition
B24: Reforestation (in dedicated OS)
B25: Connected Impervious
B26: Disconnected Impervious | L26: =IF(OR(SUM($H$17:$K$26)>$H$10,SUM($H$17:$K$26)<$H$10),"LAND USE MUST MATCH SITE ACREAGE","")
B27: SITE FLOW | D27: PRE-DEVELOPMENT Tc | H27: POST-DEVELOPMENT Tc
B28: Sheet Flow
B29: Length (ft)=
B30: Slope (ft/ft)= | L30: See Sheet Flow Calculations
B31: Surface Cover:
B32: n-value= | D32: =IF(D31=$B$143,$G$143,IF(D31=$B$144,$G$144,IF(D31=$B$145,$G$145,""))) | H32: =IF(H31=$B$143,$G$143,IF(H31=$B$144,$G$144,IF(H31=$B$145,$G$145,"")))
B33: Tt (hrs)= | D33: =IF(D29>0,(0.007*(D32*D29)^0.8)/(($D$11^0.5)*(D30^0.4)),0) -> 0 | H33: =IF(H29>0,(0.007*(H32*H29)^0.8)/(($D$11^0.5)*(H30^0.4)),0) -> 0
B34: Shallow Flow
B35: Length (ft)=
B36: Slope (ft/ft)=
B37: Surface Cover:
B38: Average Velocity (ft/sec)= | D38: =IF(D37="Unpaved",16.1345*D36^0.5,IF(D37="Paved",20.32828*D36^0.5,0)) -> 0 | H38: =IF(H37="Unpaved",16.1345*H36^0.5,IF(H37="Paved",20.32828*H36^0.5,0)) -> 0 | L38: See Shallow Flow Calculations
B39: Tt (hrs)= | D39: =IF(D38>0,D35/(3600*D38),0) -> 0 | H39: =IF(H38>0,H35/(3600*H38),0) -> 0
B40: Channel Flow 1
B41: Length (ft)=
B42: Slope (ft/ft)=
B43: Cross Sectional Flow Area (ft2)=
B44: Wetted Perimeter (ft)=
...

Sheet SITE SUMMARY
B1: Project Name: | F1: ='SITE DATA'!F9 -> 0
B4: DA SITE SUMMARY
B5: STORMWATER PRE-POST CALCULATIONS
B8: SITE SUMMARY | M8: LINKS/COMMENTS
B9: DRAINAGE AREA SUMMARIES
B10: DRAINAGE AREA: | C10: DA1 | D10: DA2 | E10: DA3 | F10: DA4 | G10: DA5 | H10: DA6 | I10: DA7 | J10: DA8 | K10: DA9 | L10: DA10
B11: Pre-Development (1-year, 24-hour storm)
B12: Pre-Development CN = | C12: =IF(ISERROR('DA1'!$D$74),"0",'DA1'!$D$74) -> 0 | D12: =IF(ISERROR('DA2'!$D$74),"0",'DA2'!$D$74) -> 0 | E12: =IF(ISERROR('DA3'!$D$74),"0",'DA3'!$D$74) -> 0 | F12: =IF(ISERROR('DA4'!$D$74),"0",'DA4'!$D$74) -> 0 | G12: =IF(ISERROR('DA5'!$D$74),"0",'DA5'!$D$74) -> 0 | H12: =IF(ISERROR('DA6'!$D$74),"0",'DA6'!$D$74) -> 0 | I12: =IF(ISERROR('DA7'!$D$74),"0",'DA7'!$D$74) -> 0 | J12: =IF(ISERROR('DA8'!$D$74),"0",'DA8'!$D$74) -> 0 | K12: =IF(ISERROR('DA9'!$D$74),"0",'DA9'!$D$74) -> 0 | L12: =IF(ISERROR('DA10'!$D$74),"0",'DA10'!$D$74) -> 0 | M12: to hide
B13: Site Acreage = | C13: ='DA1'!$D$10 | D13: ='DA2'!$D$10 | E13: ='DA3'!$D$10 | F13: ='DA4'!$D$10 -> 0 | G13: ='DA5'!$D$10 -> 0 | H13: ='DA6'!$D$10 -> 0 | I13: ='DA7'!$D$10 -> 0 | J13: ='DA8'!$D$10 -> 0 | K13: ='DA9'!$D$10 -> 0 | L13: ='DA10'!$D$10 -> 0 | M13: to hide
B14: Runoff (in) = Qpre,1-year = | C14: =IF(ISERROR('DA1'!$D$82),"",'DA1'!$D$82) | D14: =IF(ISERROR('DA2'!$D$82),"",'DA2'!$D$82) | E14: =IF(ISERROR('DA3'!$D$82),"",'DA3'!$D$82) | F14: =IF(ISERROR('DA4'!$D$82),"",'DA4'!$D$82) | G14: =IF(ISERROR('DA5'!$D$82),"",'DA5'!$D$82) | H14: =IF(ISERROR('DA6'!$D$82),"",'DA6'!$D$82) | I14: =IF(ISERROR('DA7'!$D$82),"",'DA7'!$D$82) | J14: =IF(ISERROR('DA8'!$D$82),"",'DA8'!$D$82) | K14: =IF(ISERROR('DA9'!$D$82),"",'DA9'!$D$82) | L14: =IF(ISERROR('DA10'!$D$82),"",'DA10'!$D$82)
B15: Peak Flow (cfs)=Q1-year = | C15: =IF(ISERROR('DA1'!$D$85),"",'DA1'!$D$85) | D15: =IF(ISERROR('DA2'!$D$85),"",'DA2'!$D$85) | E15: =IF(ISERROR('DA3'!$D$85),"",'DA3'!$D$85) | F15: =IF(ISERROR('DA4'!$D$85),"",'DA4'!$D$85) | G15: =IF(ISERROR('DA5'!$D$85),"",'DA5'!$D$85) | H15: =IF(ISERROR('DA6'!$D$85),"",'DA6'!$D$85) | I15: =IF(ISERROR('DA7'!$D$85),"",'DA7'!$D$85) | J15: =IF(ISERROR('DA8'!$D$85),"",'DA8'!$D$85) | K15: =IF(ISERROR('DA9'!$D$85),"",'DA9'!$D$85) | L15: =IF(ISERROR('DA10'!$D$85),"",'DA10'!$D$85)
B16: Post-Development (1-year, 24-hour storm)
B17: Proposed Impervious Surface (acre) = | C17: =IF(SUM('DA1'!$H$10)>0,SUM('DA1'!$H$25:$K$26),"") | D17: =IF(SUM('DA2'!$H$10)>0,SUM('DA2'!$H$25:$K$26),"") | E17: =IF(SUM('DA3'!$H$10)>0,SUM('DA3'!$H$25:$K$26),"") | F17: =IF(SUM('DA4'!$H$10)>0,SUM('DA4'!$H$25:$K$26),"") | G17: =IF(SUM('DA5'!$H$10)>0,SUM('DA5'!$H$25:$K$26),"") | H17: =IF(SUM('DA6'!$H$10)>0,SUM('DA6'!$H$25:$K$26),"") | I17: =IF(SUM('DA7'!$H$10)>0,SUM('DA7'!$H$25:$K$26),"") | J17: =IF(SUM('DA8'!$H$10)>0,SUM('DA8'!$H$25:$K$26),"") | K17: =IF(SUM('DA9'!$H$10)>0,SUM('DA9'!$H$25:$K$26),"") | L17: =IF(SUM('DA10'!$H$10)>0,SUM('DA10'!$H$25:$K$26),"")
B18: Existing Lake/Pond Area (Acres)= | C18: =IF(ISERROR('DA1'!$H$14),"-",'DA1'!$H$14) | D18: =IF(ISERROR('DA2'!$H$14),"-",'DA2'!$H$14) | E18: =IF(ISERROR('DA3'!$H$14),"-",'DA3'!$H$14) | F18: =IF(ISERROR('DA4'!$H$14),"-",'DA4'!$H$14) -> 0 | G18: =IF(ISERROR('DA5'!$H$14),"-",'DA5'!$H$14) -> 0 | H18: =IF(ISERROR('DA6'!$H$14),"-",'DA6'!$H$14) -> 0 | I18: =IF(ISERROR('DA7'!$H$14),"-",'DA7'!$H$14) -> 0 | J18: =IF(ISERROR('DA8'!$H$14),"-",'DA8'!$H$14) -> 0 | K18: =IF(ISERROR('DA9'!$H$14),"-",'DA9'!$H$14) -> 0 | L18: =IF(ISERROR('DA10'!$H$14),"-",'DA10'!$H$14) -> 0 | M18: to hide
B19: Post-Development CN = | C19: =IF(ISERROR('DA1'!$D$77),"0",'DA1'!$D$77) -> 0 | D19: =IF(ISERROR('DA2'!$D$77),"0",'DA2'!$D$77) -> 0 | E19: =IF(ISERROR('DA3'!$D$77),"0",'DA3'!$D$77) -> 0 | F19: =IF(ISERROR('DA4'!$D$77),"0",'DA4'!$D$77) -> 0 | G19: =IF(ISERROR('DA5'!$D$77),"0",'DA5'!$D$77) -> 0 | H19: =IF(ISERROR('DA6'!$D$77),"0",'DA6'!$D$77) -> 0 | I19: =IF(ISERROR('DA7'!$D$77),"0",'DA7'!$D$77) -> 0 | J19: =IF(ISERROR('DA8'!$D$77),"0",'DA8'!$D$77) -> 0 | K19: =IF(ISERROR('DA9'!$D$77),"0",'DA9'!$D$77) -> 0 | L19: =IF(ISERROR('DA10'!$D$77),"0",'DA10'!$D$77) -> 0 | M19: to hide
B20: Site Acreage = | C20: =IF(ISERROR('DA1'!$H$10),"0",'DA1'!$H$10) | D20: =IF(ISERROR('DA2'!$H$10),"0",'DA2'!$H$10) | E20: =IF(ISERROR('DA3'!$H$10),"0",'DA3'!$H$10) | F20: =IF(ISERROR('DA4'!$H$10),"0",'DA4'!$H$10) -> 0 | G20: =IF(ISERROR('DA5'!$H$10),"0",'DA5'!$H$10) -> 0 | H20: =IF(ISERROR('DA6'!$H$10),"0",'DA6'!$H$10) -> 0 | I20: =IF(ISERROR('DA7'!$H$10),"0",'DA7'!$H$10) -> 0 | J20: =IF(ISERROR('DA8'!$H$10),"0",'DA8'!$H$10) -> 0 | K20: =IF(ISERROR('DA9'!$H$10),"0",'DA9'!$H$10) -> 0 | L20: =IF(ISERROR('DA10'!$H$10),"0",'DA10'!$H$10) -> 0 | M20: to hide
B21: Runoff (in)=Q1-year = | C21: =IF(ISERROR('DA1'!$H$82),"",'DA1'!$H$82) | D21: =IF(ISERROR('DA2'!$H$82),"",'DA2'!$H$82) | E21: =IF(ISERROR('DA3'!$H$82),"",'DA3'!$H$82) | F21: =IF(ISERROR('DA4'!$H$82),"",'DA4'!$H$82) | G21: =IF(ISERROR('DA5'!$H$82),"",'DA5'!$H$82) | H21: =IF(ISERROR('DA6'!$H$82),"",'DA6'!$H$82) | I21: =IF(ISERROR('DA7'!$H$82),"",'DA7'!$H$82) | J21: =IF(ISERROR('DA8'!$H$82),"",'DA8'!$H$82) | K21: =IF(ISERROR('DA9'!$H$82),"",'DA9'!$H$82) | L21: =IF(ISERROR('DA10'!$H$82),"",'DA10'!$H$82)
B22: Peak Flow (cfs)=Q1-year = | C22: =IF(ISERROR('DA1'!$H$85),"",'DA1'!$H$85) | D22: =IF(ISERROR('DA2'!$H$85),"",'DA2'!$H$85) | E22: =IF(ISERROR('DA3'!$H$85),"",'DA3'!$H$85) | F22: =IF(ISERROR('DA4'!$H$85),"",'DA4'!$H$85) | G22: =IF(ISERROR('DA5'!$H$85),"",'DA5'!$H$85) | H22: =IF(ISERROR('DA6'!$H$85),"",'DA6'!$H$85) | I22: =IF(ISERROR('DA7'!$H$85),"",'DA7'!$H$85) | J22: =IF(ISERROR('DA8'!$H$85),"",'DA8'!$H$85) | K22: =IF(ISERROR('DA9'!$H$85),"",'DA9'!$H$85) | L22: =IF(ISERROR('DA10'!$H$85),"",'DA10'!$H$85)
B23: Increase in volume per DA (ft3)_1-yr storm= | C23: =IF(ISERROR('DA1'!$D$84),"",'DA1'!$D$84) | D23: =IF(ISERROR('DA2'!$D$84),"",'DA2'!$D$84) | E23: =IF(ISERROR('DA3'!$D$84),"",'DA3'!$D$84) | F23: =IF(ISERROR('DA4'!$D$84),"",'DA4'!$D$84) | G23: =IF(ISERROR('DA5'!$D$84),"",'DA5'!$D$84) | H23: =IF(ISERROR('DA6'!$D$84),"",'DA6'!$D$84) | I23: =IF(ISERROR('DA7'!$D$84),"",'DA7'!$D$84) | J23: =IF(ISERROR('DA8'!$D$84),"",'DA8'!$D$84) | K23: =IF(ISERROR('DA9'!$D$84),"",'DA9'!$D$84) | L23: =IF(ISERROR('DA10'!$D$84),"",'DA10'!$D$84)
B24: Minimum Volume to be Managed for DA HIGH DENSITY REQUIREMENT = (ft3) = | C24: =IF($G$35="High",('DA1'!$D$80),"NA") -> #DIV/0! | D24: =IF($G$35="High",('DA2'!$D$80),"NA") -> #DIV/0! | E24: =IF($G$35="High",('DA3'!$D$80),"NA") -> #DIV/0! | F24: =IF($G$35="High",('DA4'!$D$80),"NA") -> #DIV/0! | G24: =IF($G$35="High",('DA5'!$D$80),"NA") -> #DIV/0! | H24: =IF($G$35="High",('DA6'!$D$80),"NA") -> #DIV/0! | I24: =IF($G$35="High",('DA7'!$D$80),"NA") -> #DIV/0! | J24: =IF($G$35="High",('DA8'!$D$80),"NA") -> #DIV/0! | K24: =IF($G$35="High",('DA9'!$D$80),"NA") -> #DIV/0! | L24: =IF($G$35="High",('DA10'!$D$80),"NA") -> #DIV/0!
B25: TARGET CURVE NUMBER (TCN)
B26: Site Data
B27: SITE \SOIL COMPOSITION
B28: HYDROLOGIC SOIL GROUP | F28: Site Area | H28: % | J28: Target CN
B29: A | F29: =SUM('DA1:DA10'!$H$17:$H$26) -> 0 | H29: =IF(ISERROR(F29/$G$33),"",(F29/$G$33)) | J29: =IF($G$35="Ultra-Low",$E$95,IF($G$35="Low",$E$96,IF($G$35="High","N/A"))) -> #DIV/0! | M29: See Maximum Curve Number after Development
B30: B | F30: =SUM('DA1:DA10'!$I$17:$I$26) -> 0 | H30: =IF(ISERROR(F30/$G$33),"",(F30/$G$33)) | J30: =IF($G$35="Ultra-Low",$G$95,IF($G$35="Low",$G$96,IF($G$35="High","N/A"))) -> #DIV/0!
B31: C | F31: =SUM('DA1:DA10'!$J$17:$J$26) -> 0 | H31: =IF(ISERROR(F31/$G$33),"",(F31/$G$33)) | J31: =IF($G$35="Ultra-Low",$I$95,IF($G$35="Low",$I$96,IF($G$35="High","N/A"))) -> #DIV/0!
B32: D | F32: =SUM('DA1:DA10'!$K$17:$K$26) -> 0 | H32: =IF(ISERROR(F32/$G$33),"",(F32/$G$33)) | J32: =IF($G$35="Ultra-Low",$K$95,IF($G$35="Low",$K$96,IF($G$35="High","N/A"))) -> #DIV/0! | M32: =IF(SUM(F29:G32)>'SITE DATA'!F17,"DOES NOT MATCH SITE DATA INPUT","")
B33: Total Site Area (acres) = | G33: =SUM(F29:G32) -> 0 | M33: =IF($G$33>'SITE DATA'!F17,"DOES NOT MATCH, MODIFY SITE DATA SHEET","")
B34: Percent BUA (Includes Existing Lakes/Pond Areas) = | G34: =ROUND((SUM(C17:L17))/(G33+SUM(C18:L18)),2) -> #DIV/0! | M34: =IF($G$34>'SITE DATA'!F22,"DOES NOT MATCH, MODIFY SITE DATA SHEET","") -> #DIV/0!
B35: Project Density = | G35: =IF($G$34<=15%,"Ultra-Low",IF($G$34>=24%,"High","Low")) -> #DIV/0!
B36: Target Curve Number (TCN) = | G36: =IF($G$35="High","N/A",ROUND(($H$29*$J$29)+($H$30*$J$30)+($H$31*$J$31)+($H$32*$J$32),0)) -> #DIV/0! | M36: =IF(G36="N/A","Project is High Density, TCN Not Applicable","") -> #DIV/0!
B37: Qtarget (in) = | G37: =IF(ISERROR($C$80),"",($C$80)) | M37: See SCS Runoff Method
B38: Pre-Development CN = | G38: =ROUND((C12*C13+D12*D13+E12*E13+F12*F13+G12*G13+H12*H13+I12*I13+J12*J13+K12*K13+L12*L13)/$G$33,0) -> #VALUE!
B39: CNadjusted (1-year)= | G39: =ROUND((C19*C20+D19*D20+E19*E20+F19*F20+G19*G20+H19*H20+I19*I20+J19*J20+K19*K20+L19*L20)/G33,0) -> #VALUE!
B40: Minimum Volume to be Managed (Total Site) Per TCN Requirement= ft3 = | G40: =IF($G$39>$G$36,(($C$86-$C$80)/12)*$G$33*43560,"N/A") -> #VALUE! | H40: =IF(H39>H36,((H38-H37)/12)*H34*43560,"No Peak Flow Requirements") -> No Peak Flow Requirements | I40: =IF(I39>I36,((I38-I37)/12)*I34*43560,"No Peak Flow Requirements") -> No Peak Flow Requirements | J40: =IF(J39>J36,((J38-J37)/12)*J34*43560,"No Peak Flow Requirements") -> No Peak Flow Requirements | K40: =IF(K39>K36,((K38-K37)/12)*K34*43560,"No Peak Flow Requirements") -> No Peak Flow Requirements | L40: =IF(L39>L36,((L38-L37)/12)*L34*43560,"No Peak Flow Requirements") -> No Peak Flow Requirements | M40: =IF(G40="N/A","Project is High Density, TCN Not Applicable","") -> #VALUE!
B41: Site Nitrogen Loading Data
B42: HSG | D42: TN export coefficient (lbs/ac/yr) | G42: Site Acreage | J42: N Export
B43: Pasture | D43: 1.2 | G43: =SUM('DA1:DA10'!H17:K17) -> 0 | J43: =D43*G43 -> 0
B44: Woods, Poor Condition | D44: 1.6 | G44: =SUM('DA1:DA10'!H18:K18) -> 0 | J44: =D44*G44 -> 0
...

Sheet DA1_BMPs
B1: Project Name: | F1: ='SITE DATA'!F9 -> 0
B3: DRAINAGE AREA 1
B4: BMP CALCULATIONS
B8: DRAINAGE AREA 1 - BMP DEVICES AND ADJUSTMENTS | N8: LINKS/COMMENTS
B9: DA1 Site Acreage= | C9: ='DA1'!H10
B10: DA1 Off-Site Acreage= | C10: ='DA1'!H9-'DA1'!H10 -> #VALUE!
B11: Total Required Storage Volume for Site TCN Requirement (ft3)= | C11: ='SITE SUMMARY'!G40 -> #VALUE! | N11: Storage Volume required based on project density classification.
B12: Total Required Storage Volume for DA1 1" Rainfall for High Density (ft3)= | C12: =IF('SITE SUMMARY'!G35="High",('DA1'!$D$80),0) -> #DIV/0! | D12: =IF($G$36="High",('DA1'!$D$80),"NA") -> NA | E12: =IF($G$36="High",('DA1'!$D$80),"NA") -> NA | F12: =IF($G$36="High",('DA1'!$D$80),"NA") -> NA | G12: =IF($G$36="High",('DA1'!$D$80),"NA") -> NA | H12: =IF($G$36="High",('DA1'!$D$80),"NA") -> NA | I12: =IF($G$36="High",('DA1'!$D$80),"NA") -> NA | J12: =IF($G$36="High",('DA1'!$D$80),"NA") -> NA | K12: =IF($G$36="High",('DA1'!$D$80),"NA") -> NA | ... M12: =IF($G$36="High",('DA1'!$D$80),"NA") -> NA
B13: Will site use underground detention/cistern? | C13: No | D13: Enter % of the year water will be reused= | G13: 0 | J13: Note: Supporting information/details should be submitted to demonstrate water usage. | N13: For cisterns, engineer shall input drainage area used for reuse in Sub-DA1(a) prior to entering further BMPs. Use of a cistern reduces total volume required for storage as well total nitrogen load. To receive total reduction, engineer must show year-round use of reclaimed water. Volume not reused may be treated by downstream BMP in another sub-DA.
B14: ENTER ACREAGE FOR ALL SUB-DRAINAGE AREAS IN DA
B15: HSG | D15: Sub-DA1(a) (Ac) | F15: Sub-DA1(b) (Ac) | H15: Sub-DA1(c) (Ac) | J15: Sub-DA1(d) (Ac) | L15: Sub-DA1(e) (Ac) | N15: Notes: DA is divided into sub-DAs to account for BMP watersheds and for remaining areas not managed by a BMP. BMPs in a series should be within the same sub-DA. Generally, subbasin data should be entered with the upstream subbasin completed first. Likewise, BMPs should be entered with the upstream BMP listed first (BMPs in a series assume constant storage volume).
D16: Site | E16: Off-site | F16: Site | G16: Off-site | H16: Site | I16: Off-site | J16: Site | K16: Off-site | L16: Site | M16: Off-site
B17: Pasture
B18: Woods, Poor Condition
B19: Woods, Fair Condition
B20: Woods, Good Condition
B21: Open Space, Poor Condition
B22: Open Space, Fair Condition
B23: Open Space, Good Condition
B24: Reforestation (in dedicated OS)
B25: Impervious | N25: =IF(SUM( D17:D25,F17:F25,H17:H25,J17:J25,L17:L25)=C9,"","DOES NOT MATCH SITE ACREAGES") -> DOES NOT MATCH SITE ACREAGES
B26: Total Acreage - To Hide | D26: =SUM(D17:D25) -> 0 | E26: =SUM(E17:E25) -> 0 | F26: =SUM(F17:F25) -> 0 | G26: =SUM(G17:G25) -> 0 | H26: =SUM(H17:H25) -> 0 | I26: =SUM(I17:I25) -> 0 | J26: =SUM(J17:J25) -> 0 | K26: =SUM(K17:K25) -> 0 | ... M26: =SUM(M17:M25) -> 0
B27: Sub-DA1(a) BMP(s)
B28: Device Name (As Shown on Plan) | C28: Device Type | D28: Water Quality Volume for Sub-DA (ft3) | G28: Provided Volume that will drawdown 2-5 days (ft3) | J28: Nitrogen Removal Efficiency | K28: Sub-DA Nitrogen (lbs) | L28: Nitrogen Removed (lbs) | M28: Drawdown Time (hours) | N28: Note: High density projects must use BMPs with 85% TSS removal (Bioretention, Stormwater Wetland, Wet Detention Pond, Sand Filter, and/or Infiltration Device).
D29: =IF('SITE SUMMARY'!$G$35="High",E151,"-") -> #DIV/0! | J29: =IF(ISERROR(VLOOKUP(C29,BMP,2,FALSE)),0,VLOOKUP(C29,BMP,2,FALSE)) -> 0 | K29: =IF(ISERROR($E$114),0,$E$114) -> 0 | L29: =IF(ISERROR(K29*J29),0,K29*J29) -> 0
J30: =IF(ISERROR(VLOOKUP(C30,BMP,2,FALSE)),0,VLOOKUP(C30,BMP,2,FALSE)) -> 0 | K30: =IF(ISERROR(K29-L29),0,K29-L29) -> 0 | L30: =IF(ISERROR(K30*J30),0,K30*J30) -> 0
J31: =IF(ISERROR(VLOOKUP(C31,BMP,2,FALSE)),0,VLOOKUP(C31,BMP,2,FALSE)) -> 0 | K31: =IF(ISERROR(K30-L30),0,K30-L30) -> 0 | L31: =IF(ISERROR(K31*J31),0,K31*J31) -> 0
J32: =IF(ISERROR(VLOOKUP(C32,BMP,2,FALSE)),0,VLOOKUP(C32,BMP,2,FALSE)) -> 0 | K32: =IF(ISERROR(K31-L31),0,K31-L31) -> 0 | L32: =IF(ISERROR(K32*J32),0,K32*J32) -> 0
J33: =IF(ISERROR(VLOOKUP(C33,BMP,2,FALSE)),0,VLOOKUP(C33,BMP,2,FALSE)) -> 0 | K33: =IF(ISERROR(K32-L32),0,K32-L32) -> 0 | L33: =IF(ISERROR(K33*J33),0,K33*J33) -> 0
B34: Total Nitrogen remaining leaving the subbasin (lbs): | D34: =IF(J33>0,K306-L33,IF(J32>0,K32-L32,IF(J31>0,K31-L31,IF(J30>0,K30-L30,K29-L29)))) -> 0
B35: Sub-DA1(b) BMP(s)
B36: If Sub-DA1(b) is connected to upstream subbasin(s), enter the nitrogen leaving the most upstream subbasin(lbs):
B37: If Sub-DA1(b) is connected to upstream subbasin(s), enter the volume leaving the upstream subbasin not previously treated (ft3):
B38: Device Name (As Shown on Plan) | C38: Device Type | D38: Water Quality Volume for Sub-DA (ft3) | G38: Provided Volume that will drawdown 2-5 days (ft3) | J38: Nitrogen Removal Efficiency | K38: Sub-DA Nitrogen (lbs) | L38: Nitrogen Removed (lbs) | M38: Drawdown Time (hours)
D39: =IF('SITE SUMMARY'!$G$35="High",E155,"-") -> #DIV/0! | J39: =IF(ISERROR(VLOOKUP(C39,BMP,2,FALSE)),0,VLOOKUP(C39,BMP,2,FALSE)) -> 0 | K39: =IF(ISERROR($F$114),D36,$F$114+D36) -> 0 | L39: =IF(ISERROR(K39*J39),0,K39*J39) -> 0
J40: =IF(ISERROR(VLOOKUP(C40,BMP,2,FALSE)),0,VLOOKUP(C40,BMP,2,FALSE)) -> 0 | K40: =IF(ISERROR(K39-L39),0,K39-L39) -> 0 | L40: =IF(ISERROR(K40*J40),0,K40*J40) -> 0
J41: =IF(ISERROR(VLOOKUP(C41,BMP,2,FALSE)),0,VLOOKUP(C41,BMP,2,FALSE)) -> 0 | K41: =IF(ISERROR(K40-L40),0,K40-L40) -> 0 | L41: =IF(ISERROR(K41*J41),0,K41*J41) -> 0
J42: =IF(ISERROR(VLOOKUP(C42,BMP,2,FALSE)),0,VLOOKUP(C42,BMP,2,FALSE)) -> 0 | K42: =IF(ISERROR(K41-L41),0,K41-L41) -> 0 | L42: =IF(ISERROR(K42*J42),0,K42*J42) -> 0
J43: =IF(ISERROR(VLOOKUP(C43,BMP,2,FALSE)),0,VLOOKUP(C43,BMP,2,FALSE)) -> 0 | K43: =IF(ISERROR(K42-L42),0,K42-L42) -> 0 | L43: =IF(ISERROR(K43*J43),0,K43*J43) -> 0
B44: Total Nitrogen remaining leaving the subbasin (lbs): | D44: =IF(J43>0,K43-L43,IF(J42>0,K42-L42,IF(J41>0,K41-L41,IF(J40>0,K40-L40,K39-L39)))) -> 0
...

Sheet DA2_BMPs
B1: Project Name: | F1: ='SITE DATA'!F9 -> 0
B3: DRAINAGE AREA 2
B4: BMP CALCULATIONS
B8: DRAINAGE AREA 1 - BMP DEVICES AND ADJUSTMENTS | N8: LINKS/COMMENTS
B9: DA2 Site Acreage= | C9: ='DA2'!H10
B10: DA2 Off-Site Acreage= | C10: ='DA2'!H9-'DA2'!H10 -> #VALUE!
B11: Total Required Storage Volume TCN Requirement (ft3)= | C11: ='SITE SUMMARY'!G40 -> #VALUE! | N11: Storage Volume required based on project density classification.
B12: Total Required Storage Volume for DA2 1" Rainfall for High Density (ft3)= | C12: =IF('SITE SUMMARY'!G35="High",('DA2'!$D$80),0) -> #DIV/0! | D12: =IF($G$36="High",('DA1'!$D$80),"NA") -> NA | E12: =IF($G$36="High",('DA1'!$D$80),"NA") -> NA | F12: =IF($G$36="High",('DA1'!$D$80),"NA") -> NA | G12: =IF($G$36="High",('DA1'!$D$80),"NA") -> NA | H12: =IF($G$36="High",('DA1'!$D$80),"NA") -> NA | I12: =IF($G$36="High",('DA1'!$D$80),"NA") -> NA | J12: =IF($G$36="High",('DA1'!$D$80),"NA") -> NA | K12: =IF($G$36="High",('DA1'!$D$80),"NA") -> NA | ... M12: =IF($G$36="High",('DA1'!$D$80),"NA") -> NA
B13: Will site use underground detention/cistern? | C13: No | D13: Enter % of the year water will be reused= | G13: 0 | J13: Note: Supporting information/details should be submitted to demonstrate water usage. | N13: For cisterns, engineer shall input drainage area used for reuse in Sub-DA2(a) prior to entering further BMPs. Use of a cistern reduces total volume required for storage as well total nitrogen load. To receive total reduction, engineer must show year-round use of reclaimed water. Volume not reused may be treated by downstream BMP in another sub-DA.
B14: ENTER ACREAGE FOR ALL SUB-DRAINAGE AREAS IN DA
B15: HSG | D15: Sub-DA2(a) (Ac) | F15: Sub-DA2(b) (Ac) | H15: Sub-DA2(c) (Ac) | J15: Sub-DA2(d) (Ac) | L15: Sub-DA2(e) (Ac) | N15: Notes: DA is divided into sub-DAs to account for BMP watersheds and for remaining areas not managed by a BMP. BMPs in a series should be within the same sub-DA. Generally, subbasin data should be entered with the upstream subbasin completed first. Likewise, BMPs should be entered with the upstream BMP listed first (BMPs in a series assume constant storage volume).
D16: Site | E16: Off-site | F16: Site | G16: Off-site | H16: Site | I16: Off-site | J16: Site | K16: Off-site | L16: Site | M16: Off-site
B17: Pasture
B18: Woods, Poor Condition
B19: Woods, Fair Condition
B20: Woods, Good Condition
B21: Open Space, Poor Condition
B22: Open Space, Fair Condition
B23: Open Space, Good Condition
B24: Reforestation (in dedicated OS)
B25: Impervious | N25: =IF(SUM( D17:D25,F17:F25,H17:H25,J17:J25,L17:L25)=C9,"","DOES NOT MATCH SITE ACREAGES") -> DOES NOT MATCH SITE ACREAGES
B26: Total Acreage - To Hide | D26: =SUM(D17:D25) -> 0 | E26: =SUM(E17:E25) -> 0 | F26: =SUM(F17:F25) -> 0 | G26: =SUM(G17:G25) -> 0 | H26: =SUM(H17:H25) -> 0 | I26: =SUM(I17:I25) -> 0 | J26: =SUM(J17:J25) -> 0 | K26: =SUM(K17:K25) -> 0 | ... M26: =SUM(M17:M25) -> 0
B27: Sub-DA1(a) BMP(s)
B28: Device Name (As Shown on Plan) | C28: Device Type | D28: Water Quality Volume for Sub-DA (ft3) | G28: Provided Volume that will drawdown 2-5 days (ft3) | J28: Nitrogen Removal Efficiency | K28: Sub-DA Nitrogen (lbs) | L28: Nitrogen Removed (lbs) | M28: Drawdown Time (hours) | N28: Note: High density projects must use BMPs with 85% TSS removal (Bioretention, Stormwater Wetland, Wet Detention Pond, Sand Filter, and/or Infiltration Device).
D29: =IF('SITE SUMMARY'!$G$35="High",E151,"-") -> #DIV/0! | J29: =IF(ISERROR(VLOOKUP(C29,BMP,2,FALSE)),0,VLOOKUP(C29,BMP,2,FALSE)) -> 0 | K29: =IF(ISERROR($E$114),0,$E$114) -> 0 | L29: =IF(ISERROR(K29*J29),0,K29*J29) -> 0
J30: =IF(ISERROR(VLOOKUP(C30,BMP,2,FALSE)),0,VLOOKUP(C30,BMP,2,FALSE)) -> 0 | K30: =IF(ISERROR(K29-L29),0,K29-L29) -> 0 | L30: =IF(ISERROR(K30*J30),0,K30*J30) -> 0
J31: =IF(ISERROR(VLOOKUP(C31,BMP,2,FALSE)),0,VLOOKUP(C31,BMP,2,FALSE)) -> 0 | K31: =IF(ISERROR(K30-L30),0,K30-L30) -> 0 | L31: =IF(ISERROR(K31*J31),0,K31*J31) -> 0
J32: =IF(ISERROR(VLOOKUP(C32,BMP,2,FALSE)),0,VLOOKUP(C32,BMP,2,FALSE)) -> 0 | K32: =IF(ISERROR(K31-L31),0,K31-L31) -> 0 | L32: =IF(ISERROR(K32*J32),0,K32*J32) -> 0
J33: =IF(ISERROR(VLOOKUP(C33,BMP,2,FALSE)),0,VLOOKUP(C33,BMP,2,FALSE)) -> 0 | K33: =IF(ISERROR(K32-L32),0,K32-L32) -> 0 | L33: =IF(ISERROR(K33*J33),0,K33*J33) -> 0
B34: Total Nitrogen remaining leaving the subbasin (lbs): | D34: =IF(J33>0,K306-L33,IF(J32>0,K32-L32,IF(J31>0,K31-L31,IF(J30>0,K30-L30,K29-L29)))) -> 0
B35: Sub-DA1(b) BMP(s)
B36: If Sub-DA1(b) is connected to upstream subbasin(s), enter the nitrogen leaving the most upstream subbasin(lbs):
B37: If Sub-DA1(b) is connected to upstream subbasin(s), enter the volume leaving the upstream subbasin not previously treated (ft3):
B38: Device Name (As Shown on Plan) | C38: Device Type | D38: Water Quality Volume for Sub-DA (ft3) | G38: Provided Volume that will drawdown 2-5 days (ft3) | J38: Nitrogen Removal Efficiency | K38: Sub-DA Nitrogen (lbs) | L38: Nitrogen Removed (lbs) | M38: Drawdown Time (hours)
D39: =IF('SITE SUMMARY'!$G$35="High",E155,"-") -> #DIV/0! | J39: =IF(ISERROR(VLOOKUP(C39,BMP,2,FALSE)),0,VLOOKUP(C39,BMP,2,FALSE)) -> 0 | K39: =IF(ISERROR($F$114),D36,$F$114+D36) -> 0 | L39: =IF(ISERROR(K39*J39),0,K39*J39) -> 0
J40: =IF(ISERROR(VLOOKUP(C40,BMP,2,FALSE)),0,VLOOKUP(C40,BMP,2,FALSE)) -> 0 | K40: =IF(ISERROR(K39-L39),0,K39-L39) -> 0 | L40: =IF(ISERROR(K40*J40),0,K40*J40) -> 0
J41: =IF(ISERROR(VLOOKUP(C41,BMP,2,FALSE)),0,VLOOKUP(C41,BMP,2,FALSE)) -> 0 | K41: =IF(ISERROR(K40-L40),0,K40-L40) -> 0 | L41: =IF(ISERROR(K41*J41),0,K41*J41) -> 0
J42: =IF(ISERROR(VLOOKUP(C42,BMP,2,FALSE)),0,VLOOKUP(C42,BMP,2,FALSE)) -> 0 | K42: =IF(ISERROR(K41-L41),0,K41-L41) -> 0 | L42: =IF(ISERROR(K42*J42),0,K42*J42) -> 0
J43: =IF(ISERROR(VLOOKUP(C43,BMP,2,FALSE)),0,VLOOKUP(C43,BMP,2,FALSE)) -> 0 | K43: =IF(ISERROR(K42-L42),0,K42-L42) -> 0 | L43: =IF(ISERROR(K43*J43),0,K43*J43) -> 0
B44: Total Nitrogen remaining leaving the subbasin (lbs): | D44: =IF(J43>0,K43-L43,IF(J42>0,K42-L42,IF(J41>0,K41-L41,IF(J40>0,K40-L40,K39-L39)))) -> 0
...

Sheet DA3_BMPs
B1: Project Name: | F1: ='SITE DATA'!F9 -> 0
B3: DRAINAGE AREA 3
B4: BMP CALCULATIONS
B8: DRAINAGE AREA 1 - BMP DEVICES AND ADJUSTMENTS | N8: LINKS/COMMENTS
B9: DA3 Site Acreage= | C9: ='DA3'!H10
B10: DA3 Off-Site Acreage= | C10: ='DA3'!H9-'DA3'!H10 -> #VALUE!
B11: Total Required Storage Volume TCN Requirement (ft3)= | C11: ='SITE SUMMARY'!G40 -> #VALUE! | N11: Storage Volume required based on project density classification.
B12: Total Required Storage Volume for DA3 1" Rainfall for High Density (ft3)= | C12: =IF('SITE SUMMARY'!G35="High",('DA3'!$D$80),0) -> #DIV/0! | D12: =IF($G$36="High",('DA1'!$D$80),"NA") -> NA | E12: =IF($G$36="High",('DA1'!$D$80),"NA") -> NA | F12: =IF($G$36="High",('DA1'!$D$80),"NA") -> NA | G12: =IF($G$36="High",('DA1'!$D$80),"NA") -> NA | H12: =IF($G$36="High",('DA1'!$D$80),"NA") -> NA | I12: =IF($G$36="High",('DA1'!$D$80),"NA") -> NA | J12: =IF($G$36="High",('DA1'!$D$80),"NA") -> NA | K12: =IF($G$36="High",('DA1'!$D$80),"NA") -> NA | ... M12: =IF($G$36="High",('DA1'!$D$80),"NA") -> NA
B13: Will site use underground detention/cistern? | C13: No | D13: Enter % of the year water will be reused= | G13: 0 | J13: Note: Supporting information/details should be submitted to demonstrate water usage. | N13: For cisterns, engineer shall input drainage area used for reuse in Sub-DA3(a) prior to entering further BMPs. Use of a cistern reduces total volume required for storage as well total nitrogen load. To receive total reduction, engineer must show year-round use of reclaimed water. Volume not reused may be treated by downstream BMP in another sub-DA.
B14: ENTER ACREAGE FOR ALL SUB-DRAINAGE AREAS IN DA
B15: HSG | D15: Sub-DA3(a) (Ac) | F15: Sub-DA3(b) (Ac) | H15: Sub-DA3(c) (Ac) | J15: Sub-DA3(d) (Ac) | L15: Sub-DA3(e) (Ac) | N15: Notes: DA is divided into sub-DAs to account for BMP watersheds and for remaining areas not managed by a BMP. BMPs in a series should be within the same sub-DA. Generally, subbasin data should be entered with the upstream subbasin completed first. Likewise, BMPs should be entered with the upstream BMP listed first (BMPs in a series assume constant storage volume).
D16: Site | E16: Off-site | F16: Site | G16: Off-site | H16: Site | I16: Off-site | J16: Site | K16: Off-site | L16: Site | M16: Off-site
B17: Pasture
B18: Woods, Poor Condition
B19: Woods, Fair Condition
B20: Woods, Good Condition
B21: Open Space, Poor Condition
B22: Open Space, Fair Condition
B23: Open Space, Good Condition
B24: Reforestation (in dedicated OS)
B25: Impervious | N25: =IF(SUM( D17:D25,F17:F25,H17:H25,J17:J25,L17:L25)=C9,"","DOES NOT MATCH SITE ACREAGES") -> DOES NOT MATCH SITE ACREAGES
B26: Total Acreage - To Hide | D26: =SUM(D17:D25) -> 0 | E26: =SUM(E17:E25) -> 0 | F26: =SUM(F17:F25) -> 0 | G26: =SUM(G17:G25) -> 0 | H26: =SUM(H17:H25) -> 0 | I26: =SUM(I17:I25) -> 0 | J26: =SUM(J17:J25) -> 0 | K26: =SUM(K17:K25) -> 0 | ... M26: =SUM(M17:M25) -> 0
B27: Sub-DA1(a) BMP(s)
B28: Device Name (As Shown on Plan) | C28: Device Type | D28: Water Quality Volume for Sub-DA (ft3) | G28: Provided Volume that will drawdown 2-5 days (ft3) | J28: Nitrogen Removal Efficiency | K28: Sub-DA Nitrogen (lbs) | L28: Nitrogen Removed (lbs) | M28: Drawdown Time (hours) | N28: Note: High density projects must use BMPs with 85% TSS removal (Bioretention, Stormwater Wetland, Wet Detention Pond, Sand Filter, and/or Infiltration Device).
D29: =IF('SITE SUMMARY'!$G$35="High",E151,"-") -> #DIV/0! | J29: =IF(ISERROR(VLOOKUP(C29,BMP,2,FALSE)),0,VLOOKUP(C29,BMP,2,FALSE)) -> 0 | K29: =IF(ISERROR($E$114),0,$E$114) -> 0 | L29: =IF(ISERROR(K29*J29),0,K29*J29) -> 0
J30: =IF(ISERROR(VLOOKUP(C30,BMP,2,FALSE)),0,VLOOKUP(C30,BMP,2,FALSE)) -> 0 | K30: =IF(ISERROR(K29-L29),0,K29-L29) -> 0 | L30: =IF(ISERROR(K30*J30),0,K30*J30) -> 0
