Workbook
Name BIORETENTION: DA10_BMPs!$B$122
Name BIORETENTION: DA2_BMPs!$B$122
Name BIORETENTION: DA3_BMPs!$B$122
Name BIORETENTION: DA4_BMPs!$B$122
Name BIORETENTION: DA5_BMPs!$B$122
Name BIORETENTION: DA6_BMPs!$B$122
Name BIORETENTION: DA7_BMPs!$B$122
Name BIORETENTION: DA8_BMPs!$B$122
Name BIORETENTION: DA9_BMPs!$B$122
Name BIORETENTION: DA1_BMPs!$B$122
Name BMP: DA10_BMPs!$B$121:$C$134
Name BMP: DA2_BMPs!$B$121:$C$134
Name BMP: DA3_BMPs!$B$121:$C$134
Name BMP: DA4_BMPs!$B$121:$C$134
Name BMP: DA5_BMPs!$B$121:$C$134
Name BMP: DA6_BMPs!$B$121:$C$134
Name BMP: DA7_BMPs!$B$121:$C$134
Name BMP: DA8_BMPs!$B$121:$C$134
Name BMP: DA9_BMPs!$B$121:$C$134
Name BMP: DA1_BMPs!$B$121:$C$134
Name CHANNEL: 'CALCULATIONS and TABLES'!$I$103:$N$121
Name Cistern: DA10_BMPs!$L$105:$L$106
Name Cistern: DA2_BMPs!$L$105:$L$106
Name Cistern: DA3_BMPs!$L$105:$L$106
Name Cistern: DA4_BMPs!$L$105:$L$106
Name Cistern: DA5_BMPs!$L$105:$L$106
Name Cistern: DA6_BMPs!$L$105:$L$106
Name Cistern: DA7_BMPs!$L$105:$L$106
Name Cistern: DA8_BMPs!$L$105:$L$106
Name Cistern: DA9_BMPs!$L$105:$L$106
Name Cistern: DA1_BMPs!$L$105:$L$106
Name CN: DA10_BMPs!$H$120:$I$181
Name CN: DA2_BMPs!$H$120:$I$181
Name CN: DA3_BMPs!$H$120:$I$181
Name CN: DA4_BMPs!$H$120:$I$181
Name CN: DA5_BMPs!$H$120:$I$181
Name CN: DA6_BMPs!$H$120:$I$181
Name CN: DA7_BMPs!$H$120:$I$181
Name CN: DA8_BMPs!$H$120:$I$181
Name CN: DA9_BMPs!$H$120:$I$181
Name CN: DA1_BMPs!$H$120:$I$181
Name CN10YR: DA10_BMPs!$L$120:$M$181
Name CN10YR: DA2_BMPs!$L$120:$M$181
Name CN10YR: DA3_BMPs!$L$120:$M$181
Name CN10YR: DA4_BMPs!$L$120:$M$181
Name CN10YR: DA5_BMPs!$L$120:$M$181
Name CN10YR: DA6_BMPs!$L$120:$M$181
Name CN10YR: DA7_BMPs!$L$120:$M$181
Name CN10YR: DA8_BMPs!$L$120:$M$181
Name CN10YR: DA9_BMPs!$L$120:$M$181
Name CN10YR: DA1_BMPs!$L$120:$M$181
Name CN2YR: DA10_BMPs!$J$120:$K$181
Name CN2YR: DA2_BMPs!$J$120:$K$181
Name CN2YR: DA3_BMPs!$J$120:$K$181
Name CN2YR: DA4_BMPs!$J$120:$K$181
Name CN2YR: DA5_BMPs!$J$120:$K$181
Name CN2YR: DA6_BMPs!$J$120:$K$181
Name CN2YR: DA7_BMPs!$J$120:$K$181
Name CN2YR: DA8_BMPs!$J$120:$K$181
Name CN2YR: DA9_BMPs!$J$120:$K$181

Sheet Version Changes
A1: High Density volume to be the greater of the Simple Method and Discrete Method
A2: Nitrogen volume error removed
A3: Nitrogen loading error corrected in hidden cells
A4: Modified Water Quality volume on BMP sheets to be the runoff from the 1" of rain -confirmed with Bradley Bennett (6.21.11) that runoff, not 1" of runoff to be used
A5: Various changes to notes and cell titles for clarification
A6: Added Cistern to BMPs with N and volume reduction
A7: Based on Bradley Bennett conversation, simple or discrete should be used unless project is LID (low and ultra still use SCS, will run scenarios to see if still comparable)
A8: Various formatting of cells, hid some cells with unused information to simplify (Ex: Qtarget)
A9: Allowed Users to Select Locked cells
A11: Version 5 Changes | B11: 42803
A12: Tc on DA Sheets | C12: made Engineer override possible, removed 5 min autopopulation and changed calc note to "Note: Minimal 5 minute Tc"
A13: TOTAL SITE NITROGEN TO MITIGATE (lbs/yr) specified target for Wendell Only
A14: Remove BMP DA autopopulation and associated notes
A15: Site Summary
A16: Wendell: - Requires on-site mitigation down to 3.6 lbs/yr unless LID classification is achieved Rolesville: - Projects that are required to provide Stormwater Control Measures (SCMs) shall provide nitrogen loading reduction Zebulon: - Projects shall provide nitrogen loading reduction onsite. | C16: Added notes to Site Summary and to BMP summary to clarify N requirements

Sheet TOOL DIRECTIONS
C1: Towns of Rolesville, Wendell and Zebulon Stormwater Tool Directions
C3: The Wake County Municipal Stormwater Tool is required for all stormwater submittals in Rolesville Wendell, and Zebulon. Engineer will input all data requested that is highlighted in blue. Engineer may follow provided links to view calculations used in this tool. Calculations for peak flow, runoff, time of concentration, etc. are for individual drainage areas. Engineer should complete a worksheet for each drainage area within a project limit.
C5: 1 | D5: Complete SITE DATA worksheet. SITE DATA worksheet should be submitted with preliminary plan submittals and modified and submitted for construction plan submittals.
D6: The 2-yr, 24-hr rainfall input will be used for projects requesting LID classification further into the tool. The 10-year, 24-hour rainfall input will be used for potential Downstream Impact Analyses (DIA).
D7: Stormwater Narrative should describe the site conditions in pre- and post-development conditions including a description of site improvements and proposed stormwater BMPs.
C8: 2 | D8: Complete DA worksheets. Most of the site data is inputted by the engineer on the DA worksheets. DA worksheets are designed essentially to account for Ultra-Low, Low, and High Density project requirements per Ordinance standards.
D9: DA Worksheets will calculate runoff, time of concentration, peak flow, and volume to be managed per drainage area. Inputs will also be used to calculate the site composite curve numbers for pre and post development, Target Curve Number (TCN), and total nitrogen loading (TN) calculations.
D10: This sheet will also calculate required volume management for the 1st inch rainfall for high density projects. 1st inch of runoff should be handled by each DA BMP for High Density projects.
D11: Disconnected Impervious - This area will be used to provide an adjusted post development composite curve number (CNadjusted) to allow a credit for the use of disconnected impervious. Site plans should clearly indicate areas of disconnected impervious.
C12: 3 | D12: SITE SUMMARY worksheet summarizes the pre and post runoff, Tc, and peak flow per drainage area based on inputs from DA worksheets. This worksheet denotes the volume required for management per drainage area based on high density requirements.
D13: TCN and composite curve numbers for pre and post development are also calculated and summarized. If the TCN is exceeded, this worksheet will calculate total volume to be managed for the entire site based on TCN requirements.
D14: Nitrogen Loading: Nitrogen Loading Rate for the site is calculated based on the Hydrologic Soil Groups and site acreages imputed on DA worksheets. This worksheet calculates the total amount of nitrogen loading. Nitrogen total will be used on following BMP worksheets.
D15: Note: There are no engineer inputs on this sheet and all exeedances from DA worksheets will be flagged in red.
C16: 4 | D16: DA BMP worksheets require engineer to input proposed BMP information. BMPs are categorized by sub-basins within the drainage area. Engineer should input BMP device name, type, and volume provided. BMP requirements are automatically imported from previous inputs.
D17: Engineer should input land uses by sub-basin. Off-site drainage to the sub-basin may also be inputted to allow credit for nitrogen removal (if said drainage is routed through the BMP).
D18: BMPs are required in each DA where post-development peak flow is higher than pre-development peak flow. Only under special circumstances will a BMP not be required. In these cases, the engineer must show the following: 1. Total runoff volume for the DA must be less than 10% of the entire site runoff. 2. TN must be handled for the site elsewhere. 3. Runoff must not leave the DA at an erosive velocity. 4. Proposed design must comply with all state and federal regulations.
D19: DA BMP worksheets will ensure that proposed BMPs meet requirements for peak flow, TCN, and for Nitrogen. Engineer must input post-BMP discharge.
D20: Note: Engineers are required to input post BMP peak flow for the 1-year, 2-year, and 10-year storms for each DA. The SW Design Tool uses the TR-55 method. The TR-55 method is preferred for post BMP calculations. If engineer uses a method/model other than TR-55 for the post-BMP peak discharge and runoff, engineer must also provide pre-development calculations from the method/model (in addition to the SW Design Tool) and pre-development calculations must be within 10% of results computed by the SW Design Tool). A summary sheet should be attached with the submittal to for all inputs used in design.
C21: 5 | D21: BMP SUMMARY worksheet summarizes the pre and post BMP runoff, and peak flow per drainage area based on inputs from DA BMP worksheets.
D22: Nitrogen Loading: Nitrogen mitigated for the site is calculated based on the inputs on DA BMP worksheets. This worksheet calculates the total amount of nitrogen left to be mitigated for the site (Wendell only). Site expansions use the aportioning method.
D23: Note: There are no engineer inputs on this sheet and all exeedances from DA BMP worksheets will be flagged in red.
C24: 6 | D24: LID worksheet summarizes the pre and post runoff, Tc, and peak flow per drainage area for the 2-year, 24-hour storm based on inputs from DA and BMP worksheets. This worksheet will determine if design calculations provided meet LID classification.
D25: Engineers may wish to modify site design or mitigate with additional BMPs to meet LID Requirements. In that case, DA and BMP worksheets should be modified to meet these requirements and the LID sheet will be updated automatically.
D26: If calculation requirements for LID are met, Engineer should complete the LID CHECKLIST on LID worksheet and provide associated documentation to determine if project meets ALL LID requirements.
C27: 7 | D27: Downstream Impact Analysis DIA worksheet presents requirements for a downstream impact analysis. Based on engineer inputs, this sheet will report if a DIA is required for the project based on the 10-year storm discharge leaving each discharge point. This stormwater tool does NOT complete the actual downstream impact analyses.
D28: A DIA shall be performed at the outlet(s) of the site, and downstream at each tributary junction to the point(s) in the conveyance system where the area of the portion of the site draining into the system is less than or equal to 10 percent of the total drainage area above that point. The outflow hydrograph at these points is to be determined for the pre-development condition. Then, the outflow hydrograph at each of these points is to be determined for the conditions after the site in question has been developed. All hydrographs and inputs should be provided with plan submittal.

Sheet SITE DATA
B1: SITE DATA
B8: Project Information
B9: Project Name:
B10: Applicant:
B11: Applicant Contact Name:
B12: Applicant Contact Number:
B13: Contact Email:
B14: Municipal Jurisdiction (Select from dropdown menu):
B15: Last Updated:
B16: Site Data:
B17: Total Site Area (Ac):
B18: Existing Lake/Pond Area (Ac):
... B21: Type of Development (Select from Dropdown menu):
B22: Percent Built Upon Area (BUA): | F22: =ROUND(F20/F17,2) -> #VALUE!
B23: Project Density: | F23: =IF($F$22<=15%,"Ultra-Low",IF($F$22>=24%,"High","Low")) -> #VALUE!
B24: Is the proposed project a site expansion?
B25: Number of Drainage Areas on Site:
B26: NOAA | C26: 1-Year, 24-Hour Storm (inches) (See NOAA Website): | N26: =IF(AND(F26>0,F26<2.84),"VALUE IS TOO LOW!","")
C27: 2-Year, 24-Hour Storm (inches) (See NOAA Website): | N27: =IF(AND(F27>0,F27<3.42),"VALUE IS TOO LOW!","")
C28: 10-Year, 24-Hour Storm (inches) (See NOAA Website): | N28: =IF(AND(F28>0,F28<4.96),"VALUE IS TOO LOW!","")
B29: Lot Data (if applicable):
B30: Total Acreage in Lots:
B31: Number of Lots:
B32: Average Lot Size (SF):
B33: Total Impervious Surface Area on Lots (SF):
B34: Average Impervious Surface Area Per Lot (SF):
B35: Stormwater Narrative (limit to 1,200 characters - attach additional pages with submittal if necessary):
B36: Sidney Creek is a proposed subdivision in Zebulon, Wake County of NC HWY 39 and Chamblee Road on where Wake County is adjacent to Johnston County. The existing site is an undveloped combination of forrest and farm land. This is Phase One of a multiple phase +/- 650 lot development with three stormwater control measures, water, sewer, and other required utilities. For more detail see the Stormwater Calculations book.
B73: TO HIDE
C74: TYPE | D74: y/n
C75: Residential | D75: Yes
C76: Non-Residential | D76: No
C79: JURISDICTION
C80: Wendell
C81: Rolesville
C82: Zebulon

Sheet DA1
B1: Project Name: | E1: ='SITE DATA'!F9 -> 0
B3: DRAINAGE AREA 1
B4: STORMWATER PRE-POST CALCULATIONS
B8: LAND USE & SITE DATA | D8: PRE-DEVELOPMENT | H8: POST-DEVELOPMENT | L8: LINKS/COMMENTS
B9: Drainage Area (Acres)= | L9: Note: Includes offsite drainage
B10: Site Acreage within Drainage=
B11: One-year, 24-hour rainfall (in)= | D11: ='SITE DATA'!$F$26 -> 0
B12: Two-year, 24-hour rainfall (in)= | D12: ='SITE DATA'!$F$27 -> 0 | L12: From Site Data
B13: Ten-year, 24-hour storm (in)= | D13: ='SITE DATA'!$F$28 -> 0
B14: Total Lake/Pond Area (Acres)=
B15: Lake/Pond Area not in the Tc flow path (Acres)=
B16: Site Land Use (acres): | D16: A | E16: B | F16: C | G16: D | H16: A | I16: B | J16: C | K16: D | L16: See Weighted Curve Number
B17: Pasture
B18: Woods, Poor Condition
B19: Woods, Fair Condition
B20: Woods, Good Condition
B21: Open Space, Poor Condition
B22: Open Space, Fair condition
B23: Open Space, Good Condition
B24: Reforestation (in dedicated OS)
B25: Connected Impervious
B26: Disconnected Impervious | L26: =IF(OR(SUM($H$17:$K$26)>$H$10,SUM($H$17:$K$26)<$H$10),"LAND USE MUST MATCH SITE ACREAGE","") -> LAND USE MUST MATCH SITE ACREAGE
B27: SITE FLOW | D27: PRE-DEVELOPMENT Tc | H27: POST-DEVELOPMENT Tc
B28: Sheet Flow
B29: Length (ft)=
B30: Slope (ft/ft)= | L30: See Sheet Flow Calculations
B31: Surface Cover:
B32: n-value= | D32: =IF(D31=$B$143,$G$143,IF(D31=$B$144,$G$144,IF(D31=$B$145,$G$145,""))) | H32: =IF(H31=$B$143,$G$143,IF(H31=$B$144,$G$144,IF(H31=$B$145,$G$145,"")))
B33: Tt (hrs)= | D33: =IF(D29>0,(0.007*(D32*D29)^0.8)/(($D$11^0.5)*(D30^0.4)),0) -> #VALUE! | H33: =IF(H29>0,(0.007*(H32*H29)^0.8)/(($D$11^0.5)*(H30^0.4)),0) -> #VALUE!
B34: Shallow Flow
B35: Length (ft)=
B36: Slope (ft/ft)=
B37: Surface Cover:
B38: Average Velocity (ft/sec)= | D38: =IF(D37="Unpaved",16.1345*D36^0.5,IF(D37="Paved",20.32828*D36^0.5,0)) -> 0 | H38: =IF(H37="Unpaved",16.1345*H36^0.5,IF(H37="Paved",20.32828*H36^0.5,0)) -> 0 | L38: See Shallow Flow Calculations
B39: Tt (hrs)= | D39: =IF(D38>0,D35/(3600*D38),0) -> 0 | H39: =IF(H38>0,H35/(3600*H38),0) -> 0
B40: Channel Flow 1
B41: Length (ft)=
B42: Slope (ft/ft)=
B43: Cross Sectional Flow Area (ft2)=
B44: Wetted Perimeter (ft)=
B45: Channel Lining:
B46: n-value= | D46: =IF(D45="Asphalt",$G$151,IF(D45="Concrete, finished",$G$152,IF(D45="Concrete, unfinished",$G$153,IF(D45="Grass",$G$154,IF(D45="Gravel Bottom/riprap sides",$G$155,IF(D45="Weeds",$G$156,"")))))) | H46: =IF(H45="Asphalt",$G$151,IF(H45="Concrete, finished",$G$152,IF(H45="Concrete, unfinished",$G$153,IF(H45="Grass",$G$154,IF(H45="Gravel Bottom/riprap sides",$G$155,IF(H45="Weeds",$G$156,"")))))) | L46: See Open Channel Flow
B47: Hydraulic Radius (ft)= | D47: =IF(ISERROR(D43/D44),0,D43/D44) -> 0 | H47: =IF(ISERROR(H43/H44),0,H43/H44) -> 0
B48: Average Velocity (ft/sec)= | D48: =IF(D44>0,(1.49*(D47^(2/3))*(D42^0.5))/D46,0) -> #VALUE! | H48: =IF(H44>0,(1.49*(H47^(2/3))*(H42^0.5))/H46,0) -> #VALUE!
B49: Tt (hrs)= | D49: =IF(D44>0,D41/(3600*D48),0) -> #VALUE! | H49: =IF(H44>0,H41/(3600*H48),0) -> #VALUE!
B50: Channel Flow 2
B51: Length (ft)=
B52: Slope (ft/ft)=
B53: Cross Sectional Flow Area (ft2)=
B54: Wetted Perimeter (ft)=
B55: Channel Lining:
B56: n-value= | D56: =IF(D55="Asphalt",$G$151,IF(D55="Concrete, finished",$G$152,IF(D55="Concrete, unfinished",$G$153,IF(D55="Grass",$G$154,IF(D55="Gravel Bottom/riprap sides",$G$155,IF(D55="Weeds",$G$156,"")))))) | H56: =IF(H55="Asphalt",$G$151,IF(H55="Concrete, finished",$G$152,IF(H55="Concrete, unfinished",$G$153,IF(H55="Grass",$G$154,IF(H55="Gravel Bottom/riprap sides",$G$155,IF(H55="Weeds",$G$156,"")))))) | L56: See Open Channel Flow
B57: Hydraulic Radius (ft)= | D57: =IF(ISERROR(D53/D54),0,D53/D54) -> 0 | H57: =IF(ISERROR(H53/H54),0,H53/H54) -> 0
B58: Average Velocity (ft/sec)= | D58: =IF(D54>0,(1.49*(D57^(2/3))*(D52^0.5))/D56,0) -> #VALUE! | H58: =IF(H54>0,(1.49*(H57^(2/3))*(H52^0.5))/H56,0) -> #VALUE!
B59: Tt (hrs)= | D59: =IF(D54>0,D51/(3600*D58),0) -> #VALUE! | H59: =IF(H54>0,H51/(3600*H58),0) -> #VALUE!
B60: Channel Flow 3
B61: Length (ft)=
B62: Slope (ft/ft)=
B63: Cross Sectional Flow Area (ft2)=
B64: Wetted Perimeter (ft)=
B65: Channel Lining:
B66: n-value= | D66: =IF(D65="Asphalt",$G$151,IF(D65="Concrete, finished",$G$152,IF(D65="Concrete, unfinished",$G$153,IF(D65="Grass",$G$154,IF(D65="Gravel Bottom/riprap sides",$G$155,IF(D65="Weeds",$G$156,"")))))) | H66: =IF(H65="Asphalt",$G$151,IF(H65="Concrete, finished",$G$152,IF(H65="Concrete, unfinished",$G$153,IF(H65="Grass",$G$154,IF(H65="Gravel Bottom/riprap sides",$G$155,IF(H65="Weeds",$G$156,"")))))) | L66: See Open Channel Flow
B67: Hydraulic Radius (ft)= | D67: =IF(ISERROR(D63/D64),0,D63/D64) -> 0 | H67: =IF(ISERROR(H63/H64),0,H63/H64) -> 0
B68: Average Velocity (ft/sec)= | D68: =IF(D64>0,(1.49*(D67^(2/3))*(D62^0.5))/D66,0) -> 0 | H68: =IF(H64>0,(1.49*(H67^(2/3))*(H62^0.5))/H66,0) -> #VALUE!
B69: Tt (hrs)= | D69: =IF(D64>0,D61/(3600*D68),0) -> 0 | H69: =IF(H64>0,H61/(3600*H68),0) -> #VALUE!
B70: Tc (hrs)= | D70: =D69+D59+D49+D39+D33 -> #VALUE! | H70: =H69+H59+H49+H39+H33 -> #VALUE! | L70: See Tc
B71: RESULTS | D71: PRE-DEVELOPMENT | H71: POST-DEVELOPMENT
B72: Ia value = | D72: =C122*0.2 -> #VALUE! | H72: =C130*0.2 -> #VALUE!
B73: Ia /P= | D73: =D72/$D$11 -> #VALUE! | H73: =H72/$D$11 -> #VALUE!
B74: Composite Curve Number= | D74: =$G$109 -> #VALUE! | H74: =$H$109 -> #VALUE! | L74: See Weighted Curve Number
B75: Disconnected Impervious Adjustment
B76: Disconnected impervious area (acre) = | D76: =SUM($H$26:$K$26) -> 0 | L76: See Disconnected Impervious Calculation
B77: CNadjusted (1-year)= | D77: =IF(D76>0,$C$188,H74) -> #VALUE!
B78: High Density Only
B79: Runoff (inches) = Q*High= | D79: =IF(ISERROR(C170),"",(C170)) -> 0 | L79: See Discrete Runoff Method
B80: Volume of runoff from 1" rainfall for DA HIGH DENSITY REQUIREMENT = (ft3) = | D80: =IF(ISERROR($K$175),"",($K$175)) | L80: See Discrete Runoff Method
B81: 1-year, 24-hour storm (Peak Flow)
B82: Runoff (inches) = Q*1-year= | D82: =IF(D72>'SITE DATA'!$F$26,0,C123) -> #VALUE! | H82: =IF(H72>'SITE DATA'!$F$26,0,C131) -> #VALUE! | L82: See SCS Runoff Method
B83: Volume of runoff (ft3) = | D83: =ROUND(IF(ISERROR((D82/12)*(D10*43560)),"",((D82/12)*(D10*43560))),0) -> #VALUE! | H83: =ROUND(IF(ISERROR((H82/12)*(H10*43560)),0,((H82/12)*(H10*43560))),0) -> 0
B84: Volume change (ft3) = | D84: =IF(ISERROR(H83-D83),"",(H83-D83))
B85: Peak Discharge (cfs)= Q1-year= | D85: =H127 -> #VALUE! | H85: =H135 -> #VALUE! | L85: See Peak Flow Calculations
B86: 2-year, 24-hour storm (LID)
B87: Runoff (inches) = Q*2-year= | D87: =IF($D$72>'SITE DATA'!$F$27,0,C124) -> #VALUE! | H87: =IF($H$72>'SITE DATA'!$F$27,0,C132) -> #VALUE! | L87: See SCS Runoff Method
B88: Volume of runoff (ft3) = | D88: =(D87/12)*($D$10*43560) -> #VALUE! | H88: =(H87/12)*(H10*43560) -> #VALUE!
B89: Peak Discharge (cfs)= Q2-year= | D89: =H128 -> #VALUE! | H89: =H136 -> #VALUE! | L89: See Peak Flow Calculations
B90: 10-year, 24-hour storm (DIA)
B91: Runoff (inches) = Q*10-year= | D91: =IF($D$72>'SITE DATA'!F28,0,C125) -> #VALUE! | H91: =IF($H$72>'SITE DATA'!F28,0,C133) -> #VALUE! | L91: See SCS Runoff Method
B92: Volume of runoff (ft3) = | D92: =(D91/12)*($D$10*43560) -> #VALUE! | H92: =(H91/12)*($D$10*43560) -> #VALUE!
B93: Peak Discharge (cfs)= Q10-year= | D93: =H129 -> #VALUE! | H93: =H137 -> #VALUE!
D94: =IF($H$93>$D$93,"Post-development peak flow exceeds pre-development peak flow for this DA!","") -> #VALUE!
B96: TO BE HIDDEN
B98: WEIGHTED CURVE NUMBER
B99: LAND USE | C99: A | D99: B | E99: C | F99: D | G99: pre_ALL HSG | H99: post_ALL HSG | I99: Post_ High Density Only
B100: Pasture | C100: 39 | D100: 61 | E100: 74 | F100: 80 | G100: =(C100*D17)+(D100*E17)+(E100*F17)+(F100*G17) -> #VALUE! | H100: =($C$100*$H$17)+($D$100*$I$17)+($E$100*$J$17)+($F$100*$K$17) -> #VALUE! | I100: =($C$100*$H$17)+($D$100*$I$17)+($E$100*$J$17)+($F$100*$K$17) -> #VALUE!
B101: Woods, Poor Condition1 | C101: 45 | D101: 66 | E101: 77 | F101: 83 | G101: =(C101*D18)+(D101*E18)+(E101*F18)+(F101*G18) -> 0 | H101: =($C$101*$H$18)+($D$101*$I$18)+($E$101*$J$18)+($F$101*$K$18) -> 0 | I101: =($C$101*$H$18)+($D$101*$I$18)+($E$101*$J$18)+($F$101*$K$18) -> 0
B102: Woods, Fair Condition2 | C102: 36 | D102: 60 | E102: 73 | F102: 79 | G102: =(C102*D19)+(D102*E19)+(E102*F19)+(F102*G19) -> 0 | H102: =($C$102*$H$19)+($D$102*$I$19)+($E$102*$J$19)+($F$102*$K$19) -> 0 | I102: =($C$102*$H$19)+($D$102*$I$19)+($E$102*$J$19)+($F$102*$K$19) -> 0
B103: Woods, Good Condition3 | C103: 30 | D103: 55 | E103: 70 | F103: 77 | G103: =(C103*D20)+(D103*E20)+(E103*F20)+(F103*G20) -> #VALUE! | H103: =($C$103*$H$20)+($D$103*$I$20)+($E$103*$J$20)+($F$103*$K$20) -> #VALUE! | I103: =($C$103*$H$20)+($D$103*$I$20)+($E$103*$J$20)+($F$103*$K$20) -> #VALUE!
B104: Open Space, Poor Condition4 | C104: 68 | D104: 79 | E104: 86 | F104: 89 | G104: =(C104*D21)+(D104*E21)+(E104*F21)+(F104*G21) -> 0 | H104: =($C$104*$H$21)+($D$104*$I$21)+($E$104*$J$21)+($F$104*$K$21) -> 0 | I104: =($C$104*$H$21)+($D$104*$I$21)+($E$104*$J$21)+($F$104*$K$21) -> 0
B105: Open Space, Fair Condition5 | C105: 49 | D105: 69 | E105: 79 | F105: 84 | G105: =(C105*D22)+(D105*E22)+(E105*F22)+(F105*G22) -> 0 | H105: =($C$105*$H$22)+($D$105*$I$22)+($E$105*$J$22)+($F$105*$K$22) -> 0 | I105: =($C$105*$H$22)+($D$105*$I$22)+($E$105*$J$22)+($F$105*$K$22) -> 0
B106: Open Space, Good Condition6 | C106: 39 | D106: 61 | E106: 74 | F106: 80 | G106: =(C106*D23)+(D106*E23)+(E106*F23)+(F106*G23) -> 0 | H106: =($C$106*$H$23)+($D$106*$I$23)+($E$106*$J$23)+($F$106*$K$23) -> #VALUE! | I106: =($C$106*$H$23)+($D$106*$I$23)+($E$106*$J$23)+($F$106*$K$23) -> #VALUE!
...

Sheet DA2
B1: Project Name: | E1: ='SITE DATA'!F9 -> 0
B3: DRAINAGE AREA 2
B4: STORMWATER PRE-POST CALCULATIONS
B8: LAND USE & SITE DATA | D8: PRE-DEVELOPMENT | H8: POST-DEVELOPMENT | L8: LINKS/COMMENTS
B9: Drainage Area (Acres)= | L9: Note: Includes offsite drainage
B10: Site Acreage within Drainage=
B11: One-year, 24-hour rainfall (in)= | D11: ='SITE DATA'!$F$26 -> 0
B12: Two-year, 24-hour rainfall (in)= | D12: ='SITE DATA'!$F$27 -> 0 | L12: From Site Data
B13: Ten-year, 24-hour storm (in)= | D13: ='SITE DATA'!$F$28 -> 0
B14: Total Lake/Pond Area (Acres)=
B15: Lake/Pond Area not in the Tc flow path (Acres)=
B16: Site Land Use (acres): | D16: A | E16: B | F16: C | G16: D | H16: A | I16: B | J16: C | K16: D | L16: See Weighted Curve Number
B17: Pasture
B18: Woods, Poor Condition
B19: Woods, Fair Condition
B20: Woods, Good Condition
B21: Open Space, Poor Condition
B22: Open Space, Fair condition
B23: Open Space, Good Condition
B24: Reforestation (in dedicated OS)
B25: Connected Impervious
B26: Disconnected Impervious | L26: =IF(OR(SUM($H$17:$K$26)>$H$10,SUM($H$17:$K$26)<$H$10),"LAND USE MUST MATCH SITE ACREAGE","") -> LAND USE MUST MATCH SITE ACREAGE
B27: SITE FLOW | D27: PRE-DEVELOPMENT Tc | H27: POST-DEVELOPMENT Tc
B28: Sheet Flow
B29: Length (ft)=
B30: Slope (ft/ft)= | L30: See Sheet Flow Calculations
B31: Surface Cover:
B32: n-value= | D32: =IF(D31=$B$143,$G$143,IF(D31=$B$144,$G$144,IF(D31=$B$145,$G$145,""))) | H32: =IF(H31=$B$143,$G$143,IF(H31=$B$144,$G$144,IF(H31=$B$145,$G$145,"")))
B33: Tt (hrs)= | D33: =IF(D29>0,(0.007*(D32*D29)^0.8)/(($D$11^0.5)*(D30^0.4)),0) -> #VALUE! | H33: =IF(H29>0,(0.007*(H32*H29)^0.8)/(($D$11^0.5)*(H30^0.4)),0) -> #VALUE!
B34: Shallow Flow
B35: Length (ft)=
B36: Slope (ft/ft)=
B37: Surface Cover:
B38: Average Velocity (ft/sec)= | D38: =IF(D37="Unpaved",16.1345*D36^0.5,IF(D37="Paved",20.32828*D36^0.5,0)) -> 0 | H38: =IF(H37="Unpaved",16.1345*H36^0.5,IF(H37="Paved",20.32828*H36^0.5,0)) -> 0 | L38: See Shallow Flow Calculations
B39: Tt (hrs)= | D39: =IF(D38>0,D35/(3600*D38),0) -> 0 | H39: =IF(H38>0,H35/(3600*H38),0) -> 0
B40: Channel Flow 1
B41: Length (ft)=
B42: Slope (ft/ft)=
B43: Cross Sectional Flow Area (ft2)=
B44: Wetted Perimeter (ft)=
B45: Channel Lining:
B46: n-value= | D46: =IF(D45="Asphalt",$G$151,IF(D45="Concrete, finished",$G$152,IF(D45="Concrete, unfinished",$G$153,IF(D45="Grass",$G$154,IF(D45="Gravel Bottom/riprap sides",$G$155,IF(D45="Weeds",$G$156,"")))))) | H46: =IF(H45="Asphalt",$G$151,IF(H45="Concrete, finished",$G$152,IF(H45="Concrete, unfinished",$G$153,IF(H45="Grass",$G$154,IF(H45="Gravel Bottom/riprap sides",$G$155,IF(H45="Weeds",$G$156,"")))))) | L46: See Open Channel Flow
B47: Hydraulic Radius (ft)= | D47: =IF(ISERROR(D43/D44),0,D43/D44) -> 0 | H47: =IF(ISERROR(H43/H44),0,H43/H44) -> 0
B48: Average Velocity (ft/sec)= | D48: =IF(D44>0,(1.49*(D47^(2/3))*(D42^0.5))/D46,0) -> 0 | H48: =IF(H44>0,(1.49*(H47^(2/3))*(H42^0.5))/H46,0) -> 0
B49: Tt (hrs)= | D49: =IF(D44>0,D41/(3600*D48),0) -> 0 | H49: =IF(H44>0,H41/(3600*H48),0) -> 0
B50: Channel Flow 2
B51: Length (ft)=
B52: Slope (ft/ft)=
B53: Cross Sectional Flow Area (ft2)=
B54: Wetted Perimeter (ft)=
B55: Channel Lining:
B56: n-value= | D56: =IF(D55="Asphalt",$G$151,IF(D55="Concrete, finished",$G$152,IF(D55="Concrete, unfinished",$G$153,IF(D55="Grass",$G$154,IF(D55="Gravel Bottom/riprap sides",$G$155,IF(D55="Weeds",$G$156,"")))))) | H56: =IF(H55="Asphalt",$G$151,IF(H55="Concrete, finished",$G$152,IF(H55="Concrete, unfinished",$G$153,IF(H55="Grass",$G$154,IF(H55="Gravel Bottom/riprap sides",$G$155,IF(H55="Weeds",$G$156,"")))))) | L56: See Open Channel Flow
B57: Hydraulic Radius (ft)= | D57: =IF(ISERROR(D53/D54),0,D53/D54) -> 0 | H57: =IF(ISERROR(H53/H54),0,H53/H54) -> 0
B58: Average Velocity (ft/sec)= | D58: =IF(D54>0,(1.49*(D57^(2/3))*(D52^0.5))/D56,0) -> 0 | H58: =IF(H54>0,(1.49*(H57^(2/3))*(H52^0.5))/H56,0) -> 0
B59: Tt (hrs)= | D59: =IF(D54>0,D51/(3600*D58),0) -> 0 | H59: =IF(H54>0,H51/(3600*H58),0) -> 0
B60: Channel Flow 3
B61: Length (ft)=
B62: Slope (ft/ft)=
B63: Cross Sectional Flow Area (ft2)=
B64: Wetted Perimeter (ft)=
B65: Channel Lining:
B66: n-value= | D66: =IF(D65="Asphalt",$G$151,IF(D65="Concrete, finished",$G$152,IF(D65="Concrete, unfinished",$G$153,IF(D65="Grass",$G$154,IF(D65="Gravel Bottom/riprap sides",$G$155,IF(D65="Weeds",$G$156,"")))))) | H66: =IF(H65="Asphalt",$G$151,IF(H65="Concrete, finished",$G$152,IF(H65="Concrete, unfinished",$G$153,IF(H65="Grass",$G$154,IF(H65="Gravel Bottom/riprap sides",$G$155,IF(H65="Weeds",$G$156,"")))))) | L66: See Open Channel Flow
B67: Hydraulic Radius (ft)= | D67: =IF(ISERROR(D63/D64),0,D63/D64) -> 0 | H67: =IF(ISERROR(H63/H64),0,H63/H64) -> 0
B68: Average Velocity (ft/sec)= | D68: =IF(D64>0,(1.49*(D67^(2/3))*(D62^0.5))/D66,0) -> 0 | H68: =IF(H64>0,(1.49*(H67^(2/3))*(H62^0.5))/H66,0) -> 0
B69: Tt (hrs)= | D69: =IF(D64>0,D61/(3600*D68),0) -> 0 | H69: =IF(H64>0,H61/(3600*H68),0) -> 0
B70: Tc (hrs)= | D70: =D69+D59+D49+D39+D33 -> #VALUE! | H70: =H69+H59+H49+H39+H33 -> #VALUE! | L70: See Tc
B71: RESULTS | D71: PRE-DEVELOPMENT | H71: POST-DEVELOPMENT
B72: Ia value = | D72: =C122*0.2 -> #VALUE! | H72: =C130*0.2 -> #VALUE!
B73: Ia /P= | D73: =D72/$D$11 -> #VALUE! | H73: =H72/$D$11 -> #VALUE!
B74: Composite Curve Number= | D74: =$G$109 -> #VALUE! | H74: =$H$109 -> #VALUE! | L74: See Weighted Curve Number
B75: Disconnected Impervious Adjustment
B76: Disconnected impervious area (acre) = | D76: =SUM($H$26:$K$26) -> 0 | L76: See Disconnected Impervious Calculation
B77: CNadjusted (1-year)= | D77: =IF(D76>0,$C$188,H74) -> #VALUE!
B78: High Density Only
B79: Runoff (inches) = Q*High= | D79: =IF(ISERROR(C170),"",(C170)) -> 0 | L79: See Discrete Runoff Method
B80: Volume of runoff from 1" rainfall for DA HIGH DENSITY REQUIREMENT = (ft3) = | D80: =IF(ISERROR($K$175),"",($K$175)) | L80: See Discrete Runoff Method
B81: 1-year, 24-hour storm (Peak Flow)
B82: Runoff (inches) = Q*1-year= | D82: =IF(D72>'SITE DATA'!$F$26,0,C123) -> #VALUE! | H82: =IF(H72>'SITE DATA'!$F$26,0,C131) -> #VALUE! | L82: See SCS Runoff Method
B83: Volume of runoff (ft3) = | D83: =ROUND(IF(ISERROR((D82/12)*(D10*43560)),"",((D82/12)*(D10*43560))),0) -> #VALUE! | H83: =ROUND(IF(ISERROR((H82/12)*(H10*43560)),0,((H82/12)*(H10*43560))),0) -> 0
B84: Volume change (ft3) = | D84: =IF(ISERROR(H83-D83),"",(H83-D83))
B85: Peak Discharge (cfs)= Q1-year= | D85: =H127 -> #VALUE! | H85: =H135 -> #VALUE! | L85: See Peak Flow Calculations
B86: 2-year, 24-hour storm (LID)
B87: Runoff (inches) = Q*2-year= | D87: =IF($D$72>'SITE DATA'!$F$27,0,C124) -> #VALUE! | H87: =IF($H$72>'SITE DATA'!$F$27,0,C132) -> #VALUE! | L87: See SCS Runoff Method
B88: Volume of runoff (ft3) = | D88: =(D87/12)*($D$10*43560) -> #VALUE! | H88: =(H87/12)*(H10*43560) -> #VALUE!
B89: Peak Discharge (cfs)= Q2-year= | D89: =H128 -> #VALUE! | H89: =H136 -> #VALUE! | L89: See Peak Flow Calculations
B90: 10-year, 24-hour storm (DIA)
B91: Runoff (inches) = Q*10-year= | D91: =IF($D$72>'SITE DATA'!F28,0,C125) -> #VALUE! | H91: =IF($H$72>'SITE DATA'!F28,0,C133) -> #VALUE! | L91: See SCS Runoff Method
B92: Volume of runoff (ft3) = | D92: =(D91/12)*($D$10*43560) -> #VALUE! | H92: =(H91/12)*($D$10*43560) -> #VALUE!
B93: Peak Discharge (cfs)= Q10-year= | D93: =H129 -> #VALUE! | H93: =H137 -> #VALUE!
D94: =IF($H$93>$D$93,"Post-development peak flow exceeds pre-development peak flow for this DA!","") -> #VALUE!
B96: TO BE HIDDEN
B98: WEIGHTED CURVE NUMBER
B99: LAND USE | C99: A | D99: B | E99: C | F99: D | G99: pre_ALL HSG | H99: post_ALL HSG | I99: Post_ High Density Only
B100: Pasture | C100: 39 | D100: 61 | E100: 74 | F100: 80 | G100: =(C100*D17)+(D100*E17)+(E100*F17)+(F100*G17) -> #VALUE! | H100: =($C$100*$H$17)+($D$100*$I$17)+($E$100*$J$17)+($F$100*$K$17) -> #VALUE! | I100: =($C$100*$H$17)+($D$100*$I$17)+($E$100*$J$17)+($F$100*$K$17) -> #VALUE!
B101: Woods, Poor Condition1 | C101: 45 | D101: 66 | E101: 77 | F101: 83 | G101: =(C101*D18)+(D101*E18)+(E101*F18)+(F101*G18) -> 0 | H101: =($C$101*$H$18)+($D$101*$I$18)+($E$101*$J$18)+($F$101*$K$18) -> 0 | I101: =($C$101*$H$18)+($D$101*$I$18)+($E$101*$J$18)+($F$101*$K$18) -> 0
B102: Woods, Fair Condition2 | C102: 36 | D102: 60 | E102: 73 | F102: 79 | G102: =(C102*D19)+(D102*E19)+(E102*F19)+(F102*G19) -> 0 | H102: =($C$102*$H$19)+($D$102*$I$19)+($E$102*$J$19)+($F$102*$K$19) -> 0 | I102: =($C$102*$H$19)+($D$102*$I$19)+($E$102*$J$19)+($F$102*$K$19) -> 0
B103: Woods, Good Condition3 | C103: 30 | D103: 55 | E103: 70 | F103: 77 | G103: =(C103*D20)+(D103*E20)+(E103*F20)+(F103*G20) -> 0 | H103: =($C$103*$H$20)+($D$103*$I$20)+($E$103*$J$20)+($F$103*$K$20) -> 0 | I103: =($C$103*$H$20)+($D$103*$I$20)+($E$103*$J$20)+($F$103*$K$20) -> 0
B104: Open Space, Poor Condition4 | C104: 68 | D104: 79 | E104: 86 | F104: 89 | G104: =(C104*D21)+(D104*E21)+(E104*F21)+(F104*G21) -> 0 | H104: =($C$104*$H$21)+($D$104*$I$21)+($E$104*$J$21)+($F$104*$K$21) -> 0 | I104: =($C$104*$H$21)+($D$104*$I$21)+($E$104*$J$21)+($F$104*$K$21) -> 0
B105: Open Space, Fair Condition5 | C105: 49 | D105: 69 | E105: 79 | F105: 84 | G105: =(C105*D22)+(D105*E22)+(E105*F22)+(F105*G22) -> 0 | H105: =($C$105*$H$22)+($D$105*$I$22)+($E$105*$J$22)+($F$105*$K$22) -> 0 | I105: =($C$105*$H$22)+($D$105*$I$22)+($E$105*$J$22)+($F$105*$K$22) -> 0
B106: Open Space, Good Condition6 | C106: 39 | D106: 61 | E106: 74 | F106: 80 | G106: =(C106*D23)+(D106*E23)+(E106*F23)+(F106*G23) -> 0 | H106: =($C$106*$H$23)+($D$106*$I$23)+($E$106*$J$23)+($F$106*$K$23) -> 0 | I106: =($C$106*$H$23)+($D$106*$I$23)+($E$106*$J$23)+($F$106*$K$23) -> 0
...

Sheet DA3
B1: Project Name: | E1: ='SITE DATA'!F9 -> 0
B3: DRAINAGE AREA 3
B4: STORMWATER PRE-POST CALCULATIONS
B8: LAND USE & SITE DATA | D8: PRE-DEVELOPMENT | H8: POST-DEVELOPMENT | L8: LINKS/COMMENTS
B9: Drainage Area (Acres)= | L9: Note: Includes offsite drainage
B10: Site Acreage within Drainage=
B11: One-year, 24-hour rainfall (in)= | D11: ='SITE DATA'!$F$26 -> 0
B12: Two-year, 24-hour rainfall (in)= | D12: ='SITE DATA'!$F$27 -> 0 | L12: From Site Data
B13: Ten-year, 24-hour storm (in)= | D13: ='SITE DATA'!$F$28 -> 0
B14: Total Lake/Pond Area (Acres)=
B15: Lake/Pond Area not in the Tc flow path (Acres)=
B16: Site Land Use (acres): | D16: A | E16: B | F16: C | G16: D | H16: A | I16: B | J16: C | K16: D | L16: See Weighted Curve Number
B17: Pasture
B18: Woods, Poor Condition
B19: Woods, Fair Condition
B20: Woods, Good Condition
B21: Open Space, Poor Condition
B22: Open Space, Fair condition
B23: Open Space, Good Condition
B24: Reforestation (in dedicated OS)
B25: Connected Impervious
B26: Disconnected Impervious | L26: =IF(OR(SUM($H$17:$K$26)>$H$10,SUM($H$17:$K$26)<$H$10),"LAND USE MUST MATCH SITE ACREAGE","") -> LAND USE MUST MATCH SITE ACREAGE
B27: SITE FLOW | D27: PRE-DEVELOPMENT Tc | H27: POST-DEVELOPMENT Tc
B28: Sheet Flow
B29: Length (ft)=
B30: Slope (ft/ft)= | L30: See Sheet Flow Calculations
B31: Surface Cover:
B32: n-value= | D32: =IF(D31=$B$143,$G$143,IF(D31=$B$144,$G$144,IF(D31=$B$145,$G$145,""))) | H32: =IF(H31=$B$143,$G$143,IF(H31=$B$144,$G$144,IF(H31=$B$145,$G$145,"")))
B33: Tt (hrs)= | D33: =IF(D29>0,(0.007*(D32*D29)^0.8)/(($D$11^0.5)*(D30^0.4)),0) -> #VALUE! | H33: =IF(H29>0,(0.007*(H32*H29)^0.8)/(($D$11^0.5)*(H30^0.4)),0) -> #VALUE!
B34: Shallow Flow
B35: Length (ft)=
B36: Slope (ft/ft)=
B37: Surface Cover:
B38: Average Velocity (ft/sec)= | D38: =IF(D37="Unpaved",16.1345*D36^0.5,IF(D37="Paved",20.32828*D36^0.5,0)) -> 0 | H38: =IF(H37="Unpaved",16.1345*H36^0.5,IF(H37="Paved",20.32828*H36^0.5,0)) -> 0 | L38: See Shallow Flow Calculations
B39: Tt (hrs)= | D39: =IF(D38>0,D35/(3600*D38),0) -> 0 | H39: =IF(H38>0,H35/(3600*H38),0) -> 0
B40: Channel Flow 1
B41: Length (ft)=
B42: Slope (ft/ft)=
B43: Cross Sectional Flow Area (ft2)=
B44: Wetted Perimeter (ft)=
B45: Channel Lining:
B46: n-value= | D46: =IF(D45="Asphalt",$G$151,IF(D45="Concrete, finished",$G$152,IF(D45="Concrete, unfinished",$G$153,IF(D45="Grass",$G$154,IF(D45="Gravel Bottom/riprap sides",$G$155,IF(D45="Weeds",$G$156,"")))))) | H46: =IF(H45="Asphalt",$G$151,IF(H45="Concrete, finished",$G$152,IF(H45="Concrete, unfinished",$G$153,IF(H45="Grass",$G$154,IF(H45="Gravel Bottom/riprap sides",$G$155,IF(H45="Weeds",$G$156,"")))))) | L46: See Open Channel Flow
B47: Hydraulic Radius (ft)= | D47: =IF(ISERROR(D43/D44),0,D43/D44) -> 0 | H47: =IF(ISERROR(H43/H44),0,H43/H44) -> 0
B48: Average Velocity (ft/sec)= | D48: =IF(D44>0,(1.49*(D47^(2/3))*(D42^0.5))/D46,0) -> 0 | H48: =IF(H44>0,(1.49*(H47^(2/3))*(H42^0.5))/H46,0) -> 0
B49: Tt (hrs)= | D49: =IF(D44>0,D41/(3600*D48),0) -> 0 | H49: =IF(H44>0,H41/(3600*H48),0) -> 0
B50: Channel Flow 2
B51: Length (ft)=
B52: Slope (ft/ft)=
B53: Cross Sectional Flow Area (ft2)=
B54: Wetted Perimeter (ft)=
B55: Channel Lining:
B56: n-value= | D56: =IF(D55="Asphalt",$G$151,IF(D55="Concrete, finished",$G$152,IF(D55="Concrete, unfinished",$G$153,IF(D55="Grass",$G$154,IF(D55="Gravel Bottom/riprap sides",$G$155,IF(D55="Weeds",$G$156,"")))))) | H56: =IF(H55="Asphalt",$G$151,IF(H55="Concrete, finished",$G$152,IF(H55="Concrete, unfinished",$G$153,IF(H55="Grass",$G$154,IF(H55="Gravel Bottom/riprap sides",$G$155,IF(H55="Weeds",$G$156,"")))))) | L56: See Open Channel Flow
B57: Hydraulic Radius (ft)= | D57: =IF(ISERROR(D53/D54),0,D53/D54) -> 0 | H57: =IF(ISERROR(H53/H54),0,H53/H54) -> 0
B58: Average Velocity (ft/sec)= | D58: =IF(D54>0,(1.49*(D57^(2/3))*(D52^0.5))/D56,0) -> 0 | H58: =IF(H54>0,(1.49*(H57^(2/3))*(H52^0.5))/H56,0) -> 0
B59: Tt (hrs)= | D59: =IF(D54>0,D51/(3600*D58),0) -> 0 | H59: =IF(H54>0,H51/(3600*H58),0) -> 0
B60: Channel Flow 3
B61: Length (ft)=
B62: Slope (ft/ft)=
B63: Cross Sectional Flow Area (ft2)=
B64: Wetted Perimeter (ft)=
B65: Channel Lining:
B66: n-value= | D66: =IF(D65="Asphalt",$G$151,IF(D65="Concrete, finished",$G$152,IF(D65="Concrete, unfinished",$G$153,IF(D65="Grass",$G$154,IF(D65="Gravel Bottom/riprap sides",$G$155,IF(D65="Weeds",$G$156,"")))))) | H66: =IF(H65="Asphalt",$G$151,IF(H65="Concrete, finished",$G$152,IF(H65="Concrete, unfinished",$G$153,IF(H65="Grass",$G$154,IF(H65="Gravel Bottom/riprap sides",$G$155,IF(H65="Weeds",$G$156,"")))))) | L66: See Open Channel Flow
B67: Hydraulic Radius (ft)= | D67: =IF(ISERROR(D63/D64),0,D63/D64) -> 0 | H67: =IF(ISERROR(H63/H64),0,H63/H64) -> 0
B68: Average Velocity (ft/sec)= | D68: =IF(D64>0,(1.49*(D67^(2/3))*(D62^0.5))/D66,0) -> 0 | H68: =IF(H64>0,(1.49*(H67^(2/3))*(H62^0.5))/H66,0) -> 0
B69: Tt (hrs)= | D69: =IF(D64>0,D61/(3600*D68),0) -> 0 | H69: =IF(H64>0,H61/(3600*H68),0) -> 0
B70: Tc (hrs)= | D70: =D69+D59+D49+D39+D33 -> #VALUE! | H70: =H69+H59+H49+H39+H33 -> #VALUE! | L70: See Tc
B71: RESULTS | D71: PRE-DEVELOPMENT | H71: POST-DEVELOPMENT
B72: Ia value = | D72: =C122*0.2 -> #VALUE! | H72: =C130*0.2 -> #VALUE!
B73: Ia /P= | D73: =D72/$D$11 -> #VALUE! | H73: =H72/$D$11 -> #VALUE!
B74: Composite Curve Number= | D74: =$G$109 -> #VALUE! | H74: =$H$109 -> #VALUE! | L74: See Weighted Curve Number
B75: Disconnected Impervious Adjustment
B76: Disconnected impervious area (acre) = | D76: =SUM($H$26:$K$26) -> 0 | L76: See Disconnected Impervious Calculation
B77: CNadjusted (1-year)= | D77: =IF(D76>0,$C$188,H74) -> #VALUE!
B78: High Density Only
B79: Runoff (inches) = Q*High= | D79: =IF(ISERROR(C170),"",(C170)) -> 0 | L79: See Discrete Runoff Method
B80: Volume of runoff from 1" rainfall for DA HIGH DENSITY REQUIREMENT = (ft3) = | D80: =IF(ISERROR($K$175),"",($K$175)) | L80: See Discrete Runoff Method
B81: 1-year, 24-hour storm (Peak Flow)
B82: Runoff (inches) = Q*1-year= | D82: =IF(D72>'SITE DATA'!$F$26,0,C123) -> #VALUE! | H82: =IF(H72>'SITE DATA'!$F$26,0,C131) -> #VALUE! | L82: See SCS Runoff Method
B83: Volume of runoff (ft3) = | D83: =ROUND(IF(ISERROR((D82/12)*(D10*43560)),"",((D82/12)*(D10*43560))),0) -> #VALUE! | H83: =ROUND(IF(ISERROR((H82/12)*(H10*43560)),0,((H82/12)*(H10*43560))),0) -> 0
B84: Volume change (ft3) = | D84: =IF(ISERROR(H83-D83),"",(H83-D83))
B85: Peak Discharge (cfs)= Q1-year= | D85: =H127 -> #VALUE! | H85: =H135 -> #VALUE! | L85: See Peak Flow Calculations
B86: 2-year, 24-hour storm (LID)
B87: Runoff (inches) = Q*2-year= | D87: =IF($D$72>'SITE DATA'!$F$27,0,C124) -> #VALUE! | H87: =IF($H$72>'SITE DATA'!$F$27,0,C132) -> #VALUE! | L87: See SCS Runoff Method
B88: Volume of runoff (ft3) = | D88: =(D87/12)*($D$10*43560) -> #VALUE! | H88: =(H87/12)*(H10*43560) -> #VALUE!
B89: Peak Discharge (cfs)= Q2-year= | D89: =H128 -> #VALUE! | H89: =H136 -> #VALUE! | L89: See Peak Flow Calculations
B90: 10-year, 24-hour storm (DIA)
B91: Runoff (inches) = Q*10-year= | D91: =IF($D$72>'SITE DATA'!F28,0,C125) -> #VALUE! | H91: =IF($H$72>'SITE DATA'!F28,0,C133) -> #VALUE! | L91: See SCS Runoff Method
B92: Volume of runoff (ft3) = | D92: =(D91/12)*($D$10*43560) -> #VALUE! | H92: =(H91/12)*($D$10*43560) -> #VALUE!
B93: Peak Discharge (cfs)= Q10-year= | D93: =H129 -> #VALUE! | H93: =H137 -> #VALUE!
D94: =IF($H$93>$D$93,"Post-development peak flow exceeds pre-development peak flow for this DA!","") -> #VALUE!
B96: TO BE HIDDEN
B98: WEIGHTED CURVE NUMBER
B99: LAND USE | C99: A | D99: B | E99: C | F99: D | G99: pre_ALL HSG | H99: post_ALL HSG | I99: Post_ High Density Only
B100: Pasture | C100: 39 | D100: 61 | E100: 74 | F100: 80 | G100: =(C100*D17)+(D100*E17)+(E100*F17)+(F100*G17) -> #VALUE! | H100: =($C$100*$H$17)+($D$100*$I$17)+($E$100*$J$17)+($F$100*$K$17) -> #VALUE! | I100: =($C$100*$H$17)+($D$100*$I$17)+($E$100*$J$17)+($F$100*$K$17) -> #VALUE!
B101: Woods, Poor Condition1 | C101: 45 | D101: 66 | E101: 77 | F101: 83 | G101: =(C101*D18)+(D101*E18)+(E101*F18)+(F101*G18) -> 0 | H101: =($C$101*$H$18)+($D$101*$I$18)+($E$101*$J$18)+($F$101*$K$18) -> 0 | I101: =($C$101*$H$18)+($D$101*$I$18)+($E$101*$J$18)+($F$101*$K$18) -> 0
B102: Woods, Fair Condition2 | C102: 36 | D102: 60 | E102: 73 | F102: 79 | G102: =(C102*D19)+(D102*E19)+(E102*F19)+(F102*G19) -> 0 | H102: =($C$102*$H$19)+($D$102*$I$19)+($E$102*$J$19)+($F$102*$K$19) -> 0 | I102: =($C$102*$H$19)+($D$102*$I$19)+($E$102*$J$19)+($F$102*$K$19) -> 0
B103: Woods, Good Condition3 | C103: 30 | D103: 55 | E103: 70 | F103: 77 | G103: =(C103*D20)+(D103*E20)+(E103*F20)+(F103*G20) -> #VALUE! | H103: =($C$103*$H$20)+($D$103*$I$20)+($E$103*$J$20)+($F$103*$K$20) -> #VALUE! | I103: =($C$103*$H$20)+($D$103*$I$20)+($E$103*$J$20)+($F$103*$K$20) -> #VALUE!
B104: Open Space, Poor Condition4 | C104: 68 | D104: 79 | E104: 86 | F104: 89 | G104: =(C104*D21)+(D104*E21)+(E104*F21)+(F104*G21) -> 0 | H104: =($C$104*$H$21)+($D$104*$I$21)+($E$104*$J$21)+($F$104*$K$21) -> 0 | I104: =($C$104*$H$21)+($D$104*$I$21)+($E$104*$J$21)+($F$104*$K$21) -> 0
B105: Open Space, Fair Condition5 | C105: 49 | D105: 69 | E105: 79 | F105: 84 | G105: =(C105*D22)+(D105*E22)+(E105*F22)+(F105*G22) -> 0 | H105: =($C$105*$H$22)+($D$105*$I$22)+($E$105*$J$22)+($F$105*$K$22) -> 0 | I105: =($C$105*$H$22)+($D$105*$I$22)+($E$105*$J$22)+($F$105*$K$22) -> 0
B106: Open Space, Good Condition6 | C106: 39 | D106: 61 | E106: 74 | F106: 80 | G106: =(C106*D23)+(D106*E23)+(E106*F23)+(F106*G23) -> 0 | H106: =($C$106*$H$23)+($D$106*$I$23)+($E$106*$J$23)+($F$106*$K$23) -> 0 | I106: =($C$106*$H$23)+($D$106*$I$23)+($E$106*$J$23)+($F$106*$K$23) -> 0
...

Sheet DA4
B1: Project Name: | E1: ='SITE DATA'!F9 -> 0
B3: DRAINAGE AREA 4
B4: STORMWATER PRE-POST CALCULATIONS
B8: LAND USE & SITE DATA | D8: PRE-DEVELOPMENT | H8: POST-DEVELOPMENT | L8: LINKS/COMMENTS
B9: Drainage Area (Acres)= | L9: Note: Includes offsite drainage
B10: Site Acreage within Drainage=
B11: One-year, 24-hour rainfall (in)= | D11: ='SITE DATA'!$F$26 -> 0
B12: Two-year, 24-hour rainfall (in)= | D12: ='SITE DATA'!$F$27 -> 0 | L12: From Site Data
B13: Ten-year, 24-hour storm (in)= | D13: ='SITE DATA'!$F$28 -> 0
B14: Total Lake/Pond Area (Acres)=
B15: Lake/Pond Area not in the Tc flow path (Acres)=
B16: Site Land Use (acres): | D16: A | E16: B | F16: C | G16: D | H16: A | I16: B | J16: C | K16: D | L16: See Weighted Curve Number
B17: Pasture
B18: Woods, Poor Condition
B19: Woods, Fair Condition
B20: Woods, Good Condition
B21: Open Space, Poor Condition
B22: Open Space, Fair condition
B23: Open Space, Good Condition
B24: Reforestation (in dedicated OS)
B25: Connected Impervious
B26: Disconnected Impervious | L26: =IF(OR(SUM($H$17:$K$26)>$H$10,SUM($H$17:$K$26)<$H$10),"LAND USE MUST MATCH SITE ACREAGE","")
B27: SITE FLOW | D27: PRE-DEVELOPMENT Tc | H27: POST-DEVELOPMENT Tc
B28: Sheet Flow
B29: Length (ft)=
B30: Slope (ft/ft)= | L30: See Sheet Flow Calculations
B31: Surface Cover:
B32: n-value= | D32: =IF(D31=$B$143,$G$143,IF(D31=$B$144,$G$144,IF(D31=$B$145,$G$145,""))) | H32: =IF(H31=$B$143,$G$143,IF(H31=$B$144,$G$144,IF(H31=$B$145,$G$145,"")))
B33: Tt (hrs)= | D33: =IF(D29>0,(0.007*(D32*D29)^0.8)/(($D$11^0.5)*(D30^0.4)),0) -> 0 | H33: =IF(H29>0,(0.007*(H32*H29)^0.8)/(($D$11^0.5)*(H30^0.4)),0) -> 0
B34: Shallow Flow
B35: Length (ft)=
B36: Slope (ft/ft)=
B37: Surface Cover:
B38: Average Velocity (ft/sec)= | D38: =IF(D37="Unpaved",16.1345*D36^0.5,IF(D37="Paved",20.32828*D36^0.5,0)) -> 0 | H38: =IF(H37="Unpaved",16.1345*H36^0.5,IF(H37="Paved",20.32828*H36^0.5,0)) -> 0 | L38: See Shallow Flow Calculations
B39: Tt (hrs)= | D39: =IF(D38>0,D35/(3600*D38),0) -> 0 | H39: =IF(H38>0,H35/(3600*H38),0) -> 0
B40: Channel Flow 1
B41: Length (ft)=
B42: Slope (ft/ft)=
B43: Cross Sectional Flow Area (ft2)=
B44: Wetted Perimeter (ft)=
B45: Channel Lining:
B46: n-value= | D46: =IF(D45="Asphalt",$G$151,IF(D45="Concrete, finished",$G$152,IF(D45="Concrete, unfinished",$G$153,IF(D45="Grass",$G$154,IF(D45="Gravel Bottom/riprap sides",$G$155,IF(D45="Weeds",$G$156,"")))))) | H46: =IF(H45="Asphalt",$G$151,IF(H45="Concrete, finished",$G$152,IF(H45="Concrete, unfinished",$G$153,IF(H45="Grass",$G$154,IF(H45="Gravel Bottom/riprap sides",$G$155,IF(H45="Weeds",$G$156,"")))))) | L46: See Open Channel Flow
B47: Hydraulic Radius (ft)= | D47: =IF(ISERROR(D43/D44),0,D43/D44) -> 0 | H47: =IF(ISERROR(H43/H44),0,H43/H44) -> 0
B48: Average Velocity (ft/sec)= | D48: =IF(D44>0,(1.49*(D47^(2/3))*(D42^0.5))/D46,0) -> 0 | H48: =IF(H44>0,(1.49*(H47^(2/3))*(H42^0.5))/H46,0) -> 0
B49: Tt (hrs)= | D49: =IF(D44>0,D41/(3600*D48),0) -> 0 | H49: =IF(H44>0,H41/(3600*H48),0) -> 0
B50: Channel Flow 2
B51: Length (ft)=
B52: Slope (ft/ft)=
B53: Cross Sectional Flow Area (ft2)=
B54: Wetted Perimeter (ft)=
B55: Channel Lining:
B56: n-value= | D56: =IF(D55="Asphalt",$G$151,IF(D55="Concrete, finished",$G$152,IF(D55="Concrete, unfinished",$G$153,IF(D55="Grass",$G$154,IF(D55="Gravel Bottom/riprap sides",$G$155,IF(D55="Weeds",$G$156,"")))))) | H56: =IF(H55="Asphalt",$G$151,IF(H55="Concrete, finished",$G$152,IF(H55="Concrete, unfinished",$G$153,IF(H55="Grass",$G$154,IF(H55="Gravel Bottom/riprap sides",$G$155,IF(H55="Weeds",$G$156,"")))))) | L56: See Open Channel Flow
B57: Hydraulic Radius (ft)= | D57: =IF(ISERROR(D53/D54),0,D53/D54) -> 0 | H57: =IF(ISERROR(H53/H54),0,H53/H54) -> 0
B58: Average Velocity (ft/sec)= | D58: =IF(D54>0,(1.49*(D57^(2/3))*(D52^0.5))/D56,0) -> 0 | H58: =IF(H54>0,(1.49*(H57^(2/3))*(H52^0.5))/H56,0) -> 0
B59: Tt (hrs)= | D59: =IF(D54>0,D51/(3600*D58),0) -> 0 | H59: =IF(H54>0,H51/(3600*H58),0) -> 0
B60: Channel Flow 3
B61: Length (ft)=
B62: Slope (ft/ft)=
B63: Cross Sectional Flow Area (ft2)=
B64: Wetted Perimeter (ft)=
B65: Channel Lining:
B66: n-value= | D66: =IF(D65="Asphalt",$G$151,IF(D65="Concrete, finished",$G$152,IF(D65="Concrete, unfinished",$G$153,IF(D65="Grass",$G$154,IF(D65="Gravel Bottom/riprap sides",$G$155,IF(D65="Weeds",$G$156,"")))))) | H66: =IF(H65="Asphalt",$G$151,IF(H65="Concrete, finished",$G$152,IF(H65="Concrete, unfinished",$G$153,IF(H65="Grass",$G$154,IF(H65="Gravel Bottom/riprap sides",$G$155,IF(H65="Weeds",$G$156,"")))))) | L66: See Open Channel Flow
B67: Hydraulic Radius (ft)= | D67: =IF(ISERROR(D63/D64),0,D63/D64) -> 0 | H67: =IF(ISERROR(H63/H64),0,H63/H64) -> 0
B68: Average Velocity (ft/sec)= | D68: =IF(D64>0,(1.49*(D67^(2/3))*(D62^0.5))/D66,0) -> 0 | H68: =IF(H64>0,(1.49*(H67^(2/3))*(H62^0.5))/H66,0) -> 0
B69: Tt (hrs)= | D69: =IF(D64>0,D61/(3600*D68),0) -> 0 | H69: =IF(H64>0,H61/(3600*H68),0) -> 0
B70: Tc (hrs)= | D70: =D69+D59+D49+D39+D33 -> 0 | H70: =H69+H59+H49+H39+H33 -> 0 | L70: See Tc
B71: RESULTS | D71: PRE-DEVELOPMENT | H71: POST-DEVELOPMENT
B72: Ia value = | D72: =C122*0.2 -> #DIV/0! | H72: =C130*0.2 -> #DIV/0!
B73: Ia /P= | D73: =D72/$D$11 -> #DIV/0! | H73: =H72/$D$11 -> #DIV/0!
B74: Composite Curve Number= | D74: =$G$109 -> #DIV/0! | H74: =$H$109 -> #DIV/0! | L74: See Weighted Curve Number
B75: Disconnected Impervious Adjustment
B76: Disconnected impervious area (acre) = | D76: =SUM($H$26:$K$26) -> 0 | L76: See Disconnected Impervious Calculation
B77: CNadjusted (1-year)= | D77: =IF(D76>0,$C$188,H74) -> #DIV/0!
B78: High Density Only
B79: Runoff (inches) = Q*High= | D79: =IF(ISERROR(C170),"",(C170)) -> 0 | L79: See Discrete Runoff Method
B80: Volume of runoff from 1" rainfall for DA HIGH DENSITY REQUIREMENT = (ft3) = | D80: =IF(ISERROR($K$175),"",($K$175)) | L80: See Discrete Runoff Method
B81: 1-year, 24-hour storm (Peak Flow)
B82: Runoff (inches) = Q*1-year= | D82: =IF(D72>'SITE DATA'!$F$26,0,C123) -> #DIV/0! | H82: =IF(H72>'SITE DATA'!$F$26,0,C131) -> #DIV/0! | L82: See SCS Runoff Method
B83: Volume of runoff (ft3) = | D83: =ROUND(IF(ISERROR((D82/12)*(D10*43560)),"",((D82/12)*(D10*43560))),0) -> #VALUE! | H83: =ROUND(IF(ISERROR((H82/12)*(H10*43560)),0,((H82/12)*(H10*43560))),0) -> 0
B84: Volume change (ft3) = | D84: =IF(ISERROR(H83-D83),"",(H83-D83))
B85: Peak Discharge (cfs)= Q1-year= | D85: =H127 -> #DIV/0! | H85: =H135 -> #DIV/0! | L85: See Peak Flow Calculations
B86: 2-year, 24-hour storm (LID)
B87: Runoff (inches) = Q*2-year= | D87: =IF($D$72>'SITE DATA'!$F$27,0,C124) -> #DIV/0! | H87: =IF($H$72>'SITE DATA'!$F$27,0,C132) -> #DIV/0! | L87: See SCS Runoff Method
B88: Volume of runoff (ft3) = | D88: =(D87/12)*($D$10*43560) -> #DIV/0! | H88: =(H87/12)*(H10*43560) -> #DIV/0!
B89: Peak Discharge (cfs)= Q2-year= | D89: =H128 -> #DIV/0! | H89: =H136 -> #DIV/0! | L89: See Peak Flow Calculations
B90: 10-year, 24-hour storm (DIA)
B91: Runoff (inches) = Q*10-year= | D91: =IF($D$72>'SITE DATA'!F28,0,C125) -> #DIV/0! | H91: =IF($H$72>'SITE DATA'!F28,0,C133) -> #DIV/0! | L91: See SCS Runoff Method
B92: Volume of runoff (ft3) = | D92: =(D91/12)*($D$10*43560) -> #DIV/0! | H92: =(H91/12)*($D$10*43560) -> #DIV/0!
B93: Peak Discharge (cfs)= Q10-year= | D93: =H129 -> #DIV/0! | H93: =H137 -> #DIV/0!
D94: =IF($H$93>$D$93,"Post-development peak flow exceeds pre-development peak flow for this DA!","") -> #DIV/0!
B96: TO BE HIDDEN
B98: WEIGHTED CURVE NUMBER
B99: LAND USE | C99: A | D99: B | E99: C | F99: D | G99: pre_ALL HSG | H99: post_ALL HSG | I99: Post_ High Density Only
B100: Pasture | C100: 39 | D100: 61 | E100: 74 | F100: 80 | G100: =(C100*D17)+(D100*E17)+(E100*F17)+(F100*G17) -> 0 | H100: =($C$100*$H$17)+($D$100*$I$17)+($E$100*$J$17)+($F$100*$K$17) -> 0 | I100: =($C$100*$H$17)+($D$100*$I$17)+($E$100*$J$17)+($F$100*$K$17) -> 0
B101: Woods, Poor Condition1 | C101: 45 | D101: 66 | E101: 77 | F101: 83 | G101: =(C101*D18)+(D101*E18)+(E101*F18)+(F101*G18) -> 0 | H101: =($C$101*$H$18)+($D$101*$I$18)+($E$101*$J$18)+($F$101*$K$18) -> 0 | I101: =($C$101*$H$18)+($D$101*$I$18)+($E$101*$J$18)+($F$101*$K$18) -> 0
B102: Woods, Fair Condition2 | C102: 36 | D102: 60 | E102: 73 | F102: 79 | G102: =(C102*D19)+(D102*E19)+(E102*F19)+(F102*G19) -> 0 | H102: =($C$102*$H$19)+($D$102*$I$19)+($E$102*$J$19)+($F$102*$K$19) -> 0 | I102: =($C$102*$H$19)+($D$102*$I$19)+($E$102*$J$19)+($F$102*$K$19) -> 0
B103: Woods, Good Condition3 | C103: 30 | D103: 55 | E103: 70 | F103: 77 | G103: =(C103*D20)+(D103*E20)+(E103*F20)+(F103*G20) -> 0 | H103: =($C$103*$H$20)+($D$103*$I$20)+($E$103*$J$20)+($F$103*$K$20) -> 0 | I103: =($C$103*$H$20)+($D$103*$I$20)+($E$103*$J$20)+($F$103*$K$20) -> 0
B104: Open Space, Poor Condition4 | C104: 68 | D104: 79 | E104: 86 | F104: 89 | G104: =(C104*D21)+(D104*E21)+(E104*F21)+(F104*G21) -> 0 | H104: =($C$104*$H$21)+($D$104*$I$21)+($E$104*$J$21)+($F$104*$K$21) -> 0 | I104: =($C$104*$H$21)+($D$104*$I$21)+($E$104*$J$21)+($F$104*$K$21) -> 0
B105: Open Space, Fair Condition5 | C105: 49 | D105: 69 | E105: 79 | F105: 84 | G105: =(C105*D22)+(D105*E22)+(E105*F22)+(F105*G22) -> 0 | H105: =($C$105*$H$22)+($D$105*$I$22)+($E$105*$J$22)+($F$105*$K$22) -> 0 | I105: =($C$105*$H$22)+($D$105*$I$22)+($E$105*$J$22)+($F$105*$K$22) -> 0
B106: Open Space, Good Condition6 | C106: 39 | D106: 61 | E106: 74 | F106: 80 | G106: =(C106*D23)+(D106*E23)+(E106*F23)+(F106*G23) -> 0 | H106: =($C$106*$H$23)+($D$106*$I$23)+($E$106*$J$23)+($F$106*$K$23) -> 0 | I106: =($C$106*$H$23)+($D$106*$I$23)+($E$106*$J$23)+($F$106*$K$23) -> 0
...

Sheet DA5
B1: Project Name: | E1: ='SITE DATA'!F9 -> 0
B3: DRAINAGE AREA 5
B4: STORMWATER PRE-POST CALCULATIONS
B8: LAND USE & SITE DATA | D8: PRE-DEVELOPMENT | H8: POST-DEVELOPMENT | L8: LINKS/COMMENTS
B9: Drainage Area (Acres)= | L9: Note: Includes offsite drainage
B10: Site Acreage within Drainage=
B11: One-year, 24-hour rainfall (in)= | D11: ='SITE DATA'!$F$26 -> 0
B12: Two-year, 24-hour rainfall (in)= | D12: ='SITE DATA'!$F$27 -> 0 | L12: From Site Data
B13: Ten-year, 24-hour storm (in)= | D13: ='SITE DATA'!$F$28 -> 0
B14: Total Lake/Pond Area (Acres)=
B15: Lake/Pond Area not in the Tc flow path (Acres)=
B16: Site Land Use (acres): | D16: A | E16: B | F16: C | G16: D | H16: A | I16: B | J16: C | K16: D | L16: See Weighted Curve Number
B17: Pasture
B18: Woods, Poor Condition
B19: Woods, Fair Condition
B20: Woods, Good Condition
B21: Open Space, Poor Condition
B22: Open Space, Fair condition
B23: Open Space, Good Condition
B24: Reforestation (in dedicated OS)
B25: Connected Impervious
B26: Disconnected Impervious | L26: =IF(OR(SUM($H$17:$K$26)>$H$10,SUM($H$17:$K$26)<$H$10),"LAND USE MUST MATCH SITE ACREAGE","")
B27: SITE FLOW | D27: PRE-DEVELOPMENT Tc | H27: POST-DEVELOPMENT Tc
B28: Sheet Flow
B29: Length (ft)=
B30: Slope (ft/ft)= | L30: See Sheet Flow Calculations
B31: Surface Cover:
B32: n-value= | D32: =IF(D31=$B$143,$G$143,IF(D31=$B$144,$G$144,IF(D31=$B$145,$G$145,""))) | H32: =IF(H31=$B$143,$G$143,IF(H31=$B$144,$G$144,IF(H31=$B$145,$G$145,"")))
B33: Tt (hrs)= | D33: =IF(D29>0,(0.007*(D32*D29)^0.8)/(($D$11^0.5)*(D30^0.4)),0) -> 0 | H33: =IF(H29>0,(0.007*(H32*H29)^0.8)/(($D$11^0.5)*(H30^0.4)),0) -> 0
B34: Shallow Flow
B35: Length (ft)=
B36: Slope (ft/ft)=
B37: Surface Cover:
B38: Average Velocity (ft/sec)= | D38: =IF(D37="Unpaved",16.1345*D36^0.5,IF(D37="Paved",20.32828*D36^0.5,0)) -> 0 | H38: =IF(H37="Unpaved",16.1345*H36^0.5,IF(H37="Paved",20.32828*H36^0.5,0)) -> 0 | L38: See Shallow Flow Calculations
B39: Tt (hrs)= | D39: =IF(D38>0,D35/(3600*D38),0) -> 0 | H39: =IF(H38>0,H35/(3600*H38),0) -> 0
B40: Channel Flow 1
B41: Length (ft)=
B42: Slope (ft/ft)=
B43: Cross Sectional Flow Area (ft2)=
B44: Wetted Perimeter (ft)=
B45: Channel Lining:
B46: n-value= | D46: =IF(D45="Asphalt",$G$151,IF(D45="Concrete, finished",$G$152,IF(D45="Concrete, unfinished",$G$153,IF(D45="Grass",$G$154,IF(D45="Gravel Bottom/riprap sides",$G$155,IF(D45="Weeds",$G$156,"")))))) | H46: =IF(H45="Asphalt",$G$151,IF(H45="Concrete, finished",$G$152,IF(H45="Concrete, unfinished",$G$153,IF(H45="Grass",$G$154,IF(H45="Gravel Bottom/riprap sides",$G$155,IF(H45="Weeds",$G$156,"")))))) | L46: See Open Channel Flow
B47: Hydraulic Radius (ft)= | D47: =IF(ISERROR(D43/D44),0,D43/D44) -> 0 | H47: =IF(ISERROR(H43/H44),0,H43/H44) -> 0
B48: Average Velocity (ft/sec)= | D48: =IF(D44>0,(1.49*(D47^(2/3))*(D42^0.5))/D46,0) -> 0 | H48: =IF(H44>0,(1.49*(H47^(2/3))*(H42^0.5))/H46,0) -> 0
B49: Tt (hrs)= | D49: =IF(D44>0,D41/(3600*D48),0) -> 0 | H49: =IF(H44>0,H41/(3600*H48),0) -> 0
B50: Channel Flow 2
B51: Length (ft)=
B52: Slope (ft/ft)=
B53: Cross Sectional Flow Area (ft2)=
B54: Wetted Perimeter (ft)=
B55: Channel Lining:
B56: n-value= | D56: =IF(D55="Asphalt",$G$151,IF(D55="Concrete, finished",$G$152,IF(D55="Concrete, unfinished",$G$153,IF(D55="Grass",$G$154,IF(D55="Gravel Bottom/riprap sides",$G$155,IF(D55="Weeds",$G$156,"")))))) | H56: =IF(H55="Asphalt",$G$151,IF(H55="Concrete, finished",$G$152,IF(H55="Concrete, unfinished",$G$153,IF(H55="Grass",$G$154,IF(H55="Gravel Bottom/riprap sides",$G$155,IF(H55="Weeds",$G$156,"")))))) | L56: See Open Channel Flow
B57: Hydraulic Radius (ft)= | D57: =IF(ISERROR(D53/D54),0,D53/D54) -> 0 | H57: =IF(ISERROR(H53/H54),0,H53/H54) -> 0
B58: Average Velocity (ft/sec)= | D58: =IF(D54>0,(1.49*(D57^(2/3))*(D52^0.5))/D56,0) -> 0 | H58: =IF(H54>0,(1.49*(H57^(2/3))*(H52^0.5))/H56,0) -> 0
B59: Tt (hrs)= | D59: =IF(D54>0,D51/(3600*D58),0) -> 0 | H59: =IF(H54>0,H51/(3600*H58),0) -> 0
B60: Channel Flow 3
B61: Length (ft)=
B62: Slope (ft/ft)=
B63: Cross Sectional Flow Area (ft2)=
B64: Wetted Perimeter (ft)=
B65: Channel Lining:
B66: n-value= | D66: =IF(D65="Asphalt",$G$151,IF(D65="Concrete, finished",$G$152,IF(D65="Concrete, unfinished",$G$153,IF(D65="Grass",$G$154,IF(D65="Gravel Bottom/riprap sides",$G$155,IF(D65="Weeds",$G$156,"")))))) | H66: =IF(H65="Asphalt",$G$151,IF(H65="Concrete, finished",$G$152,IF(H65="Concrete, unfinished",$G$153,IF(H65="Grass",$G$154,IF(H65="Gravel Bottom/riprap sides",$G$155,IF(H65="Weeds",$G$156,"")))))) | L66: See Open Channel Flow
B67: Hydraulic Radius (ft)= | D67: =IF(ISERROR(D63/D64),0,D63/D64) -> 0 | H67: =IF(ISERROR(H63/H64),0,H63/H64) -> 0
B68: Average Velocity (ft/sec)= | D68: =IF(D64>0,(1.49*(D67^(2/3))*(D62^0.5))/D66,0) -> 0 | H68: =IF(H64>0,(1.49*(H67^(2/3))*(H62^0.5))/H66,0) -> 0
B69: Tt (hrs)= | D69: =IF(D64>0,D61/(3600*D68),0) -> 0 | H69: =IF(H64>0,H61/(3600*H68),0) -> 0
B70: Tc (hrs)= | D70: =D69+D59+D49+D39+D33 -> 0 | H70: =H69+H59+H49+H39+H33 -> 0 | L70: See Tc
B71: RESULTS | D71: PRE-DEVELOPMENT | H71: POST-DEVELOPMENT
B72: Ia value = | D72: =C122*0.2 -> #DIV/0! | H72: =C130*0.2 -> #DIV/0!
B73: Ia /P= | D73: =D72/$D$11 -> #DIV/0! | H73: =H72/$D$11 -> #DIV/0!
B74: Composite Curve Number= | D74: =$G$109 -> #DIV/0! | H74: =$H$109 -> #DIV/0! | L74: See Weighted Curve Number
B75: Disconnected Impervious Adjustment
B76: Disconnected impervious area (acre) = | D76: =SUM($H$26:$K$26) -> 0 | L76: See Disconnected Impervious Calculation
B77: CNadjusted (1-year)= | D77: =IF(D76>0,$C$188,H74) -> #DIV/0!
B78: High Density Only
B79: Runoff (inches) = Q*High= | D79: =IF(ISERROR(C170),"",(C170)) -> 0 | L79: See Discrete Runoff Method
B80: Volume of runoff from 1" rainfall for DA HIGH DENSITY REQUIREMENT = (ft3) = | D80: =IF(ISERROR($K$175),"",($K$175)) | L80: See Discrete Runoff Method
B81: 1-year, 24-hour storm (Peak Flow)
B82: Runoff (inches) = Q*1-year= | D82: =IF(D72>'SITE DATA'!$F$26,0,C123) -> #DIV/0! | H82: =IF(H72>'SITE DATA'!$F$26,0,C131) -> #DIV/0! | L82: See SCS Runoff Method
B83: Volume of runoff (ft3) = | D83: =ROUND(IF(ISERROR((D82/12)*(D10*43560)),"",((D82/12)*(D10*43560))),0) -> #VALUE! | H83: =ROUND(IF(ISERROR((H82/12)*(H10*43560)),0,((H82/12)*(H10*43560))),0) -> 0
B84: Volume change (ft3) = | D84: =IF(ISERROR(H83-D83),"",(H83-D83))
B85: Peak Discharge (cfs)= Q1-year= | D85: =H127 -> #DIV/0! | H85: =H135 -> #DIV/0! | L85: See Peak Flow Calculations
B86: 2-year, 24-hour storm (LID)
B87: Runoff (inches) = Q*2-year= | D87: =IF($D$72>'SITE DATA'!$F$27,0,C124) -> #DIV/0! | H87: =IF($H$72>'SITE DATA'!$F$27,0,C132) -> #DIV/0! | L87: See SCS Runoff Method
B88: Volume of runoff (ft3) = | D88: =(D87/12)*($D$10*43560) -> #DIV/0! | H88: =(H87/12)*(H10*43560) -> #DIV/0!
B89: Peak Discharge (cfs)= Q2-year= | D89: =H128 -> #DIV/0! | H89: =H136 -> #DIV/0! | L89: See Peak Flow Calculations
B90: 10-year, 24-hour storm (DIA)
B91: Runoff (inches) = Q*10-year= | D91: =IF($D$72>'SITE DATA'!F28,0,C125) -> #DIV/0! | H91: =IF($H$72>'SITE DATA'!F28,0,C133) -> #DIV/0! | L91: See SCS Runoff Method
B92: Volume of runoff (ft3) = | D92: =(D91/12)*($D$10*43560) -> #DIV/0! | H92: =(H91/12)*($D$10*43560) -> #DIV/0!
B93: Peak Discharge (cfs)= Q10-year= | D93: =H129 -> #DIV/0! | H93: =H137 -> #DIV/0!
D94: =IF($H$93>$D$93,"Post-development peak flow exceeds pre-development peak flow for this DA!","") -> #DIV/0!
B96: TO BE HIDDEN
B98: WEIGHTED CURVE NUMBER
B99: LAND USE | C99: A | D99: B | E99: C | F99: D | G99: pre_ALL HSG | H99: post_ALL HSG | I99: Post_ High Density Only
B100: Pasture | C100: 39 | D100: 61 | E100: 74 | F100: 80 | G100: =(C100*D17)+(D100*E17)+(E100*F17)+(F100*G17) -> 0 | H100: =($C$100*$H$17)+($D$100*$I$17)+($E$100*$J$17)+($F$100*$K$17) -> 0 | I100: =($C$100*$H$17)+($D$100*$I$17)+($E$100*$J$17)+($F$100*$K$17) -> 0
B101: Woods, Poor Condition1 | C101: 45 | D101: 66 | E101: 77 | F101: 83 | G101: =(C101*D18)+(D101*E18)+(E101*F18)+(F101*G18) -> 0 | H101: =($C$101*$H$18)+($D$101*$I$18)+($E$101*$J$18)+($F$101*$K$18) -> 0 | I101: =($C$101*$H$18)+($D$101*$I$18)+($E$101*$J$18)+($F$101*$K$18) -> 0
B102: Woods, Fair Condition2 | C102: 36 | D102: 60 | E102: 73 | F102: 79 | G102: =(C102*D19)+(D102*E19)+(E102*F19)+(F102*G19) -> 0 | H102: =($C$102*$H$19)+($D$102*$I$19)+($E$102*$J$19)+($F$102*$K$19) -> 0 | I102: =($C$102*$H$19)+($D$102*$I$19)+($E$102*$J$19)+($F$102*$K$19) -> 0
B103: Woods, Good Condition3 | C103: 30 | D103: 55 | E103: 70 | F103: 77 | G103: =(C103*D20)+(D103*E20)+(E103*F20)+(F103*G20) -> 0 | H103: =($C$103*$H$20)+($D$103*$I$20)+($E$103*$J$20)+($F$103*$K$20) -> 0 | I103: =($C$103*$H$20)+($D$103*$I$20)+($E$103*$J$20)+($F$103*$K$20) -> 0
B104: Open Space, Poor Condition4 | C104: 68 | D104: 79 | E104: 86 | F104: 89 | G104: =(C104*D21)+(D104*E21)+(E104*F21)+(F104*G21) -> 0 | H104: =($C$104*$H$21)+($D$104*$I$21)+($E$104*$J$21)+($F$104*$K$21) -> 0 | I104: =($C$104*$H$21)+($D$104*$I$21)+($E$104*$J$21)+($F$104*$K$21) -> 0
B105: Open Space, Fair Condition5 | C105: 49 | D105: 69 | E105: 79 | F105: 84 | G105: =(C105*D22)+(D105*E22)+(E105*F22)+(F105*G22) -> 0 | H105: =($C$105*$H$22)+($D$105*$I$22)+($E$105*$J$22)+($F$105*$K$22) -> 0 | I105: =($C$105*$H$22)+($D$105*$I$22)+($E$105*$J$22)+($F$105*$K$22) -> 0
B106: Open Space, Good Condition6 | C106: 39 | D106: 61 | E106: 74 | F106: 80 | G106: =(C106*D23)+(D106*E23)+(E106*F23)+(F106*G23) -> 0 | H106: =($C$106*$H$23)+($D$106*$I$23)+($E$106*$J$23)+($F$106*$K$23) -> 0 | I106: =($C$106*$H$23)+($D$106*$I$23)+($E$106*$J$23)+($F$106*$K$23) -> 0
...

Sheet DA6
B1: Project Name: | E1: ='SITE DATA'!F9 -> 0
B3: DRAINAGE AREA 6
B4: STORMWATER PRE-POST CALCULATIONS
B8: LAND USE & SITE DATA | D8: PRE-DEVELOPMENT | H8: POST-DEVELOPMENT | L8: LINKS/COMMENTS
B9: Drainage Area (Acres)= | L9: Note: Includes offsite drainage
B10: Site Acreage within Drainage=
B11: One-year, 24-hour rainfall (in)= | D11: ='SITE DATA'!$F$26 -> 0
B12: Two-year, 24-hour rainfall (in)= | D12: ='SITE DATA'!$F$27 -> 0 | L12: From Site Data
B13: Ten-year, 24-hour storm (in)= | D13: ='SITE DATA'!$F$28 -> 0
B14: Total Lake/Pond Area (Acres)=
B15: Lake/Pond Area not in the Tc flow path (Acres)=
B16: Site Land Use (acres): | D16: A | E16: B | F16: C | G16: D | H16: A | I16: B | J16: C | K16: D | L16: See Weighted Curve Number
B17: Pasture
B18: Woods, Poor Condition
B19: Woods, Fair Condition
B20: Woods, Good Condition
B21: Open Space, Poor Condition
B22: Open Space, Fair condition
B23: Open Space, Good Condition
B24: Reforestation (in dedicated OS)
B25: Connected Impervious
B26: Disconnected Impervious | L26: =IF(OR(SUM($H$17:$K$26)>$H$10,SUM($H$17:$K$26)<$H$10),"LAND USE MUST MATCH SITE ACREAGE","")
B27: SITE FLOW | D27: PRE-DEVELOPMENT Tc | H27: POST-DEVELOPMENT Tc
B28: Sheet Flow
B29: Length (ft)=
B30: Slope (ft/ft)= | L30: See Sheet Flow Calculations
B31: Surface Cover:
B32: n-value= | D32: =IF(D31=$B$143,$G$143,IF(D31=$B$144,$G$144,IF(D31=$B$145,$G$145,""))) | H32: =IF(H31=$B$143,$G$143,IF(H31=$B$144,$G$144,IF(H31=$B$145,$G$145,"")))
B33: Tt (hrs)= | D33: =IF(D29>0,(0.007*(D32*D29)^0.8)/(($D$11^0.5)*(D30^0.4)),0) -> 0 | H33: =IF(H29>0,(0.007*(H32*H29)^0.8)/(($D$11^0.5)*(H30^0.4)),0) -> 0
B34: Shallow Flow
B35: Length (ft)=
B36: Slope (ft/ft)=
B37: Surface Cover:
B38: Average Velocity (ft/sec)= | D38: =IF(D37="Unpaved",16.1345*D36^0.5,IF(D37="Paved",20.32828*D36^0.5,0)) -> 0 | H38: =IF(H37="Unpaved",16.1345*H36^0.5,IF(H37="Paved",20.32828*H36^0.5,0)) -> 0 | L38: See Shallow Flow Calculations
B39: Tt (hrs)= | D39: =IF(D38>0,D35/(3600*D38),0) -> 0 | H39: =IF(H38>0,H35/(3600*H38),0) -> 0
B40: Channel Flow 1
B41: Length (ft)=
B42: Slope (ft/ft)=
B43: Cross Sectional Flow Area (ft2)=
B44: Wetted Perimeter (ft)=
B45: Channel Lining:
B46: n-value= | D46: =IF(D45="Asphalt",$G$151,IF(D45="Concrete, finished",$G$152,IF(D45="Concrete, unfinished",$G$153,IF(D45="Grass",$G$154,IF(D45="Gravel Bottom/riprap sides",$G$155,IF(D45="Weeds",$G$156,"")))))) | H46: =IF(H45="Asphalt",$G$151,IF(H45="Concrete, finished",$G$152,IF(H45="Concrete, unfinished",$G$153,IF(H45="Grass",$G$154,IF(H45="Gravel Bottom/riprap sides",$G$155,IF(H45="Weeds",$G$156,"")))))) | L46: See Open Channel Flow
B47: Hydraulic Radius (ft)= | D47: =IF(ISERROR(D43/D44),0,D43/D44) -> 0 | H47: =IF(ISERROR(H43/H44),0,H43/H44) -> 0
B48: Average Velocity (ft/sec)= | D48: =IF(D44>0,(1.49*(D47^(2/3))*(D42^0.5))/D46,0) -> 0 | H48: =IF(H44>0,(1.49*(H47^(2/3))*(H42^0.5))/H46,0) -> 0
B49: Tt (hrs)= | D49: =IF(D44>0,D41/(3600*D48),0) -> 0 | H49: =IF(H44>0,H41/(3600*H48),0) -> 0
B50: Channel Flow 2
B51: Length (ft)=
B52: Slope (ft/ft)=
B53: Cross Sectional Flow Area (ft2)=
B54: Wetted Perimeter (ft)=
B55: Channel Lining:
B56: n-value= | D56: =IF(D55="Asphalt",$G$151,IF(D55="Concrete, finished",$G$152,IF(D55="Concrete, unfinished",$G$153,IF(D55="Grass",$G$154,IF(D55="Gravel Bottom/riprap sides",$G$155,IF(D55="Weeds",$G$156,"")))))) | H56: =IF(H55="Asphalt",$G$151,IF(H55="Concrete, finished",$G$152,IF(H55="Concrete, unfinished",$G$153,IF(H55="Grass",$G$154,IF(H55="Gravel Bottom/riprap sides",$G$155,IF(H55="Weeds",$G$156,"")))))) | L56: See Open Channel Flow
B57: Hydraulic Radius (ft)= | D57: =IF(ISERROR(D53/D54),0,D53/D54) -> 0 | H57: =IF(ISERROR(H53/H54),0,H53/H54) -> 0
B58: Average Velocity (ft/sec)= | D58: =IF(D54>0,(1.49*(D57^(2/3))*(D52^0.5))/D56,0) -> 0 | H58: =IF(H54>0,(1.49*(H57^(2/3))*(H52^0.5))/H56,0) -> 0
B59: Tt (hrs)= | D59: =IF(D54>0,D51/(3600*D58),0) -> 0 | H59: =IF(H54>0,H51/(3600*H58),0) -> 0
B60: Channel Flow 3
B61: Length (ft)=
B62: Slope (ft/ft)=
B63: Cross Sectional Flow Area (ft2)=
B64: Wetted Perimeter (ft)=
B65: Channel Lining:
B66: n-value= | D66: =IF(D65="Asphalt",$G$151,IF(D65="Concrete, finished",$G$152,IF(D65="Concrete, unfinished",$G$153,IF(D65="Grass",$G$154,IF(D65="Gravel Bottom/riprap sides",$G$155,IF(D65="Weeds",$G$156,"")))))) | H66: =IF(H65="Asphalt",$G$151,IF(H65="Concrete, finished",$G$152,IF(H65="Concrete, unfinished",$G$153,IF(H65="Grass",$G$154,IF(H65="Gravel Bottom/riprap sides",$G$155,IF(H65="Weeds",$G$156,"")))))) | L66: See Open Channel Flow
B67: Hydraulic Radius (ft)= | D67: =IF(ISERROR(D63/D64),0,D63/D64) -> 0 | H67: =IF(ISERROR(H63/H64),0,H63/H64) -> 0
B68: Average Velocity (ft/sec)= | D68: =IF(D64>0,(1.49*(D67^(2/3))*(D62^0.5))/D66,0) -> 0 | H68: =IF(H64>0,(1.49*(H67^(2/3))*(H62^0.5))/H66,0) -> 0
B69: Tt (hrs)= | D69: =IF(D64>0,D61/(3600*D68),0) -> 0 | H69: =IF(H64>0,H61/(3600*H68),0) -> 0
B70: Tc (hrs)= | D70: =D69+D59+D49+D39+D33 -> 0 | H70: =H69+H59+H49+H39+H33 -> 0 | L70: See Tc
B71: RESULTS | D71: PRE-DEVELOPMENT | H71: POST-DEVELOPMENT
B72: Ia value = | D72: =C122*0.2 -> #DIV/0! | H72: =C130*0.2 -> #DIV/0!
B73: Ia /P= | D73: =D72/$D$11 -> #DIV/0! | H73: =H72/$D$11 -> #DIV/0!
B74: Composite Curve Number= | D74: =$G$109 -> #DIV/0! | H74: =$H$109 -> #DIV/0! | L74: See Weighted Curve Number
B75: Disconnected Impervious Adjustment
B76: Disconnected impervious area (acre) = | D76: =SUM($H$26:$K$26) -> 0 | L76: See Disconnected Impervious Calculation
B77: CNadjusted (1-year)= | D77: =IF(D76>0,$C$188,H74) -> #DIV/0!
B78: High Density Only
B79: Runoff (inches) = Q*High= | D79: =IF(ISERROR(C170),"",(C170)) -> 0 | L79: See Discrete Runoff Method
B80: Volume of runoff from 1" rainfall for DA HIGH DENSITY REQUIREMENT = (ft3) = | D80: =IF(ISERROR($K$175),"",($K$175)) | L80: See Discrete Runoff Method
B81: 1-year, 24-hour storm (Peak Flow)
B82: Runoff (inches) = Q*1-year= | D82: =IF(D72>'SITE DATA'!$F$26,0,C123) -> #DIV/0! | H82: =IF(H72>'SITE DATA'!$F$26,0,C131) -> #DIV/0! | L82: See SCS Runoff Method
B83: Volume of runoff (ft3) = | D83: =ROUND(IF(ISERROR((D82/12)*(D10*43560)),"",((D82/12)*(D10*43560))),0) -> #VALUE! | H83: =ROUND(IF(ISERROR((H82/12)*(H10*43560)),0,((H82/12)*(H10*43560))),0) -> 0
B84: Volume change (ft3) = | D84: =IF(ISERROR(H83-D83),"",(H83-D83))
B85: Peak Discharge (cfs)= Q1-year= | D85: =H127 -> #DIV/0! | H85: =H135 -> #DIV/0! | L85: See Peak Flow Calculations
B86: 2-year, 24-hour storm (LID)
B87: Runoff (inches) = Q*2-year= | D87: =IF($D$72>'SITE DATA'!$F$27,0,C124) -> #DIV/0! | H87: =IF($H$72>'SITE DATA'!$F$27,0,C132) -> #DIV/0! | L87: See SCS Runoff Method
B88: Volume of runoff (ft3) = | D88: =(D87/12)*($D$10*43560) -> #DIV/0! | H88: =(H87/12)*(H10*43560) -> #DIV/0!
B89: Peak Discharge (cfs)= Q2-year= | D89: =H128 -> #DIV/0! | H89: =H136 -> #DIV/0! | L89: See Peak Flow Calculations
B90: 10-year, 24-hour storm (DIA)
B91: Runoff (inches) = Q*10-year= | D91: =IF($D$72>'SITE DATA'!F28,0,C125) -> #DIV/0! | H91: =IF($H$72>'SITE DATA'!F28,0,C133) -> #DIV/0! | L91: See SCS Runoff Method
B92: Volume of runoff (ft3) = | D92: =(D91/12)*($D$10*43560) -> #DIV/0! | H92: =(H91/12)*($D$10*43560) -> #DIV/0!
B93: Peak Discharge (cfs)= Q10-year= | D93: =H129 -> #DIV/0! | H93: =H137 -> #DIV/0!
D94: =IF($H$93>$D$93,"Post-development peak flow exceeds pre-development peak flow for this DA!","") -> #DIV/0!
B96: TO BE HIDDEN
B98: WEIGHTED CURVE NUMBER
B99: LAND USE | C99: A | D99: B | E99: C | F99: D | G99: pre_ALL HSG | H99: post_ALL HSG | I99: Post_ High Density Only
B100: Pasture | C100: 39 | D100: 61 | E100: 74 | F100: 80 | G100: =(C100*D17)+(D100*E17)+(E100*F17)+(F100*G17) -> 0 | H100: =($C$100*$H$17)+($D$100*$I$17)+($E$100*$J$17)+($F$100*$K$17) -> 0 | I100: =($C$100*$H$17)+($D$100*$I$17)+($E$100*$J$17)+($F$100*$K$17) -> 0
B101: Woods, Poor Condition1 | C101: 45 | D101: 66 | E101: 77 | F101: 83 | G101: =(C101*D18)+(D101*E18)+(E101*F18)+(F101*G18) -> 0 | H101: =($C$101*$H$18)+($D$101*$I$18)+($E$101*$J$18)+($F$101*$K$18) -> 0 | I101: =($C$101*$H$18)+($D$101*$I$18)+($E$101*$J$18)+($F$101*$K$18) -> 0
B102: Woods, Fair Condition2 | C102: 36 | D102: 60 | E102: 73 | F102: 79 | G102: =(C102*D19)+(D102*E19)+(E102*F19)+(F102*G19) -> 0 | H102: =($C$102*$H$19)+($D$102*$I$19)+($E$102*$J$19)+($F$102*$K$19) -> 0 | I102: =($C$102*$H$19)+($D$102*$I$19)+($E$102*$J$19)+($F$102*$K$19) -> 0
B103: Woods, Good Condition3 | C103: 30 | D103: 55 | E103: 70 | F103: 77 | G103: =(C103*D20)+(D103*E20)+(E103*F20)+(F103*G20) -> 0 | H103: =($C$103*$H$20)+($D$103*$I$20)+($E$103*$J$20)+($F$103*$K$20) -> 0 | I103: =($C$103*$H$20)+($D$103*$I$20)+($E$103*$J$20)+($F$103*$K$20) -> 0
B104: Open Space, Poor Condition4 | C104: 68 | D104: 79 | E104: 86 | F104: 89 | G104: =(C104*D21)+(D104*E21)+(E104*F21)+(F104*G21) -> 0 | H104: =($C$104*$H$21)+($D$104*$I$21)+($E$104*$J$21)+($F$104*$K$21) -> 0 | I104: =($C$104*$H$21)+($D$104*$I$21)+($E$104*$J$21)+($F$104*$K$21) -> 0
B105: Open Space, Fair Condition5 | C105: 49 | D105: 69 | E105: 79 | F105: 84 | G105: =(C105*D22)+(D105*E22)+(E105*F22)+(F105*G22) -> 0 | H105: =($C$105*$H$22)+($D$105*$I$22)+($E$105*$J$22)+($F$105*$K$22) -> 0 | I105: =($C$105*$H$22)+($D$105*$I$22)+($E$105*$J$22)+($F$105*$K$22) -> 0
B106: Open Space, Good Condition6 | C106: 39 | D106: 61 | E106: 74 | F106: 80 | G106: =(C106*D23)+(D106*E23)+(E106*F23)+(F106*G23) -> 0 | H106: =($C$106*$H$23)+($D$106*$I$23)+($E$106*$J$23)+($F$106*$K$23) -> 0 | I106: =($C$106*$H$23)+($D$106*$I$23)+($E$106*$J$23)+($F$106*$K$23) -> 0
...

Sheet DA7
B1: Project Name: | E1: ='SITE DATA'!F9 -> 0
B3: DRAINAGE AREA 7
B4: STORMWATER PRE-POST CALCULATIONS
B8: LAND USE & SITE DATA | D8: PRE-DEVELOPMENT | H8: POST-DEVELOPMENT | L8: LINKS/COMMENTS
B9: Drainage Area (Acres)= | L9: Note: Includes offsite drainage
B10: Site Acreage within Drainage=
B11: One-year, 24-hour rainfall (in)= | D11: ='SITE DATA'!$F$26 -> 0
B12: Two-year, 24-hour rainfall (in)= | D12: ='SITE DATA'!$F$27 -> 0 | L12: From Site Data
B13: Ten-year, 24-hour storm (in)= | D13: ='SITE DATA'!$F$28 -> 0
B14: Total Lake/Pond Area (Acres)=
B15: Lake/Pond Area not in the Tc flow path (Acres)=
B16: Site Land Use (acres): | D16: A | E16: B | F16: C | G16: D | H16: A | I16: B | J16: C | K16: D | L16: See Weighted Curve Number
B17: Pasture
B18: Woods, Poor Condition
B19: Woods, Fair Condition
B20: Woods, Good Condition
B21: Open Space, Poor Condition
B22: Open Space, Fair condition
B23: Open Space, Good Condition
B24: Reforestation (in dedicated OS)
B25: Connected Impervious
B26: Disconnected Impervious | L26: =IF(OR(SUM($H$17:$K$26)>$H$10,SUM($H$17:$K$26)<$H$10),"LAND USE MUST MATCH SITE ACREAGE","")
B27: SITE FLOW | D27: PRE-DEVELOPMENT Tc | H27: POST-DEVELOPMENT Tc
B28: Sheet Flow
B29: Length (ft)=
B30: Slope (ft/ft)= | L30: See Sheet Flow Calculations
B31: Surface Cover:
B32: n-value= | D32: =IF(D31=$B$143,$G$143,IF(D31=$B$144,$G$144,IF(D31=$B$145,$G$145,""))) | H32: =IF(H31=$B$143,$G$143,IF(H31=$B$144,$G$144,IF(H31=$B$145,$G$145,"")))
B33: Tt (hrs)= | D33: =IF(D29>0,(0.007*(D32*D29)^0.8)/(($D$11^0.5)*(D30^0.4)),0) -> 0 | H33: =IF(H29>0,(0.007*(H32*H29)^0.8)/(($D$11^0.5)*(H30^0.4)),0) -> 0
B34: Shallow Flow
B35: Length (ft)=
B36: Slope (ft/ft)=
B37: Surface Cover:
B38: Average Velocity (ft/sec)= | D38: =IF(D37="Unpaved",16.1345*D36^0.5,IF(D37="Paved",20.32828*D36^0.5,0)) -> 0 | H38: =IF(H37="Unpaved",16.1345*H36^0.5,IF(H37="Paved",20.32828*H36^0.5,0)) -> 0 | L38: See Shallow Flow Calculations
B39: Tt (hrs)= | D39: =IF(D38>0,D35/(3600*D38),0) -> 0 | H39: =IF(H38>0,H35/(3600*H38),0) -> 0
B40: Channel Flow 1
B41: Length (ft)=
B42: Slope (ft/ft)=
B43: Cross Sectional Flow Area (ft2)=
B44: Wetted Perimeter (ft)=
B45: Channel Lining:
B46: n-value= | D46: =IF(D45="Asphalt",$G$151,IF(D45="Concrete, finished",$G$152,IF(D45="Concrete, unfinished",$G$153,IF(D45="Grass",$G$154,IF(D45="Gravel Bottom/riprap sides",$G$155,IF(D45="Weeds",$G$156,"")))))) | H46: =IF(H45="Asphalt",$G$151,IF(H45="Concrete, finished",$G$152,IF(H45="Concrete, unfinished",$G$153,IF(H45="Grass",$G$154,IF(H45="Gravel Bottom/riprap sides",$G$155,IF(H45="Weeds",$G$156,"")))))) | L46: See Open Channel Flow
B47: Hydraulic Radius (ft)= | D47: =IF(ISERROR(D43/D44),0,D43/D44) -> 0 | H47: =IF(ISERROR(H43/H44),0,H43/H44) -> 0
B48: Average Velocity (ft/sec)= | D48: =IF(D44>0,(1.49*(D47^(2/3))*(D42^0.5))/D46,0) -> 0 | H48: =IF(H44>0,(1.49*(H47^(2/3))*(H42^0.5))/H46,0) -> 0
B49: Tt (hrs)= | D49: =IF(D44>0,D41/(3600*D48),0) -> 0 | H49: =IF(H44>0,H41/(3600*H48),0) -> 0
B50: Channel Flow 2
B51: Length (ft)=
B52: Slope (ft/ft)=
B53: Cross Sectional Flow Area (ft2)=
B54: Wetted Perimeter (ft)=
B55: Channel Lining:
B56: n-value= | D56: =IF(D55="Asphalt",$G$151,IF(D55="Concrete, finished",$G$152,IF(D55="Concrete, unfinished",$G$153,IF(D55="Grass",$G$154,IF(D55="Gravel Bottom/riprap sides",$G$155,IF(D55="Weeds",$G$156,"")))))) | H56: =IF(H55="Asphalt",$G$151,IF(H55="Concrete, finished",$G$152,IF(H55="Concrete, unfinished",$G$153,IF(H55="Grass",$G$154,IF(H55="Gravel Bottom/riprap sides",$G$155,IF(H55="Weeds",$G$156,"")))))) | L56: See Open Channel Flow
B57: Hydraulic Radius (ft)= | D57: =IF(ISERROR(D53/D54),0,D53/D54) -> 0 | H57: =IF(ISERROR(H53/H54),0,H53/H54) -> 0
B58: Average Velocity (ft/sec)= | D58: =IF(D54>0,(1.49*(D57^(2/3))*(D52^0.5))/D56,0) -> 0 | H58: =IF(H54>0,(1.49*(H57^(2/3))*(H52^0.5))/H56,0) -> 0
B59: Tt (hrs)= | D59: =IF(D54>0,D51/(3600*D58),0) -> 0 | H59: =IF(H54>0,H51/(3600*H58),0) -> 0
B60: Channel Flow 3
B61: Length (ft)=
B62: Slope (ft/ft)=
B63: Cross Sectional Flow Area (ft2)=
B64: Wetted Perimeter (ft)=
B65: Channel Lining:
B66: n-value= | D66: =IF(D65="Asphalt",$G$151,IF(D65="Concrete, finished",$G$152,IF(D65="Concrete, unfinished",$G$153,IF(D65="Grass",$G$154,IF(D65="Gravel Bottom/riprap sides",$G$155,IF(D65="Weeds",$G$156,"")))))) | H66: =IF(H65="Asphalt",$G$151,IF(H65="Concrete, finished",$G$152,IF(H65="Concrete, unfinished",$G$153,IF(H65="Grass",$G$154,IF(H65="Gravel Bottom/riprap sides",$G$155,IF(H65="Weeds",$G$156,"")))))) | L66: See Open Channel Flow
B67: Hydraulic Radius (ft)= | D67: =IF(ISERROR(D63/D64),0,D63/D64) -> 0 | H67: =IF(ISERROR(H63/H64),0,H63/H64) -> 0
B68: Average Velocity (ft/sec)= | D68: =IF(D64>0,(1.49*(D67^(2/3))*(D62^0.5))/D66,0) -> 0 | H68: =IF(H64>0,(1.49*(H67^(2/3))*(H62^0.5))/H66,0) -> 0
B69: Tt (hrs)= | D69: =IF(D64>0,D61/(3600*D68),0) -> 0 | H69: =IF(H64>0,H61/(3600*H68),0) -> 0
B70: Tc (hrs)= | D70: =D69+D59+D49+D39+D33 -> 0 | H70: =H69+H59+H49+H39+H33 -> 0 | L70: See Tc
B71: RESULTS | D71: PRE-DEVELOPMENT | H71: POST-DEVELOPMENT
B72: Ia value = | D72: =C122*0.2 -> #DIV/0! | H72: =C130*0.2 -> #DIV/0!
B73: Ia /P= | D73: =D72/$D$11 -> #DIV/0! | H73: =H72/$D$11 -> #DIV/0!
B74: Composite Curve Number= | D74: =$G$109 -> #DIV/0! | H74: =$H$109 -> #DIV/0! | L74: See Weighted Curve Number
B75: Disconnected Impervious Adjustment
B76: Disconnected impervious area (acre) = | D76: =SUM($H$26:$K$26) -> 0 | L76: See Disconnected Impervious Calculation
B77: CNadjusted (1-year)= | D77: =IF(D76>0,$C$188,H74) -> #DIV/0!
B78: High Density Only
B79: Runoff (inches) = Q*High= | D79: =IF(ISERROR(C170),"",(C170)) -> 0 | L79: See Discrete Runoff Method
B80: Volume of runoff from 1" rainfall for DA HIGH DENSITY REQUIREMENT = (ft3) = | D80: =IF(ISERROR($K$175),"",($K$175)) | L80: See Discrete Runoff Method
B81: 1-year, 24-hour storm (Peak Flow)
B82: Runoff (inches) = Q*1-year= | D82: =IF(D72>'SITE DATA'!$F$26,0,C123) -> #DIV/0! | H82: =IF(H72>'SITE DATA'!$F$26,0,C131) -> #DIV/0! | L82: See SCS Runoff Method
B83: Volume of runoff (ft3) = | D83: =ROUND(IF(ISERROR((D82/12)*(D10*43560)),"",((D82/12)*(D10*43560))),0) -> #VALUE! | H83: =ROUND(IF(ISERROR((H82/12)*(H10*43560)),0,((H82/12)*(H10*43560))),0) -> 0
B84: Volume change (ft3) = | D84: =IF(ISERROR(H83-D83),"",(H83-D83))
B85: Peak Discharge (cfs)= Q1-year= | D85: =H127 -> #DIV/0! | H85: =H135 -> #DIV/0! | L85: See Peak Flow Calculations
B86: 2-year, 24-hour storm (LID)
B87: Runoff (inches) = Q*2-year= | D87: =IF($D$72>'SITE DATA'!$F$27,0,C124) -> #DIV/0! | H87: =IF($H$72>'SITE DATA'!$F$27,0,C132) -> #DIV/0! | L87: See SCS Runoff Method
B88: Volume of runoff (ft3) = | D88: =(D87/12)*($D$10*43560) -> #DIV/0! | H88: =(H87/12)*(H10*43560) -> #DIV/0!
B89: Peak Discharge (cfs)= Q2-year= | D89: =H128 -> #DIV/0! | H89: =H136 -> #DIV/0! | L89: See Peak Flow Calculations
B90: 10-year, 24-hour storm (DIA)
B91: Runoff (inches) = Q*10-year= | D91: =IF($D$72>'SITE DATA'!F28,0,C125) -> #DIV/0! | H91: =IF($H$72>'SITE DATA'!F28,0,C133) -> #DIV/0! | L91: See SCS Runoff Method
B92: Volume of runoff (ft3) = | D92: =(D91/12)*($D$10*43560) -> #DIV/0! | H92: =(H91/12)*($D$10*43560) -> #DIV/0!
B93: Peak Discharge (cfs)= Q10-year= | D93: =H129 -> #DIV/0! | H93: =H137 -> #DIV/0!
D94: =IF($H$93>$D$93,"Post-development peak flow exceeds pre-development peak flow for this DA!","") -> #DIV/0!
B96: TO BE HIDDEN
B98: WEIGHTED CURVE NUMBER
B99: LAND USE | C99: A | D99: B | E99: C | F99: D | G99: pre_ALL HSG | H99: post_ALL HSG | I99: Post_ High Density Only
B100: Pasture | C100: 39 | D100: 61 | E100: 74 | F100: 80 | G100: =(C100*D17)+(D100*E17)+(E100*F17)+(F100*G17) -> 0 | H100: =($C$100*$H$17)+($D$100*$I$17)+($E$100*$J$17)+($F$100*$K$17) -> 0 | I100: =($C$100*$H$17)+($D$100*$I$17)+($E$100*$J$17)+($F$100*$K$17) -> 0
B101: Woods, Poor Condition1 | C101: 45 | D101: 66 | E101: 77 | F101: 83 | G101: =(C101*D18)+(D101*E18)+(E101*F18)+(F101*G18) -> 0 | H101: =($C$101*$H$18)+($D$101*$I$18)+($E$101*$J$18)+($F$101*$K$18) -> 0 | I101: =($C$101*$H$18)+($D$101*$I$18)+($E$101*$J$18)+($F$101*$K$18) -> 0
B102: Woods, Fair Condition2 | C102: 36 | D102: 60 | E102: 73 | F102: 79 | G102: =(C102*D19)+(D102*E19)+(E102*F19)+(F102*G19) -> 0 | H102: =($C$102*$H$19)+($D$102*$I$19)+($E$102*$J$19)+($F$102*$K$19) -> 0 | I102: =($C$102*$H$19)+($D$102*$I$19)+($E$102*$J$19)+($F$102*$K$19) -> 0
B103: Woods, Good Condition3 | C103: 30 | D103: 55 | E103: 70 | F103: 77 | G103: =(C103*D20)+(D103*E20)+(E103*F20)+(F103*G20) -> 0 | H103: =($C$103*$H$20)+($D$103*$I$20)+($E$103*$J$20)+($F$103*$K$20) -> 0 | I103: =($C$103*$H$20)+($D$103*$I$20)+($E$103*$J$20)+($F$103*$K$20) -> 0
B104: Open Space, Poor Condition4 | C104: 68 | D104: 79 | E104: 86 | F104: 89 | G104: =(C104*D21)+(D104*E21)+(E104*F21)+(F104*G21) -> 0 | H104: =($C$104*$H$21)+($D$104*$I$21)+($E$104*$J$21)+($F$104*$K$21) -> 0 | I104: =($C$104*$H$21)+($D$104*$I$21)+($E$104*$J$21)+($F$104*$K$21) -> 0
B105: Open Space, Fair Condition5 | C105: 49 | D105: 69 | E105: 79 | F105: 84 | G105: =(C105*D22)+(D105*E22)+(E105*F22)+(F105*G22) -> 0 | H105: =($C$105*$H$22)+($D$105*$I$22)+($E$105*$J$22)+($F$105*$K$22) -> 0 | I105: =($C$105*$H$22)+($D$105*$I$22)+($E$105*$J$22)+($F$105*$K$22) -> 0
B106: Open Space, Good Condition6 | C106: 39 | D106: 61 | E106: 74 | F106: 80 | G106: =(C106*D23)+(D106*E23)+(E106*F23)+(F106*G23) -> 0 | H106: =($C$106*$H$23)+($D$106*$I$23)+($E$106*$J$23)+($F$106*$K$23) -> 0 | I106: =($C$106*$H$23)+($D$106*$I$23)+($E$106*$J$23)+($F$106*$K$23) -> 0
...

Sheet DA8
B1: Project Name: | E1: ='SITE DATA'!F9 -> 0
B3: DRAINAGE AREA 8
B4: STORMWATER PRE-POST CALCULATIONS
B8: LAND USE & SITE DATA | D8: PRE-DEVELOPMENT | H8: POST-DEVELOPMENT | L8: LINKS/COMMENTS
B9: Drainage Area (Acres)= | L9: Note: Includes offsite drainage
B10: Site Acreage within Drainage=
B11: One-year, 24-hour rainfall (in)= | D11: ='SITE DATA'!$F$26 -> 0
B12: Two-year, 24-hour rainfall (in)= | D12: ='SITE DATA'!$F$27 -> 0 | L12: From Site Data
B13: Ten-year, 24-hour storm (in)= | D13: ='SITE DATA'!$F$28 -> 0
B14: Total Lake/Pond Area (Acres)=
B15: Lake/Pond Area not in the Tc flow path (Acres)=
B16: Site Land Use (acres): | D16: A | E16: B | F16: C | G16: D | H16: A | I16: B | J16: C | K16: D | L16: See Weighted Curve Number
B17: Pasture
B18: Woods, Poor Condition
B19: Woods, Fair Condition
B20: Woods, Good Condition
B21: Open Space, Poor Condition
B22: Open Space, Fair condition
B23: Open Space, Good Condition
B24: Reforestation (in dedicated OS)
B25: Connected Impervious
B26: Disconnected Impervious | L26: =IF(OR(SUM($H$17:$K$26)>$H$10,SUM($H$17:$K$26)<$H$10),"LAND USE MUST MATCH SITE ACREAGE","")
B27: SITE FLOW | D27: PRE-DEVELOPMENT Tc | H27: POST-DEVELOPMENT Tc
B28: Sheet Flow
B29: Length (ft)=
B30: Slope (ft/ft)= | L30: See Sheet Flow Calculations
B31: Surface Cover:
B32: n-value= | D32: =IF(D31=$B$143,$G$143,IF(D31=$B$144,$G$144,IF(D31=$B$145,$G$145,""))) | H32: =IF(H31=$B$143,$G$143,IF(H31=$B$144,$G$144,IF(H31=$B$145,$G$145,"")))
B33: Tt (hrs)= | D33: =IF(D29>0,(0.007*(D32*D29)^0.8)/(($D$11^0.5)*(D30^0.4)),0) -> 0 | H33: =IF(H29>0,(0.007*(H32*H29)^0.8)/(($D$11^0.5)*(H30^0.4)),0) -> 0
B34: Shallow Flow
B35: Length (ft)=
B36: Slope (ft/ft)=
B37: Surface Cover:
B38: Average Velocity (ft/sec)= | D38: =IF(D37="Unpaved",16.1345*D36^0.5,IF(D37="Paved",20.32828*D36^0.5,0)) -> 0 | H38: =IF(H37="Unpaved",16.1345*H36^0.5,IF(H37="Paved",20.32828*H36^0.5,0)) -> 0 | L38: See Shallow Flow Calculations
B39: Tt (hrs)= | D39: =IF(D38>0,D35/(3600*D38),0) -> 0 | H39: =IF(H38>0,H35/(3600*H38),0) -> 0
B40: Channel Flow 1
B41: Length (ft)=
B42: Slope (ft/ft)=
B43: Cross Sectional Flow Area (ft2)=
B44: Wetted Perimeter (ft)=
B45: Channel Lining:
B46: n-value= | D46: =IF(D45="Asphalt",$G$151,IF(D45="Concrete, finished",$G$152,IF(D45="Concrete, unfinished",$G$153,IF(D45="Grass",$G$154,IF(D45="Gravel Bottom/riprap sides",$G$155,IF(D45="Weeds",$G$156,"")))))) | H46: =IF(H45="Asphalt",$G$151,IF(H45="Concrete, finished",$G$152,IF(H45="Concrete, unfinished",$G$153,IF(H45="Grass",$G$154,IF(H45="Gravel Bottom/riprap sides",$G$155,IF(H45="Weeds",$G$156,"")))))) | L46: See Open Channel Flow
B47: Hydraulic Radius (ft)= | D47: =IF(ISERROR(D43/D44),0,D43/D44) -> 0 | H47: =IF(ISERROR(H43/H44),0,H43/H44) -> 0
B48: Average Velocity (ft/sec)= | D48: =IF(D44>0,(1.49*(D47^(2/3))*(D42^0.5))/D46,0) -> 0 | H48: =IF(H44>0,(1.49*(H47^(2/3))*(H42^0.5))/H46,0) -> 0
B49: Tt (hrs)= | D49: =IF(D44>0,D41/(3600*D48),0) -> 0 | H49: =IF(H44>0,H41/(3600*H48),0) -> 0
B50: Channel Flow 2
B51: Length (ft)=
B52: Slope (ft/ft)=
B53: Cross Sectional Flow Area (ft2)=
B54: Wetted Perimeter (ft)=
B55: Channel Lining:
B56: n-value= | D56: =IF(D55="Asphalt",$G$151,IF(D55="Concrete, finished",$G$152,IF(D55="Concrete, unfinished",$G$153,IF(D55="Grass",$G$154,IF(D55="Gravel Bottom/riprap sides",$G$155,IF(D55="Weeds",$G$156,"")))))) | H56: =IF(H55="Asphalt",$G$151,IF(H55="Concrete, finished",$G$152,IF(H55="Concrete, unfinished",$G$153,IF(H55="Grass",$G$154,IF(H55="Gravel Bottom/riprap sides",$G$155,IF(H55="Weeds",$G$156,"")))))) | L56: See Open Channel Flow
B57: Hydraulic Radius (ft)= | D57: =IF(ISERROR(D53/D54),0,D53/D54) -> 0 | H57: =IF(ISERROR(H53/H54),0,H53/H54) -> 0
B58: Average Velocity (ft/sec)= | D58: =IF(D54>0,(1.49*(D57^(2/3))*(D52^0.5))/D56,0) -> 0 | H58: =IF(H54>0,(1.49*(H57^(2/3))*(H52^0.5))/H56,0) -> 0
B59: Tt (hrs)= | D59: =IF(D54>0,D51/(3600*D58),0) -> 0 | H59: =IF(H54>0,H51/(3600*H58),0) -> 0
B60: Channel Flow 3
B61: Length (ft)=
B62: Slope (ft/ft)=
B63: Cross Sectional Flow Area (ft2)=
B64: Wetted Perimeter (ft)=
B65: Channel Lining:
B66: n-value= | D66: =IF(D65="Asphalt",$G$151,IF(D65="Concrete, finished",$G$152,IF(D65="Concrete, unfinished",$G$153,IF(D65="Grass",$G$154,IF(D65="Gravel Bottom/riprap sides",$G$155,IF(D65="Weeds",$G$156,"")))))) | H66: =IF(H65="Asphalt",$G$151,IF(H65="Concrete, finished",$G$152,IF(H65="Concrete, unfinished",$G$153,IF(H65="Grass",$G$154,IF(H65="Gravel Bottom/riprap sides",$G$155,IF(H65="Weeds",$G$156,"")))))) | L66: See Open Channel Flow
B67: Hydraulic Radius (ft)= | D67: =IF(ISERROR(D63/D64),0,D63/D64) -> 0 | H67: =IF(ISERROR(H63/H64),0,H63/H64) -> 0
B68: Average Velocity (ft/sec)= | D68: =IF(D64>0,(1.49*(D67^(2/3))*(D62^0.5))/D66,0) -> 0 | H68: =IF(H64>0,(1.49*(H67^(2/3))*(H62^0.5))/H66,0) -> 0
B69: Tt (hrs)= | D69: =IF(D64>0,D61/(3600*D68),0) -> 0 | H69: =IF(H64>0,H61/(3600*H68),0) -> 0
B70: Tc (hrs)= | D70: =D69+D59+D49+D39+D33 -> 0 | H70: =H69+H59+H49+H39+H33 -> 0 | L70: See Tc
B71: RESULTS | D71: PRE-DEVELOPMENT | H71: POST-DEVELOPMENT
B72: Ia value = | D72: =C122*0.2 -> #DIV/0! | H72: =C130*0.2 -> #DIV/0!
B73: Ia /P= | D73: =D72/$D$11 -> #DIV/0! | H73: =H72/$D$11 -> #DIV/0!
B74: Composite Curve Number= | D74: =$G$109 -> #DIV/0! | H74: =$H$109 -> #DIV/0! | L74: See Weighted Curve Number
B75: Disconnected Impervious Adjustment
B76: Disconnected impervious area (acre) = | D76: =SUM($H$26:$K$26) -> 0 | L76: See Disconnected Impervious Calculation
B77: CNadjusted (1-year)= | D77: =IF(D76>0,$C$188,H74) -> #DIV/0!
B78: High Density Only
B79: Runoff (inches) = Q*High= | D79: =IF(ISERROR(C170),"",(C170)) -> 0 | L79: See Discrete Runoff Method
B80: Volume of runoff from 1" rainfall for DA HIGH DENSITY REQUIREMENT = (ft3) = | D80: =IF(ISERROR($K$175),"",($K$175)) | L80: See Discrete Runoff Method
B81: 1-year, 24-hour storm (Peak Flow)
B82: Runoff (inches) = Q*1-year= | D82: =IF(D72>'SITE DATA'!$F$26,0,C123) -> #DIV/0! | H82: =IF(H72>'SITE DATA'!$F$26,0,C131) -> #DIV/0! | L82: See SCS Runoff Method
B83: Volume of runoff (ft3) = | D83: =ROUND(IF(ISERROR((D82/12)*(D10*43560)),"",((D82/12)*(D10*43560))),0) -> #VALUE! | H83: =ROUND(IF(ISERROR((H82/12)*(H10*43560)),0,((H82/12)*(H10*43560))),0) -> 0
B84: Volume change (ft3) = | D84: =IF(ISERROR(H83-D83),"",(H83-D83))
B85: Peak Discharge (cfs)= Q1-year= | D85: =H127 -> #DIV/0! | H85: =H135 -> #DIV/0! | L85: See Peak Flow Calculations
B86: 2-year, 24-hour storm (LID)
B87: Runoff (inches) = Q*2-year= | D87: =IF($D$72>'SITE DATA'!$F$27,0,C124) -> #DIV/0! | H87: =IF($H$72>'SITE DATA'!$F$27,0,C132) -> #DIV/0! | L87: See SCS Runoff Method
B88: Volume of runoff (ft3) = | D88: =(D87/12)*($D$10*43560) -> #DIV/0! | H88: =(H87/12)*(H10*43560) -> #DIV/0!
B89: Peak Discharge (cfs)= Q2-year= | D89: =H128 -> #DIV/0! | H89: =H136 -> #DIV/0! | L89: See Peak Flow Calculations
B90: 10-year, 24-hour storm (DIA)
B91: Runoff (inches) = Q*10-year= | D91: =IF($D$72>'SITE DATA'!F28,0,C125) -> #DIV/0! | H91: =IF($H$72>'SITE DATA'!F28,0,C133) -> #DIV/0! | L91: See SCS Runoff Method
B92: Volume of runoff (ft3) = | D92: =(D91/12)*($D$10*43560) -> #DIV/0! | H92: =(H91/12)*($D$10*43560) -> #DIV/0!
B93: Peak Discharge (cfs)= Q10-year= | D93: =H129 -> #DIV/0! | H93: =H137 -> #DIV/0!
D94: =IF($H$93>$D$93,"Post-development peak flow exceeds pre-development peak flow for this DA!","") -> #DIV/0!
B96: TO BE HIDDEN
B98: WEIGHTED CURVE NUMBER
B99: LAND USE | C99: A | D99: B | E99: C | F99: D | G99: pre_ALL HSG | H99: post_ALL HSG | I99: Post_ High Density Only
B100: Pasture | C100: 39 | D100: 61 | E100: 74 | F100: 80 | G100: =(C100*D17)+(D100*E17)+(E100*F17)+(F100*G17) -> 0 | H100: =($C$100*$H$17)+($D$100*$I$17)+($E$100*$J$17)+($F$100*$K$17) -> 0 | I100: =($C$100*$H$17)+($D$100*$I$17)+($E$100*$J$17)+($F$100*$K$17) -> 0
B101: Woods, Poor Condition1 | C101: 45 | D101: 66 | E101: 77 | F101: 83 | G101: =(C101*D18)+(D101*E18)+(E101*F18)+(F101*G18) -> 0 | H101: =($C$101*$H$18)+($D$101*$I$18)+($E$101*$J$18)+($F$101*$K$18) -> 0 | I101: =($C$101*$H$18)+($D$101*$I$18)+($E$101*$J$18)+($F$101*$K$18) -> 0
B102: Woods, Fair Condition2 | C102: 36 | D102: 60 | E102: 73 | F102: 79 | G102: =(C102*D19)+(D102*E19)+(E102*F19)+(F102*G19) -> 0 | H102: =($C$102*$H$19)+($D$102*$I$19)+($E$102*$J$19)+($F$102*$K$19) -> 0 | I102: =($C$102*$H$19)+($D$102*$I$19)+($E$102*$J$19)+($F$102*$K$19) -> 0
B103: Woods, Good Condition3 | C103: 30 | D103: 55 | E103: 70 | F103: 77 | G103: =(C103*D20)+(D103*E20)+(E103*F20)+(F103*G20) -> 0 | H103: =($C$103*$H$20)+($D$103*$I$20)+($E$103*$J$20)+($F$103*$K$20) -> 0 | I103: =($C$103*$H$20)+($D$103*$I$20)+($E$103*$J$20)+($F$103*$K$20) -> 0
B104: Open Space, Poor Condition4 | C104: 68 | D104: 79 | E104: 86 | F104: 89 | G104: =(C104*D21)+(D104*E21)+(E104*F21)+(F104*G21) -> 0 | H104: =($C$104*$H$21)+($D$104*$I$21)+($E$104*$J$21)+($F$104*$K$21) -> 0 | I104: =($C$104*$H$21)+($D$104*$I$21)+($E$104*$J$21)+($F$104*$K$21) -> 0
B105: Open Space, Fair Condition5 | C105: 49 | D105: 69 | E105: 79 | F105: 84 | G105: =(C105*D22)+(D105*E22)+(E105*F22)+(F105*G22) -> 0 | H105: =($C$105*$H$22)+($D$105*$I$22)+($E$105*$J$22)+($F$105*$K$22) -> 0 | I105: =($C$105*$H$22)+($D$105*$I$22)+($E$105*$J$22)+($F$105*$K$22) -> 0
B106: Open Space, Good Condition6 | C106: 39 | D106: 61 | E106: 74 | F106: 80 | G106: =(C106*D23)+(D106*E23)+(E106*F23)+(F106*G23) -> 0 | H106: =($C$106*$H$23)+($D$106*$I$23)+($E$106*$J$23)+($F$106*$K$23) -> 0 | I106: =($C$106*$H$23)+($D$106*$I$23)+($E$106*$J$23)+($F$106*$K$23) -> 0
...

Sheet DA9
B1: Project Name: | E1: ='SITE DATA'!F9 -> 0
B3: DRAINAGE AREA 9
B4: STORMWATER PRE-POST CALCULATIONS
B8: LAND USE & SITE DATA | D8: PRE-DEVELOPMENT | H8: POST-DEVELOPMENT | L8: LINKS/COMMENTS
B9: Drainage Area (Acres)= | L9: Note: Includes offsite drainage
B10: Site Acreage within Drainage=
B11: One-year, 24-hour rainfall (in)= | D11: ='SITE DATA'!$F$26 -> 0
B12: Two-year, 24-hour rainfall (in)= | D12: ='SITE DATA'!$F$27 -> 0 | L12: From Site Data
B13: Ten-year, 24-hour storm (in)= | D13: ='SITE DATA'!$F$28 -> 0
B14: Total Lake/Pond Area (Acres)=
B15: Lake/Pond Area not in the Tc flow path (Acres)=
B16: Site Land Use (acres): | D16: A | E16: B | F16: C | G16: D | H16: A | I16: B | J16: C | K16: D | L16: See Weighted Curve Number
B17: Pasture
B18: Woods, Poor Condition
B19: Woods, Fair Condition
B20: Woods, Good Condition
B21: Open Space, Poor Condition
B22: Open Space, Fair condition
B23: Open Space, Good Condition
B24: Reforestation (in dedicated OS)
B25: Connected Impervious
B26: Disconnected Impervious | L26: =IF(OR(SUM($H$17:$K$26)>$H$10,SUM($H$17:$K$26)<$H$10),"LAND USE MUST MATCH SITE ACREAGE","")
B27: SITE FLOW | D27: PRE-DEVELOPMENT Tc | H27: POST-DEVELOPMENT Tc
B28: Sheet Flow
B29: Length (ft)=
B30: Slope (ft/ft)= | L30: See Sheet Flow Calculations
B31: Surface Cover:
B32: n-value= | D32: =IF(D31=$B$143,$G$143,IF(D31=$B$144,$G$144,IF(D31=$B$145,$G$145,""))) | H32: =IF(H31=$B$143,$G$143,IF(H31=$B$144,$G$144,IF(H31=$B$145,$G$145,"")))
B33: Tt (hrs)= | D33: =IF(D29>0,(0.007*(D32*D29)^0.8)/(($D$11^0.5)*(D30^0.4)),0) -> 0 | H33: =IF(H29>0,(0.007*(H32*H29)^0.8)/(($D$11^0.5)*(H30^0.4)),0) -> 0
B34: Shallow Flow
B35: Length (ft)=
B36: Slope (ft/ft)=
B37: Surface Cover:
B38: Average Velocity (ft/sec)= | D38: =IF(D37="Unpaved",16.1345*D36^0.5,IF(D37="Paved",20.32828*D36^0.5,0)) -> 0 | H38: =IF(H37="Unpaved",16.1345*H36^0.5,IF(H37="Paved",20.32828*H36^0.5,0)) -> 0 | L38: See Shallow Flow Calculations
B39: Tt (hrs)= | D39: =IF(D38>0,D35/(3600*D38),0) -> 0 | H39: =IF(H38>0,H35/(3600*H38),0) -> 0
B40: Channel Flow 1
B41: Length (ft)=
B42: Slope (ft/ft)=
B43: Cross Sectional Flow Area (ft2)=
B44: Wetted Perimeter (ft)=
B45: Channel Lining:
B46: n-value= | D46: =IF(D45="Asphalt",$G$151,IF(D45="Concrete, finished",$G$152,IF(D45="Concrete, unfinished",$G$153,IF(D45="Grass",$G$154,IF(D45="Gravel Bottom/riprap sides",$G$155,IF(D45="Weeds",$G$156,"")))))) | H46: =IF(H45="Asphalt",$G$151,IF(H45="Concrete, finished",$G$152,IF(H45="Concrete, unfinished",$G$153,IF(H45="Grass",$G$154,IF(H45="Gravel Bottom/riprap sides",$G$155,IF(H45="Weeds",$G$156,"")))))) | L46: See Open Channel Flow
B47: Hydraulic Radius (ft)= | D47: =IF(ISERROR(D43/D44),0,D43/D44) -> 0 | H47: =IF(ISERROR(H43/H44),0,H43/H44) -> 0
B48: Average Velocity (ft/sec)= | D48: =IF(D44>0,(1.49*(D47^(2/3))*(D42^0.5))/D46,0) -> 0 | H48: =IF(H44>0,(1.49*(H47^(2/3))*(H42^0.5))/H46,0) -> 0
B49: Tt (hrs)= | D49: =IF(D44>0,D41/(3600*D48),0) -> 0 | H49: =IF(H44>0,H41/(3600*H48),0) -> 0
B50: Channel Flow 2
B51: Length (ft)=
B52: Slope (ft/ft)=
B53: Cross Sectional Flow Area (ft2)=
B54: Wetted Perimeter (ft)=
B55: Channel Lining:
B56: n-value= | D56: =IF(D55="Asphalt",$G$151,IF(D55="Concrete, finished",$G$152,IF(D55="Concrete, unfinished",$G$153,IF(D55="Grass",$G$154,IF(D55="Gravel Bottom/riprap sides",$G$155,IF(D55="Weeds",$G$156,"")))))) | H56: =IF(H55="Asphalt",$G$151,IF(H55="Concrete, finished",$G$152,IF(H55="Concrete, unfinished",$G$153,IF(H55="Grass",$G$154,IF(H55="Gravel Bottom/riprap sides",$G$155,IF(H55="Weeds",$G$156,"")))))) | L56: See Open Channel Flow
B57: Hydraulic Radius (ft)= | D57: =IF(ISERROR(D53/D54),0,D53/D54) -> 0 | H57: =IF(ISERROR(H53/H54),0,H53/H54) -> 0
B58: Average Velocity (ft/sec)= | D58: =IF(D54>0,(1.49*(D57^(2/3))*(D52^0.5))/D56,0) -> 0 | H58: =IF(H54>0,(1.49*(H57^(2/3))*(H52^0.5))/H56,0) -> 0
B59: Tt (hrs)= | D59: =IF(D54>0,D51/(3600*D58),0) -> 0 | H59: =IF(H54>0,H51/(3600*H58),0) -> 0
B60: Channel Flow 3
B61: Length (ft)=
B62: Slope (ft/ft)=
B63: Cross Sectional Flow Area (ft2)=
B64: Wetted Perimeter (ft)=
B65: Channel Lining:
B66: n-value= | D66: =IF(D65="Asphalt",$G$151,IF(D65="Concrete, finished",$G$152,IF(D65="Concrete, unfinished",$G$153,IF(D65="Grass",$G$154,IF(D65="Gravel Bottom/riprap sides",$G$155,IF(D65="Weeds",$G$156,"")))))) | H66: =IF(H65="Asphalt",$G$151,IF(H65="Concrete, finished",$G$152,IF(H65="Concrete, unfinished",$G$153,IF(H65="Grass",$G$154,IF(H65="Gravel Bottom/riprap sides",$G$155,IF(H65="Weeds",$G$156,"")))))) | L66: See Open Channel Flow
B67: Hydraulic Radius (ft)= | D67: =IF(ISERROR(D63/D64),0,D63/D64) -> 0 | H67: =IF(ISERROR(H63/H64),0,H63/H64) -> 0
B68: Average Velocity (ft/sec)= | D68: =IF(D64>0,(1.49*(D67^(2/3))*(D62^0.5))/D66,0) -> 0 | H68: =IF(H64>0,(1.49*(H67^(2/3))*(H62^0.5))/H66,0) -> 0
B69: Tt (hrs)= | D69: =IF(D64>0,D61/(3600*D68),0) -> 0 | H69: =IF(H64>0,H61/(3600*H68),0) -> 0
B70: Tc (hrs)= | D70: =D69+D59+D49+D39+D33 -> 0 | H70: =H69+H59+H49+H39+H33 -> 0 | L70: See Tc
B71: RESULTS | D71: PRE-DEVELOPMENT | H71: POST-DEVELOPMENT
B72: Ia value = | D72: =C122*0.2 -> #DIV/0! | H72: =C130*0.2 -> #DIV/0!
B73: Ia /P= | D73: =D72/$D$11 -> #DIV/0! | H73: =H72/$D$11 -> #DIV/0!
B74: Composite Curve Number= | D74: =$G$109 -> #DIV/0! | H74: =$H$109 -> #DIV/0! | L74: See Weighted Curve Number
B75: Disconnected Impervious Adjustment
B76: Disconnected impervious area (acre) = | D76: =SUM($H$26:$K$26) -> 0 | L76: See Disconnected Impervious Calculation
B77: CNadjusted (1-year)= | D77: =IF(D76>0,$C$188,H74) -> #DIV/0!
B78: High Density Only
B79: Runoff (inches) = Q*High= | D79: =IF(ISERROR(C170),"",(C170)) -> 0 | L79: See Discrete Runoff Method
B80: Volume of runoff from 1" rainfall for DA HIGH DENSITY REQUIREMENT = (ft3) = | D80: =IF(ISERROR($K$175),"",($K$175)) | L80: See Discrete Runoff Method
B81: 1-year, 24-hour storm (Peak Flow)
B82: Runoff (inches) = Q*1-year= | D82: =IF(D72>'SITE DATA'!$F$26,0,C123) -> #DIV/0! | H82: =IF(H72>'SITE DATA'!$F$26,0,C131) -> #DIV/0! | L82: See SCS Runoff Method
B83: Volume of runoff (ft3) = | D83: =ROUND(IF(ISERROR((D82/12)*(D10*43560)),"",((D82/12)*(D10*43560))),0) -> #VALUE! | H83: =ROUND(IF(ISERROR((H82/12)*(H10*43560)),0,((H82/12)*(H10*43560))),0) -> 0
B84: Volume change (ft3) = | D84: =IF(ISERROR(H83-D83),"",(H83-D83))
B85: Peak Discharge (cfs)= Q1-year= | D85: =H127 -> #DIV/0! | H85: =H135 -> #DIV/0! | L85: See Peak Flow Calculations
B86: 2-year, 24-hour storm (LID)
B87: Runoff (inches) = Q*2-year= | D87: =IF($D$72>'SITE DATA'!$F$27,0,C124) -> #DIV/0! | H87: =IF($H$72>'SITE DATA'!$F$27,0,C132) -> #DIV/0! | L87: See SCS Runoff Method
B88: Volume of runoff (ft3) = | D88: =(D87/12)*($D$10*43560) -> #DIV/0! | H88: =(H87/12)*(H10*43560) -> #DIV/0!
B89: Peak Discharge (cfs)= Q2-year= | D89: =H128 -> #DIV/0! | H89: =H136 -> #DIV/0! | L89: See Peak Flow Calculations
B90: 10-year, 24-hour storm (DIA)
B91: Runoff (inches) = Q*10-year= | D91: =IF($D$72>'SITE DATA'!F28,0,C125) -> #DIV/0! | H91: =IF($H$72>'SITE DATA'!F28,0,C133) -> #DIV/0! | L91: See SCS Runoff Method
B92: Volume of runoff (ft3) = | D92: =(D91/12)*($D$10*43560) -> #DIV/0! | H92: =(H91/12)*($D$10*43560) -> #DIV/0!
B93: Peak Discharge (cfs)= Q10-year= | D93: =H129 -> #DIV/0! | H93: =H137 -> #DIV/0!
D94: =IF($H$93>$D$93,"Post-development peak flow exceeds pre-development peak flow for this DA!","") -> #DIV/0!
B96: TO BE HIDDEN
B98: WEIGHTED CURVE NUMBER
B99: LAND USE | C99: A | D99: B | E99: C | F99: D | G99: pre_ALL HSG | H99: post_ALL HSG | I99: Post_ High Density Only
B100: Pasture | C100: 39 | D100: 61 | E100: 74 | F100: 80 | G100: =(C100*D17)+(D100*E17)+(E100*F17)+(F100*G17) -> 0 | H100: =($C$100*$H$17)+($D$100*$I$17)+($E$100*$J$17)+($F$100*$K$17) -> 0 | I100: =($C$100*$H$17)+($D$100*$I$17)+($E$100*$J$17)+($F$100*$K$17) -> 0
B101: Woods, Poor Condition1 | C101: 45 | D101: 66 | E101: 77 | F101: 83 | G101: =(C101*D18)+(D101*E18)+(E101*F18)+(F101*G18) -> 0 | H101: =($C$101*$H$18)+($D$101*$I$18)+($E$101*$J$18)+($F$101*$K$18) -> 0 | I101: =($C$101*$H$18)+($D$101*$I$18)+($E$101*$J$18)+($F$101*$K$18) -> 0
B102: Woods, Fair Condition2 | C102: 36 | D102: 60 | E102: 73 | F102: 79 | G102: =(C102*D19)+(D102*E19)+(E102*F19)+(F102*G19) -> 0 | H102: =($C$102*$H$19)+($D$102*$I$19)+($E$102*$J$19)+($F$102*$K$19) -> 0 | I102: =($C$102*$H$19)+($D$102*$I$19)+($E$102*$J$19)+($F$102*$K$19) -> 0
B103: Woods, Good Condition3 | C103: 30 | D103: 55 | E103: 70 | F103: 77 | G103: =(C103*D20)+(D103*E20)+(E103*F20)+(F103*G20) -> 0 | H103: =($C$103*$H$20)+($D$103*$I$20)+($E$103*$J$20)+($F$103*$K$20) -> 0 | I103: =($C$103*$H$20)+($D$103*$I$20)+($E$103*$J$20)+($F$103*$K$20) -> 0
B104: Open Space, Poor Condition4 | C104: 68 | D104: 79 | E104: 86 | F104: 89 | G104: =(C104*D21)+(D104*E21)+(E104*F21)+(F104*G21) -> 0 | H104: =($C$104*$H$21)+($D$104*$I$21)+($E$104*$J$21)+($F$104*$K$21) -> 0 | I104: =($C$104*$H$21)+($D$104*$I$21)+($E$104*$J$21)+($F$104*$K$21) -> 0
B105: Open Space, Fair Condition5 | C105: 49 | D105: 69 | E105: 79 | F105: 84 | G105: =(C105*D22)+(D105*E22)+(E105*F22)+(F105*G22) -> 0 | H105: =($C$105*$H$22)+($D$105*$I$22)+($E$105*$J$22)+($F$105*$K$22) -> 0 | I105: =($C$105*$H$22)+($D$105*$I$22)+($E$105*$J$22)+($F$105*$K$22) -> 0
B106: Open Space, Good Condition6 | C106: 39 | D106: 61 | E106: 74 | F106: 80 | G106: =(C106*D23)+(D106*E23)+(E106*F23)+(F106*G23) -> 0 | H106: =($C$106*$H$23)+($D$106*$I$23)+($E$106*$J$23)+($F$106*$K$23) -> 0 | I106: =($C$106*$H$23)+($D$106*$I$23)+($E$106*$J$23)+($F$106*$K$23) -> 0
...

Sheet DA10
B1: Project Name: | E1: ='SITE DATA'!F9 -> 0
B3: DRAINAGE AREA 10
B4: STORMWATER PRE-POST CALCULATIONS
B8: LAND USE & SITE DATA | D8: PRE-DEVELOPMENT | H8: POST-DEVELOPMENT | L8: LINKS/COMMENTS
B9: Drainage Area (Acres)= | L9: Note: Includes offsite drainage
B10: Site Acreage within Drainage=
B11: One-year, 24-hour rainfall (in)= | D11: ='SITE DATA'!$F$26 -> 0
B12: Two-year, 24-hour rainfall (in)= | D12: ='SITE DATA'!$F$27 -> 0 | L12: From Site Data
B13: Ten-year, 24-hour storm (in)= | D13: ='SITE DATA'!$F$28 -> 0
B14: Total Lake/Pond Area (Acres)=
B15: Lake/Pond Area not in the Tc flow path (Acres)=
B16: Site Land Use (acres): | D16: A | E16: B | F16: C | G16: D | H16: A | I16: B | J16: C | K16: D | L16: See Weighted Curve Number
B17: Pasture
B18: Woods, Poor Condition
B19: Woods, Fair Condition
B20: Woods, Good Condition
B21: Open Space, Poor Condition
B22: Open Space, Fair condition
B23: Open Space, Good Condition
B24: Reforestation (in dedicated OS)
B25: Connected Impervious
B26: Disconnected Impervious | L26: =IF(OR(SUM($H$17:$K$26)>$H$10,SUM($H$17:$K$26)<$H$10),"LAND USE MUST MATCH SITE ACREAGE","")
B27: SITE FLOW | D27: PRE-DEVELOPMENT Tc | H27: POST-DEVELOPMENT Tc
B28: Sheet Flow
B29: Length (ft)=
B30: Slope (ft/ft)= | L30: See Sheet Flow Calculations
B31: Surface Cover:
B32: n-value= | D32: =IF(D31=$B$143,$G$143,IF(D31=$B$144,$G$144,IF(D31=$B$145,$G$145,""))) | H32: =IF(H31=$B$143,$G$143,IF(H31=$B$144,$G$144,IF(H31=$B$145,$G$145,"")))
B33: Tt (hrs)= | D33: =IF(D29>0,(0.007*(D32*D29)^0.8)/(($D$11^0.5)*(D30^0.4)),0) -> 0 | H33: =IF(H29>0,(0.007*(H32*H29)^0.8)/(($D$11^0.5)*(H30^0.4)),0) -> 0
B34: Shallow Flow
B35: Length (ft)=
B36: Slope (ft/ft)=
B37: Surface Cover:
B38: Average Velocity (ft/sec)= | D38: =IF(D37="Unpaved",16.1345*D36^0.5,IF(D37="Paved",20.32828*D36^0.5,0)) -> 0 | H38: =IF(H37="Unpaved",16.1345*H36^0.5,IF(H37="Paved",20.32828*H36^0.5,0)) -> 0 | L38: See Shallow Flow Calculations
B39: Tt (hrs)= | D39: =IF(D38>0,D35/(3600*D38),0) -> 0 | H39: =IF(H38>0,H35/(3600*H38),0) -> 0
B40: Channel Flow 1
B41: Length (ft)=
B42: Slope (ft/ft)=
B43: Cross Sectional Flow Area (ft2)=
B44: Wetted Perimeter (ft)=
B45: Channel Lining:
B46: n-value= | D46: =IF(D45="Asphalt",$G$151,IF(D45="Concrete, finished",$G$152,IF(D45="Concrete, unfinished",$G$153,IF(D45="Grass",$G$154,IF(D45="Gravel Bottom/riprap sides",$G$155,IF(D45="Weeds",$G$156,"")))))) | H46: =IF(H45="Asphalt",$G$151,IF(H45="Concrete, finished",$G$152,IF(H45="Concrete, unfinished",$G$153,IF(H45="Grass",$G$154,IF(H45="Gravel Bottom/riprap sides",$G$155,IF(H45="Weeds",$G$156,"")))))) | L46: See Open Channel Flow
B47: Hydraulic Radius (ft)= | D47: =IF(ISERROR(D43/D44),0,D43/D44) -> 0 | H47: =IF(ISERROR(H43/H44),0,H43/H44) -> 0
B48: Average Velocity (ft/sec)= | D48: =IF(D44>0,(1.49*(D47^(2/3))*(D42^0.5))/D46,0) -> 0 | H48: =IF(H44>0,(1.49*(H47^(2/3))*(H42^0.5))/H46,0) -> 0
B49: Tt (hrs)= | D49: =IF(D44>0,D41/(3600*D48),0) -> 0 | H49: =IF(H44>0,H41/(3600*H48),0) -> 0
B50: Channel Flow 2
B51: Length (ft)=
B52: Slope (ft/ft)=
B53: Cross Sectional Flow Area (ft2)=
B54: Wetted Perimeter (ft)=
B55: Channel Lining:
B56: n-value= | D56: =IF(D55="Asphalt",$G$151,IF(D55="Concrete, finished",$G$152,IF(D55="Concrete, unfinished",$G$153,IF(D55="Grass",$G$154,IF(D55="Gravel Bottom/riprap sides",$G$155,IF(D55="Weeds",$G$156,"")))))) | H56: =IF(H55="Asphalt",$G$151,IF(H55="Concrete, finished",$G$152,IF(H55="Concrete, unfinished",$G$153,IF(H55="Grass",$G$154,IF(H55="Gravel Bottom/riprap sides",$G$155,IF(H55="Weeds",$G$156,"")))))) | L56: See Open Channel Flow
B57: Hydraulic Radius (ft)= | D57: =IF(ISERROR(D53/D54),0,D53/D54) -> 0 | H57: =IF(ISERROR(H53/H54),0,H53/H54) -> 0
B58: Average Velocity (ft/sec)= | D58: =IF(D54>0,(1.49*(D57^(2/3))*(D52^0.5))/D56,0) -> 0 | H58: =IF(H54>0,(1.49*(H57^(2/3))*(H52^0.5))/H56,0) -> 0
B59: Tt (hrs)= | D59: =IF(D54>0,D51/(3600*D58),0) -> 0 | H59: =IF(H54>0,H51/(3600*H58),0) -> 0
B60: Channel Flow 3
B61: Length (ft)=
B62: Slope (ft/ft)=
B63: Cross Sectional Flow Area (ft2)=
B64: Wetted Perimeter (ft)=
B65: Channel Lining:
B66: n-value= | D66: =IF(D65="Asphalt",$G$151,IF(D65="Concrete, finished",$G$152,IF(D65="Concrete, unfinished",$G$153,IF(D65="Grass",$G$154,IF(D65="Gravel Bottom/riprap sides",$G$155,IF(D65="Weeds",$G$156,"")))))) | H66: =IF(H65="Asphalt",$G$151,IF(H65="Concrete, finished",$G$152,IF(H65="Concrete, unfinished",$G$153,IF(H65="Grass",$G$154,IF(H65="Gravel Bottom/riprap sides",$G$155,IF(H65="Weeds",$G$156,"")))))) | L66: See Open Channel Flow
B67: Hydraulic Radius (ft)= | D67: =IF(ISERROR(D63/D64),0,D63/D64) -> 0 | H67: =IF(ISERROR(H63/H64),0,H63/H64) -> 0
B68: Average Velocity (ft/sec)= | D68: =IF(D64>0,(1.49*(D67^(2/3))*(D62^0.5))/D66,0) -> 0 | H68: =IF(H64>0,(1.49*(H67^(2/3))*(H62^0.5))/H66,0) -> 0
B69: Tt (hrs)= | D69: =IF(D64>0,D61/(3600*D68),0) -> 0 | H69: =IF(H64>0,H61/(3600*H68),0) -> 0
B70: Tc (hrs)= | D70: =D69+D59+D49+D39+D33 -> 0 | H70: =H69+H59+H49+H39+H33 -> 0 | L70: See Tc
B71: RESULTS | D71: PRE-DEVELOPMENT | H71: POST-DEVELOPMENT
B72: Ia value = | D72: =C122*0.2 -> #DIV/0! | H72: =C130*0.2 -> #DIV/0!
B73: Ia /P= | D73: =D72/$D$11 -> #DIV/0! | H73: =H72/$D$11 -> #DIV/0!
B74: Composite Curve Number= | D74: =$G$109 -> #DIV/0! | H74: =$H$109 -> #DIV/0! | L74: See Weighted Curve Number
B75: Disconnected Impervious Adjustment
B76: Disconnected impervious area (acre) = | D76: =SUM($H$26:$K$26) -> 0 | L76: See Disconnected Impervious Calculation
B77: CNadjusted (1-year)= | D77: =IF(D76>0,$C$188,H74) -> #DIV/0!
B78: High Density Only
B79: Runoff (inches) = Q*High= | D79: =IF(ISERROR(C170),"",(C170)) -> 0 | L79: See Discrete Runoff Method
B80: Volume of runoff from 1" rainfall for DA HIGH DENSITY REQUIREMENT = (ft3) = | D80: =IF(ISERROR($K$175),"",($K$175)) | L80: See Discrete Runoff Method
B81: 1-year, 24-hour storm (Peak Flow)
B82: Runoff (inches) = Q*1-year= | D82: =IF(D72>'SITE DATA'!$F$26,0,C123) -> #DIV/0! | H82: =IF(H72>'SITE DATA'!$F$26,0,C131) -> #DIV/0! | L82: See SCS Runoff Method
B83: Volume of runoff (ft3) = | D83: =ROUND(IF(ISERROR((D82/12)*(D10*43560)),"",((D82/12)*(D10*43560))),0) -> #VALUE! | H83: =ROUND(IF(ISERROR((H82/12)*(H10*43560)),0,((H82/12)*(H10*43560))),0) -> 0
B84: Volume change (ft3) = | D84: =IF(ISERROR(H83-D83),"",(H83-D83))
B85: Peak Discharge (cfs)= Q1-year= | D85: =H127 -> #DIV/0! | H85: =H135 -> #DIV/0! | L85: See Peak Flow Calculations
B86: 2-year, 24-hour storm (LID)
B87: Runoff (inches) = Q*2-year= | D87: =IF($D$72>'SITE DATA'!$F$27,0,C124) -> #DIV/0! | H87: =IF($H$72>'SITE DATA'!$F$27,0,C132) -> #DIV/0! | L87: See SCS Runoff Method
B88: Volume of runoff (ft3) = | D88: =(D87/12)*($D$10*43560) -> #DIV/0! | H88: =(H87/12)*(H10*43560) -> #DIV/0!
B89: Peak Discharge (cfs)= Q2-year= | D89: =H128 -> #DIV/0! | H89: =H136 -> #DIV/0! | L89: See Peak Flow Calculations
B90: 10-year, 24-hour storm (DIA)
B91: Runoff (inches) = Q*10-year= | D91: =IF($D$72>'SITE DATA'!F28,0,C125) -> #DIV/0! | H91: =IF($H$72>'SITE DATA'!F28,0,C133) -> #DIV/0! | L91: See SCS Runoff Method
B92: Volume of runoff (ft3) = | D92: =(D91/12)*($D$10*43560) -> #DIV/0! | H92: =(H91/12)*($D$10*43560) -> #DIV/0!
B93: Peak Discharge (cfs)= Q10-year= | D93: =H129 -> #DIV/0! | H93: =H137 -> #DIV/0!
D94: =IF($H$93>$D$93,"Post-development peak flow exceeds pre-development peak flow for this DA!","") -> #DIV/0!
B96: TO BE HIDDEN
B98: WEIGHTED CURVE NUMBER
B99: LAND USE | C99: A | D99: B | E99: C | F99: D | G99: pre_ALL HSG | H99: post_ALL HSG | I99: Post_ High Density Only
B100: Pasture | C100: 39 | D100: 61 | E100: 74 | F100: 80 | G100: =(C100*D17)+(D100*E17)+(E100*F17)+(F100*G17) -> 0 | H100: =($C$100*$H$17)+($D$100*$I$17)+($E$100*$J$17)+($F$100*$K$17) -> 0 | I100: =($C$100*$H$17)+($D$100*$I$17)+($E$100*$J$17)+($F$100*$K$17) -> 0
B101: Woods, Poor Condition1 | C101: 45 | D101: 66 | E101: 77 | F101: 83 | G101: =(C101*D18)+(D101*E18)+(E101*F18)+(F101*G18) -> 0 | H101: =($C$101*$H$18)+($D$101*$I$18)+($E$101*$J$18)+($F$101*$K$18) -> 0 | I101: =($C$101*$H$18)+($D$101*$I$18)+($E$101*$J$18)+($F$101*$K$18) -> 0
B102: Woods, Fair Condition2 | C102: 36 | D102: 60 | E102: 73 | F102: 79 | G102: =(C102*D19)+(D102*E19)+(E102*F19)+(F102*G19) -> 0 | H102: =($C$102*$H$19)+($D$102*$I$19)+($E$102*$J$19)+($F$102*$K$19) -> 0 | I102: =($C$102*$H$19)+($D$102*$I$19)+($E$102*$J$19)+($F$102*$K$19) -> 0
B103: Woods, Good Condition3 | C103: 30 | D103: 55 | E103: 70 | F103: 77 | G103: =(C103*D20)+(D103*E20)+(E103*F20)+(F103*G20) -> 0 | H103: =($C$103*$H$20)+($D$103*$I$20)+($E$103*$J$20)+($F$103*$K$20) -> 0 | I103: =($C$103*$H$20)+($D$103*$I$20)+($E$103*$J$20)+($F$103*$K$20) -> 0
B104: Open Space, Poor Condition4 | C104: 68 | D104: 79 | E104: 86 | F104: 89 | G104: =(C104*D21)+(D104*E21)+(E104*F21)+(F104*G21) -> 0 | H104: =($C$104*$H$21)+($D$104*$I$21)+($E$104*$J$21)+($F$104*$K$21) -> 0 | I104: =($C$104*$H$21)+($D$104*$I$21)+($E$104*$J$21)+($F$104*$K$21) -> 0
B105: Open Space, Fair Condition5 | C105: 49 | D105: 69 | E105: 79 | F105: 84 | G105: =(C105*D22)+(D105*E22)+(E105*F22)+(F105*G22) -> 0 | H105: =($C$105*$H$22)+($D$105*$I$22)+($E$105*$J$22)+($F$105*$K$22) -> 0 | I105: =($C$105*$H$22)+($D$105*$I$22)+($E$105*$J$22)+($F$105*$K$22) -> 0
B106: Open Space, Good Condition6 | C106: 39 | D106: 61 | E106: 74 | F106: 80 | G106: =(C106*D23)+(D106*E23)+(E106*F23)+(F106*G23) -> 0 | H106: =($C$106*$H$23)+($D$106*$I$23)+($E$106*$J$23)+($F$106*$K$23) -> 0 | I106: =($C$106*$H$23)+($D$106*$I$23)+($E$106*$J$23)+($F$106*$K$23) -> 0
...

Sheet SITE SUMMARY
B1: Project Name: | F1: ='SITE DATA'!F9 -> 0
B4: DA SITE SUMMARY
B5: STORMWATER PRE-POST CALCULATIONS
B8: SITE SUMMARY | M8: LINKS/COMMENTS
B9: DRAINAGE AREA SUMMARIES
B10: DRAINAGE AREA: | C10: DA1 | D10: DA2 | E10: DA3 | F10: DA4 | G10: DA5 | H10: DA6 | I10: DA7 | J10: DA8 | K10: DA9 | L10: DA10
B11: Pre-Development (1-year, 24-hour storm)
B12: Pre-Development CN = | C12: =IF(ISERROR('DA1'!$D$74),"0",'DA1'!$D$74) -> 0 | D12: =IF(ISERROR('DA2'!$D$74),"0",'DA2'!$D$74) -> 0 | E12: =IF(ISERROR('DA3'!$D$74),"0",'DA3'!$D$74) -> 0 | F12: =IF(ISERROR('DA4'!$D$74),"0",'DA4'!$D$74) -> 0 | G12: =IF(ISERROR('DA5'!$D$74),"0",'DA5'!$D$74) -> 0 | H12: =IF(ISERROR('DA6'!$D$74),"0",'DA6'!$D$74) -> 0 | I12: =IF(ISERROR('DA7'!$D$74),"0",'DA7'!$D$74) -> 0 | J12: =IF(ISERROR('DA8'!$D$74),"0",'DA8'!$D$74) -> 0 | K12: =IF(ISERROR('DA9'!$D$74),"0",'DA9'!$D$74) -> 0 | L12: =IF(ISERROR('DA10'!$D$74),"0",'DA10'!$D$74) -> 0 | M12: to hide
B13: Site Acreage = | C13: ='DA1'!$D$10 | D13: ='DA2'!$D$10 | E13: ='DA3'!$D$10 | F13: ='DA4'!$D$10 -> 0 | G13: ='DA5'!$D$10 -> 0 | H13: ='DA6'!$D$10 -> 0 | I13: ='DA7'!$D$10 -> 0 | J13: ='DA8'!$D$10 -> 0 | K13: ='DA9'!$D$10 -> 0 | L13: ='DA10'!$D$10 -> 0 | M13: to hide
B14: Runoff (in) = Qpre,1-year = | C14: =IF(ISERROR('DA1'!$D$82),"",'DA1'!$D$82) | D14: =IF(ISERROR('DA2'!$D$82),"",'DA2'!$D$82) | E14: =IF(ISERROR('DA3'!$D$82),"",'DA3'!$D$82) | F14: =IF(ISERROR('DA4'!$D$82),"",'DA4'!$D$82) | G14: =IF(ISERROR('DA5'!$D$82),"",'DA5'!$D$82) | H14: =IF(ISERROR('DA6'!$D$82),"",'DA6'!$D$82) | I14: =IF(ISERROR('DA7'!$D$82),"",'DA7'!$D$82) | J14: =IF(ISERROR('DA8'!$D$82),"",'DA8'!$D$82) | K14: =IF(ISERROR('DA9'!$D$82),"",'DA9'!$D$82) | L14: =IF(ISERROR('DA10'!$D$82),"",'DA10'!$D$82)
B15: Peak Flow (cfs)=Q1-year = | C15: =IF(ISERROR('DA1'!$D$85),"",'DA1'!$D$85) | D15: =IF(ISERROR('DA2'!$D$85),"",'DA2'!$D$85) | E15: =IF(ISERROR('DA3'!$D$85),"",'DA3'!$D$85) | F15: =IF(ISERROR('DA4'!$D$85),"",'DA4'!$D$85) | G15: =IF(ISERROR('DA5'!$D$85),"",'DA5'!$D$85) | H15: =IF(ISERROR('DA6'!$D$85),"",'DA6'!$D$85) | I15: =IF(ISERROR('DA7'!$D$85),"",'DA7'!$D$85) | J15: =IF(ISERROR('DA8'!$D$85),"",'DA8'!$D$85) | K15: =IF(ISERROR('DA9'!$D$85),"",'DA9'!$D$85) | L15: =IF(ISERROR('DA10'!$D$85),"",'DA10'!$D$85)
B16: Post-Development (1-year, 24-hour storm)
B17: Proposed Impervious Surface (acre) = | C17: =IF(SUM('DA1'!$H$10)>0,SUM('DA1'!$H$25:$K$26),"") | D17: =IF(SUM('DA2'!$H$10)>0,SUM('DA2'!$H$25:$K$26),"") | E17: =IF(SUM('DA3'!$H$10)>0,SUM('DA3'!$H$25:$K$26),"") | F17: =IF(SUM('DA4'!$H$10)>0,SUM('DA4'!$H$25:$K$26),"") | G17: =IF(SUM('DA5'!$H$10)>0,SUM('DA5'!$H$25:$K$26),"") | H17: =IF(SUM('DA6'!$H$10)>0,SUM('DA6'!$H$25:$K$26),"") | I17: =IF(SUM('DA7'!$H$10)>0,SUM('DA7'!$H$25:$K$26),"") | J17: =IF(SUM('DA8'!$H$10)>0,SUM('DA8'!$H$25:$K$26),"") | K17: =IF(SUM('DA9'!$H$10)>0,SUM('DA9'!$H$25:$K$26),"") | L17: =IF(SUM('DA10'!$H$10)>0,SUM('DA10'!$H$25:$K$26),"")
B18: Existing Lake/Pond Area (Acres)= | C18: =IF(ISERROR('DA1'!$H$14),"-",'DA1'!$H$14) | D18: =IF(ISERROR('DA2'!$H$14),"-",'DA2'!$H$14) | E18: =IF(ISERROR('DA3'!$H$14),"-",'DA3'!$H$14) | F18: =IF(ISERROR('DA4'!$H$14),"-",'DA4'!$H$14) -> 0 | G18: =IF(ISERROR('DA5'!$H$14),"-",'DA5'!$H$14) -> 0 | H18: =IF(ISERROR('DA6'!$H$14),"-",'DA6'!$H$14) -> 0 | I18: =IF(ISERROR('DA7'!$H$14),"-",'DA7'!$H$14) -> 0 | J18: =IF(ISERROR('DA8'!$H$14),"-",'DA8'!$H$14) -> 0 | K18: =IF(ISERROR('DA9'!$H$14),"-",'DA9'!$H$14) -> 0 | L18: =IF(ISERROR('DA10'!$H$14),"-",'DA10'!$H$14) -> 0 | M18: to hide
B19: Post-Development CN = | C19: =IF(ISERROR('DA1'!$D$77),"0",'DA1'!$D$77) -> 0 | D19: =IF(ISERROR('DA2'!$D$77),"0",'DA2'!$D$77) -> 0 | E19: =IF(ISERROR('DA3'!$D$77),"0",'DA3'!$D$77) -> 0 | F19: =IF(ISERROR('DA4'!$D$77),"0",'DA4'!$D$77) -> 0 | G19: =IF(ISERROR('DA5'!$D$77),"0",'DA5'!$D$77) -> 0 | H19: =IF(ISERROR('DA6'!$D$77),"0",'DA6'!$D$77) -> 0 | I19: =IF(ISERROR('DA7'!$D$77),"0",'DA7'!$D$77) -> 0 | J19: =IF(ISERROR('DA8'!$D$77),"0",'DA8'!$D$77) -> 0 | K19: =IF(ISERROR('DA9'!$D$77),"0",'DA9'!$D$77) -> 0 | L19: =IF(ISERROR('DA10'!$D$77),"0",'DA10'!$D$77) -> 0 | M19: to hide
B20: Site Acreage = | C20: =IF(ISERROR('DA1'!$H$10),"0",'DA1'!$H$10) | D20: =IF(ISERROR('DA2'!$H$10),"0",'DA2'!$H$10) | E20: =IF(ISERROR('DA3'!$H$10),"0",'DA3'!$H$10) | F20: =IF(ISERROR('DA4'!$H$10),"0",'DA4'!$H$10) -> 0 | G20: =IF(ISERROR('DA5'!$H$10),"0",'DA5'!$H$10) -> 0 | H20: =IF(ISERROR('DA6'!$H$10),"0",'DA6'!$H$10) -> 0 | I20: =IF(ISERROR('DA7'!$H$10),"0",'DA7'!$H$10) -> 0 | J20: =IF(ISERROR('DA8'!$H$10),"0",'DA8'!$H$10) -> 0 | K20: =IF(ISERROR('DA9'!$H$10),"0",'DA9'!$H$10) -> 0 | L20: =IF(ISERROR('DA10'!$H$10),"0",'DA10'!$H$10) -> 0 | M20: to hide
B21: Runoff (in)=Q1-year = | C21: =IF(ISERROR('DA1'!$H$82),"",'DA1'!$H$82) | D21: =IF(ISERROR('DA2'!$H$82),"",'DA2'!$H$82) | E21: =IF(ISERROR('DA3'!$H$82),"",'DA3'!$H$82) | F21: =IF(ISERROR('DA4'!$H$82),"",'DA4'!$H$82) | G21: =IF(ISERROR('DA5'!$H$82),"",'DA5'!$H$82) | H21: =IF(ISERROR('DA6'!$H$82),"",'DA6'!$H$82) | I21: =IF(ISERROR('DA7'!$H$82),"",'DA7'!$H$82) | J21: =IF(ISERROR('DA8'!$H$82),"",'DA8'!$H$82) | K21: =IF(ISERROR('DA9'!$H$82),"",'DA9'!$H$82) | L21: =IF(ISERROR('DA10'!$H$82),"",'DA10'!$H$82)
B22: Peak Flow (cfs)=Q1-year = | C22: =IF(ISERROR('DA1'!$H$85),"",'DA1'!$H$85) | D22: =IF(ISERROR('DA2'!$H$85),"",'DA2'!$H$85) | E22: =IF(ISERROR('DA3'!$H$85),"",'DA3'!$H$85) | F22: =IF(ISERROR('DA4'!$H$85),"",'DA4'!$H$85) | G22: =IF(ISERROR('DA5'!$H$85),"",'DA5'!$H$85) | H22: =IF(ISERROR('DA6'!$H$85),"",'DA6'!$H$85) | I22: =IF(ISERROR('DA7'!$H$85),"",'DA7'!$H$85) | J22: =IF(ISERROR('DA8'!$H$85),"",'DA8'!$H$85) | K22: =IF(ISERROR('DA9'!$H$85),"",'DA9'!$H$85) | L22: =IF(ISERROR('DA10'!$H$85),"",'DA10'!$H$85)
B23: Increase in volume per DA (ft3)_1-yr storm= | C23: =IF(ISERROR('DA1'!$D$84),"",'DA1'!$D$84) | D23: =IF(ISERROR('DA2'!$D$84),"",'DA2'!$D$84) | E23: =IF(ISERROR('DA3'!$D$84),"",'DA3'!$D$84) | F23: =IF(ISERROR('DA4'!$D$84),"",'DA4'!$D$84) | G23: =IF(ISERROR('DA5'!$D$84),"",'DA5'!$D$84) | H23: =IF(ISERROR('DA6'!$D$84),"",'DA6'!$D$84) | I23: =IF(ISERROR('DA7'!$D$84),"",'DA7'!$D$84) | J23: =IF(ISERROR('DA8'!$D$84),"",'DA8'!$D$84) | K23: =IF(ISERROR('DA9'!$D$84),"",'DA9'!$D$84) | L23: =IF(ISERROR('DA10'!$D$84),"",'DA10'!$D$84)
B24: Minimum Volume to be Managed for DA HIGH DENSITY REQUIREMENT = (ft3) = | C24: =IF($G$35="High",('DA1'!$D$80),"NA") -> #DIV/0! | D24: =IF($G$35="High",('DA2'!$D$80),"NA") -> #DIV/0! | E24: =IF($G$35="High",('DA3'!$D$80),"NA") -> #DIV/0! | F24: =IF($G$35="High",('DA4'!$D$80),"NA") -> #DIV/0! | G24: =IF($G$35="High",('DA5'!$D$80),"NA") -> #DIV/0! | H24: =IF($G$35="High",('DA6'!$D$80),"NA") -> #DIV/0! | I24: =IF($G$35="High",('DA7'!$D$80),"NA") -> #DIV/0! | J24: =IF($G$35="High",('DA8'!$D$80),"NA") -> #DIV/0! | K24: =IF($G$35="High",('DA9'!$D$80),"NA") -> #DIV/0! | L24: =IF($G$35="High",('DA10'!$D$80),"NA") -> #DIV/0!
B25: TARGET CURVE NUMBER (TCN)
B26: Site Data
B27: SITE \SOIL COMPOSITION
B28: HYDROLOGIC SOIL GROUP | F28: Site Area | H28: % | J28: Target CN
B29: A | F29: =SUM('DA1:DA10'!$H$17:$H$26) -> 0 | H29: =IF(ISERROR(F29/$G$33),"",(F29/$G$33)) | J29: =IF($G$35="Ultra-Low",$E$95,IF($G$35="Low",$E$96,IF($G$35="High","N/A"))) -> #DIV/0! | M29: See Maximum Curve Number after Development
B30: B | F30: =SUM('DA1:DA10'!$I$17:$I$26) -> 0 | H30: =IF(ISERROR(F30/$G$33),"",(F30/$G$33)) | J30: =IF($G$35="Ultra-Low",$G$95,IF($G$35="Low",$G$96,IF($G$35="High","N/A"))) -> #DIV/0!
B31: C | F31: =SUM('DA1:DA10'!$J$17:$J$26) -> 0 | H31: =IF(ISERROR(F31/$G$33),"",(F31/$G$33)) | J31: =IF($G$35="Ultra-Low",$I$95,IF($G$35="Low",$I$96,IF($G$35="High","N/A"))) -> #DIV/0!
B32: D | F32: =SUM('DA1:DA10'!$K$17:$K$26) -> 0 | H32: =IF(ISERROR(F32/$G$33),"",(F32/$G$33)) | J32: =IF($G$35="Ultra-Low",$K$95,IF($G$35="Low",$K$96,IF($G$35="High","N/A"))) -> #DIV/0! | M32: =IF(SUM(F29:G32)>'SITE DATA'!F17,"DOES NOT MATCH SITE DATA INPUT","")
B33: Total Site Area (acres) = | G33: =SUM(F29:G32) -> 0 | M33: =IF($G$33>'SITE DATA'!F17,"DOES NOT MATCH, MODIFY SITE DATA SHEET","")
B34: Percent BUA (Includes Existing Lakes/Pond Areas) = | G34: =ROUND((SUM(C17:L17))/(G33+SUM(C18:L18)),2) -> #DIV/0! | M34: =IF($G$34>'SITE DATA'!F22,"DOES NOT MATCH, MODIFY SITE DATA SHEET","") -> #DIV/0!
B35: Project Density = | G35: =IF($G$34<=15%,"Ultra-Low",IF($G$34>=24%,"High","Low")) -> #DIV/0!
B36: Target Curve Number (TCN) = | G36: =IF($G$35="High","N/A",ROUND(($H$29*$J$29)+($H$30*$J$30)+($H$31*$J$31)+($H$32*$J$32),0)) -> #DIV/0! | M36: =IF(G36="N/A","Project is High Density, TCN Not Applicable","") -> #DIV/0!
B37: Qtarget (in) = | G37: =IF(ISERROR($C$80),"",($C$80)) | M37: See SCS Runoff Method
B38: Pre-Development CN = | G38: =ROUND((C12*C13+D12*D13+E12*E13+F12*F13+G12*G13+H12*H13+I12*I13+J12*J13+K12*K13+L12*L13)/$G$33,0) -> #VALUE!
B39: CNadjusted (1-year)= | G39: =ROUND((C19*C20+D19*D20+E19*E20+F19*F20+G19*G20+H19*H20+I19*I20+J19*J20+K19*K20+L19*L20)/G33,0) -> #VALUE!
B40: Minimum Volume to be Managed (Total Site) Per TCN Requirement= ft3 = | G40: =IF($G$39>$G$36,(($C$86-$C$80)/12)*$G$33*43560,"N/A") -> #VALUE! | H40: =IF(H39>H36,((H38-H37)/12)*H34*43560,"No Peak Flow Requirements") -> No Peak Flow Requirements | I40: =IF(I39>I36,((I38-I37)/12)*I34*43560,"No Peak Flow Requirements") -> No Peak Flow Requirements | J40: =IF(J39>J36,((J38-J37)/12)*J34*43560,"No Peak Flow Requirements") -> No Peak Flow Requirements | K40: =IF(K39>K36,((K38-K37)/12)*K34*43560,"No Peak Flow Requirements") -> No Peak Flow Requirements | L40: =IF(L39>L36,((L38-L37)/12)*L34*43560,"No Peak Flow Requirements") -> No Peak Flow Requirements | M40: =IF(G40="N/A","Project is High Density, TCN Not Applicable","") -> #VALUE!
B41: Site Nitrogen Loading Data
B42: HSG | D42: TN export coefficient (lbs/ac/yr) | G42: Site Acreage | J42: N Export
B43: Pasture | D43: 1.2 | G43: =SUM('DA1:DA10'!H17:K17) -> 0 | J43: =D43*G43 -> 0
B44: Woods, Poor Condition | D44: 1.6 | G44: =SUM('DA1:DA10'!H18:K18) -> 0 | J44: =D44*G44 -> 0
B45: Woods, Fair Condition | D45: 1.2 | G45: =SUM('DA1:DA10'!H19:K19) -> 0 | J45: =D45*G45 -> 0
B46: Woods, Good Condition | D46: 0.8 | G46: =SUM('DA1:DA10'!H20:K20) -> 0 | J46: =D46*G46 -> 0
B47: Open Space, Poor Condition | D47: 1 | G47: =SUM('DA1:DA10'!H21:K21) -> 0 | J47: =D47*G47 -> 0
B48: Open Space, Fair Condition | D48: 0.8 | G48: =SUM('DA1:DA10'!H22:K22) -> 0 | J48: =D48*G48 -> 0
B49: Open Space, Good Condition | D49: 0.6 | G49: =SUM('DA1:DA10'!H23:K23) -> 0 | J49: =D49*G49 -> 0
B50: Reforestation (in dedicated OS) | D50: 0.6 | G50: =SUM('DA1:DA10'!H24:K24) -> 0 | J50: =D50*G50 -> 0
B51: Impervious | D51: 21.2 | G51: =SUM('DA1:DA10'!H25:K26) -> 0 | J51: =D51*G51 -> 0
B52: SITE NITROGEN LOADING RATE (lbs/ac/yr)= | D52: =IF('SITE DATA'!F24="Yes","NA",SUM(J43:J51)/SUM(G43:G51)) -> #DIV/0!
B53: Nitrogen Load (lbs/yr)= | D53: =SUM(J43:L51) -> 0
B54: TOTAL SITE NITROGEN TO MITIGATE (lbs/yr)_Wendell Only= | D54: =IF('SITE DATA'!F24="Yes","NA",IF(D52<3.6,0,(D52-3.6)*SUM(G43:I51))) -> #DIV/0!
B55: Site Nitrogen Loading Data For Expansions Only
C56: Existing | H56: New
B57: Impervious(acres)= | C57: =IF('SITE DATA'!F24="No","NA",SUM('DA1:DA10'!D25:G26)) -> 0 | H57: =IF('SITE DATA'!F24="No","NA",SUM('DA1:DA10'!H25:K26)-C57) -> 0
B58: Percent of total Impervious= | C58: =C57/C59 -> #DIV/0! | H58: =H57/C59 -> #DIV/0!
B59: Total Impervious (acres)= | C59: =SUM(C57:L57) -> 0
B60: Total pervious area (acres)= | C60: =G33-C59 -> 0
B61: "Expansion Area" (acres=) | C61: =H57+(H58*C60) -> #DIV/0!
B62: Nitrogen Load (lbs/yr)= | C62: =IF('SITE DATA'!F24="No","NA",(C57*$D$51)+($G$43*C58*$D$43)+($G$44*C58*$D$44)+($G$45*C58*$D$45)+($G$46*C58*$D$46)+($G$47*C58*$D$47)+($G$48*C58*$D$48)+($G$49*C58*$D$49)+($G$50*C58*$D$50)) -> #DIV/0! | H62: =IF('SITE DATA'!F24="No","NA",(H57*$D$51)+($G$43*H58*$D$43)+($G$44*H58*$D$44)+($G$45*H58*$D$45)+($G$46*H58*$D$46)+($G$47*H58*$D$47)+($G$48*H58*$D$48)+($G$49*H58*$D$49)+($G$50*H58*$D$50)) -> #DIV/0!
B63: SITE NITROGEN LOADING RATE (lbs/ac/yr)= | C63: =IF('SITE DATA'!F24="No","NA",C62/(SUM(G43:I51))) -> #DIV/0! | H63: =IF('SITE DATA'!F24="No","NA",H62/(SUM(G43:I51))) -> #DIV/0!
B64: Total Site loading rate (lbs/ac/yr) | C64: =C63+H63 -> #DIV/0!
B65: TOTAL SITE NITROGEN TO MITIGATE (lbs/yr)= | C65: =IF('SITE DATA'!F24="No","NA",IF(C64<3.6,0,(C64-3.6)*C61)) -> #DIV/0!
B68: TO BE HIDDEN
B70: SCS RUNOFF METHOD | G70: Existing Site Nitrogen Loading Data
G71: HSG | I71: TN export coefficient (lbs/ac/yr) | L71: Site Acreage | O71: N Export
B72: Q*= Runoff (in) | G72: Pasture | I72: 1.2 | L72: =SUM('DA1:DA10'!C17:F17) -> 0 | O72: =I72*L72 -> 0
B73: Q= (P-.2S)2/(P+.8S) | G73: Woods, Poor Condition | I73: 1.6 | L73: =SUM('DA1:DA10'!C18:F18) -> 0 | O73: =I73*L73 -> 0
B74: P= Precipitation (in) | G74: Woods, Fair Condition | I74: 1.2 | L74: =SUM('DA1:DA10'!C19:F19) -> 0 | O74: =I74*L74 -> 0
B75: S= Potential max retention after runoff begins (in) | G75: Woods, Good Condition | I75: 0.8 | L75: =SUM('DA1:DA10'!C20:F20) -> 0 | O75: =I75*L75 -> 0
G76: Open Space, Poor Condition | I76: 1 | L76: =SUM('DA1:DA10'!C21:F21) -> 0 | O76: =I76*L76 -> 0
B77: TARGET RUNOFF 1-year | G77: Open Space, Fair Condition | I77: 0.8 | L77: =SUM('DA1:DA10'!C22:F22) -> 0 | O77: =I77*L77 -> 0
B78: S= | C78: (1000/CN)-10 | G78: Open Space, Good Condition | I78: 0.6 | L78: =SUM('DA1:DA10'!C23:F23) -> 0 | O78: =I78*L78 -> 0
B79: S= | C79: =(1000/$G$36)-10 -> #DIV/0! | G79: Reforestation (in dedicated OS) | I79: 0.6 | L79: =SUM('DA1:DA10'!C24:F24) -> 0 | O79: =I79*L79 -> 0
B80: Q*= | C80: =('SITE DATA'!$F$26-(0.2*C79))^2/('SITE DATA'!$F$26+(0.8*C79)) -> #DIV/0! | G80: Impervious | I80: 21.2 | L80: =SUM('DA1:DA10'!C25:F26) -> 0 | O80: =I80*L80 -> 0
B81: PRE-DEVELOPMENT 1-year | M81: =SUM(L72:N80) -> 0 | N81: total | O81: =SUM(O72:Q80)/$M$81 -> #DIV/0! | R81: loading rate
B82: S= | C82: =(1000/$G$38)-10 -> #VALUE!
B83: Q*= | C83: =('SITE DATA'!$F$26-(0.2*C82))^2/('SITE DATA'!$F$26+(0.8*C82)) -> #VALUE!
B84: POST-DEVELOPMENT 1-year
B85: S= | C85: =(1000/$G$39)-10 -> #VALUE!
B86: Q*= | C86: =('SITE DATA'!$F$26-(0.2*C85))^2/('SITE DATA'!$F$26+(0.8*C85)) -> #VALUE!
B93: MAXIMUM CURVE NUMBER AFTER DEVELOPMENT
B94: PROJECT DENSITY | E94: A | G94: B | I94: C | K94: D
B95: Ultra-Low | E95: 43 | G95: 63 | I95: 76 | K95: 81
B96: Low | E96: 48 | G96: 66 | I96: 78 | K96: 83
B97: High | E97: N/A | G97: N/A | I97: N/A | K97: N/A
B99: CLICK TO EDIT DA 1 | F99: CLICK TO EDIT DA 6
B100: CLICK TO EDIT DA 2 | F100: CLICK TO EDIT DA 7
B101: CLICK TO EDIT DA 3 | F101: CLICK TO EDIT DA 8
B102: CLICK TO EDIT DA 4 | F102: CLICK TO EDIT DA 9
B103: CLICK TO EDIT DA 5 | F103: CLICK TO EDIT DA 10
B104: CLICK TO ADD BMPs

Sheet DA1_BMPs
B1: Project Name: | F1: ='SITE DATA'!F9 -> 0
B3: DRAINAGE AREA 1
B4: BMP CALCULATIONS
B8: DRAINAGE AREA 1 - BMP DEVICES AND ADJUSTMENTS | N8: LINKS/COMMENTS
B9: DA1 Site Acreage= | C9: ='DA1'!H10
B10: DA1 Off-Site Acreage= | C10: ='DA1'!H9-'DA1'!H10 -> #VALUE!
B11: Total Required Storage Volume for Site TCN Requirement (ft3)= | C11: ='SITE SUMMARY'!G40 -> #VALUE! | N11: Storage Volume required based on project density classification.
B12: Total Required Storage Volume for DA1 1" Rainfall for High Density (ft3)= | C12: =IF('SITE SUMMARY'!G35="High",('DA1'!$D$80),0) -> #DIV/0! | D12: =IF($G$36="High",('DA1'!$D$80),"NA") -> NA | E12: =IF($G$36="High",('DA1'!$D$80),"NA") -> NA | F12: =IF($G$36="High",('DA1'!$D$80),"NA") -> NA | G12: =IF($G$36="High",('DA1'!$D$80),"NA") -> NA | H12: =IF($G$36="High",('DA1'!$D$80),"NA") -> NA | I12: =IF($G$36="High",('DA1'!$D$80),"NA") -> NA | J12: =IF($G$36="High",('DA1'!$D$80),"NA") -> NA | K12: =IF($G$36="High",('DA1'!$D$80),"NA") -> NA | ... M12: =IF($G$36="High",('DA1'!$D$80),"NA") -> NA
B13: Will site use underground detention/cistern? | C13: No | D13: Enter % of the year water will be reused= | G13: 0 | J13: Note: Supporting information/details should be submitted to demonstrate water usage. | N13: For cisterns, engineer shall input drainage area used for reuse in Sub-DA1(a) prior to entering further BMPs. Use of a cistern reduces total volume required for storage as well total nitrogen load. To receive total reduction, engineer must show year-round use of reclaimed water. Volume not reused may be treated by downstream BMP in another sub-DA.
B14: ENTER ACREAGE FOR ALL SUB-DRAINAGE AREAS IN DA
B15: HSG | D15: Sub-DA1(a) (Ac) | F15: Sub-DA1(b) (Ac) | H15: Sub-DA1(c) (Ac) | J15: Sub-DA1(d) (Ac) | L15: Sub-DA1(e) (Ac) | N15: Notes: DA is divided into sub-DAs to account for BMP watersheds and for remaining areas not managed by a BMP. BMPs in a series should be within the same sub-DA. Generally, subbasin data should be entered with the upstream subbasin completed first. Likewise, BMPs should be entered with the upstream BMP listed first (BMPs in a series assume constant storage volume).
D16: Site | E16: Off-site | F16: Site | G16: Off-site | H16: Site | I16: Off-site | J16: Site | K16: Off-site | L16: Site | M16: Off-site
B17: Pasture
B18: Woods, Poor Condition
B19: Woods, Fair Condition
B20: Woods, Good Condition
B21: Open Space, Poor Condition
B22: Open Space, Fair Condition
B23: Open Space, Good Condition
B24: Reforestation (in dedicated OS)
B25: Impervious | N25: =IF(SUM( D17:D25,F17:F25,H17:H25,J17:J25,L17:L25)=C9,"","DOES NOT MATCH SITE ACREAGES") -> DOES NOT MATCH SITE ACREAGES
B26: Total Acreage - To Hide | D26: =SUM(D17:D25) -> 0 | E26: =SUM(E17:E25) -> 0 | F26: =SUM(F17:F25) -> 0 | G26: =SUM(G17:G25) -> 0 | H26: =SUM(H17:H25) -> 0 | I26: =SUM(I17:I25) -> 0 | J26: =SUM(J17:J25) -> 0 | K26: =SUM(K17:K25) -> 0 | ... M26: =SUM(M17:M25) -> 0
B27: Sub-DA1(a) BMP(s)
B28: Device Name (As Shown on Plan) | C28: Device Type | D28: Water Quality Volume for Sub-DA (ft3) | G28: Provided Volume that will drawdown 2-5 days (ft3) | J28: Nitrogen Removal Efficiency | K28: Sub-DA Nitrogen (lbs) | L28: Nitrogen Removed (lbs) | M28: Drawdown Time (hours) | N28: Note: High density projects must use BMPs with 85% TSS removal (Bioretention, Stormwater Wetland, Wet Detention Pond, Sand Filter, and/or Infiltration Device).
D29: =IF('SITE SUMMARY'!$G$35="High",E151,"-") -> #DIV/0! | J29: =IF(ISERROR(VLOOKUP(C29,BMP,2,FALSE)),0,VLOOKUP(C29,BMP,2,FALSE)) -> 0 | K29: =IF(ISERROR($E$114),0,$E$114) -> 0 | L29: =IF(ISERROR(K29*J29),0,K29*J29) -> 0
J30: =IF(ISERROR(VLOOKUP(C30,BMP,2,FALSE)),0,VLOOKUP(C30,BMP,2,FALSE)) -> 0 | K30: =IF(ISERROR(K29-L29),0,K29-L29) -> 0 | L30: =IF(ISERROR(K30*J30),0,K30*J30) -> 0
J31: =IF(ISERROR(VLOOKUP(C31,BMP,2,FALSE)),0,VLOOKUP(C31,BMP,2,FALSE)) -> 0 | K31: =IF(ISERROR(K30-L30),0,K30-L30) -> 0 | L31: =IF(ISERROR(K31*J31),0,K31*J31) -> 0
J32: =IF(ISERROR(VLOOKUP(C32,BMP,2,FALSE)),0,VLOOKUP(C32,BMP,2,FALSE)) -> 0 | K32: =IF(ISERROR(K31-L31),0,K31-L31) -> 0 | L32: =IF(ISERROR(K32*J32),0,K32*J32) -> 0
J33: =IF(ISERROR(VLOOKUP(C33,BMP,2,FALSE)),0,VLOOKUP(C33,BMP,2,FALSE)) -> 0 | K33: =IF(ISERROR(K32-L32),0,K32-L32) -> 0 | L33: =IF(ISERROR(K33*J33),0,K33*J33) -> 0
B34: Total Nitrogen remaining leaving the subbasin (lbs): | D34: =IF(J33>0,K306-L33,IF(J32>0,K32-L32,IF(J31>0,K31-L31,IF(J30>0,K30-L30,K29-L29)))) -> 0
B35: Sub-DA1(b) BMP(s)
B36: If Sub-DA1(b) is connected to upstream subbasin(s), enter the nitrogen leaving the most upstream subbasin(lbs):
B37: If Sub-DA1(b) is connected to upstream subbasin(s), enter the volume leaving the upstream subbasin not previously treated (ft3):
B38: Device Name (As Shown on Plan) | C38: Device Type | D38: Water Quality Volume for Sub-DA (ft3) | G38: Provided Volume that will drawdown 2-5 days (ft3) | J38: Nitrogen Removal Efficiency | K38: Sub-DA Nitrogen (lbs) | L38: Nitrogen Removed (lbs) | M38: Drawdown Time (hours)
D39: =IF('SITE SUMMARY'!$G$35="High",E155,"-") -> #DIV/0! | J39: =IF(ISERROR(VLOOKUP(C39,BMP,2,FALSE)),0,VLOOKUP(C39,BMP,2,FALSE)) -> 0 | K39: =IF(ISERROR($F$114),D36,$F$114+D36) -> 0 | L39: =IF(ISERROR(K39*J39),0,K39*J39) -> 0
J40: =IF(ISERROR(VLOOKUP(C40,BMP,2,FALSE)),0,VLOOKUP(C40,BMP,2,FALSE)) -> 0 | K40: =IF(ISERROR(K39-L39),0,K39-L39) -> 0 | L40: =IF(ISERROR(K40*J40),0,K40*J40) -> 0
J41: =IF(ISERROR(VLOOKUP(C41,BMP,2,FALSE)),0,VLOOKUP(C41,BMP,2,FALSE)) -> 0 | K41: =IF(ISERROR(K40-L40),0,K40-L40) -> 0 | L41: =IF(ISERROR(K41*J41),0,K41*J41) -> 0
J42: =IF(ISERROR(VLOOKUP(C42,BMP,2,FALSE)),0,VLOOKUP(C42,BMP,2,FALSE)) -> 0 | K42: =IF(ISERROR(K41-L41),0,K41-L41) -> 0 | L42: =IF(ISERROR(K42*J42),0,K42*J42) -> 0
J43: =IF(ISERROR(VLOOKUP(C43,BMP,2,FALSE)),0,VLOOKUP(C43,BMP,2,FALSE)) -> 0 | K43: =IF(ISERROR(K42-L42),0,K42-L42) -> 0 | L43: =IF(ISERROR(K43*J43),0,K43*J43) -> 0
B44: Total Nitrogen remaining leaving the subbasin (lbs): | D44: =IF(J43>0,K43-L43,IF(J42>0,K42-L42,IF(J41>0,K41-L41,IF(J40>0,K40-L40,K39-L39)))) -> 0
B45: Sub-DA1 (c) BMP(s)
B46: If Sub-DA1(c) is connected to upstream subbasin(s), enter the nitrogen leaving the most upstream subbasin(lbs):
B47: If Sub-DA1(c) is connected to upstream subbasin(s), enter the volume leaving the upstream subbasin(lbs):
B48: Device Name (As Shown on Plan) | C48: Device Type | D48: Water Quality Volume for Sub-DA (ft3) | G48: Provided Volume that will drawdown 2-5 days (ft3) | J48: Nitrogen Removal Efficiency | K48: Sub-DA Nitrogen (lbs) | L48: Nitrogen Removed (lbs) | M48: Drawdown Time (hours)
D49: =IF('SITE SUMMARY'!$G$35="High",E159,"-") -> #DIV/0! | J49: =IF(ISERROR(VLOOKUP(C49,BMP,2,FALSE)),0,VLOOKUP(C49,BMP,2,FALSE)) -> 0 | K49: =IF(ISERROR($G$114),D46,$G$114+D46) -> 0 | L49: =IF(ISERROR(K49*J49),0,K49*J49) -> 0
J50: =IF(ISERROR(VLOOKUP(C50,BMP,2,FALSE)),0,VLOOKUP(C50,BMP,2,FALSE)) -> 0 | K50: =IF(ISERROR(K49-L49),0,K49-L49) -> 0 | L50: =IF(ISERROR(K50*J50),0,K50*J50) -> 0
J51: =IF(ISERROR(VLOOKUP(C51,BMP,2,FALSE)),0,VLOOKUP(C51,BMP,2,FALSE)) -> 0 | K51: =IF(ISERROR(K50-L50),0,K50-L50) -> 0 | L51: =IF(ISERROR(K51*J51),0,K51*J51) -> 0
J52: =IF(ISERROR(VLOOKUP(C52,BMP,2,FALSE)),0,VLOOKUP(C52,BMP,2,FALSE)) -> 0 | K52: =IF(ISERROR(K51-L51),0,K51-L51) -> 0 | L52: =IF(ISERROR(K52*J52),0,K52*J52) -> 0
J53: =IF(ISERROR(VLOOKUP(C53,BMP,2,FALSE)),0,VLOOKUP(C53,BMP,2,FALSE)) -> 0 | K53: =IF(ISERROR(K52-L52),0,K52-L52) -> 0 | L53: =IF(ISERROR(K53*J53),0,K53*J53) -> 0 | N53: =IF(G49>(D49+5),"Exceeds Available Volume!","") -> #DIV/0!
B54: Total Nitrogen remaining leaving the subbasin (lbs): | D54: =IF(J53>0,K326-L53,IF(J52>0,K52-L52,IF(J51>0,K51-L51,IF(J50>0,K50-L50,K49-L49)))) -> 0
B55: Sub-DA1(d) BMP(s)
B56: If Sub-DA1(d) is connected to upstream subbasin(s), enter the nitrogen leaving the most upstream subbasin(lbs):
B57: If Sub-DA1(d) is connected to upstream subbasin(s), enter the volume leaving the upstream subbasin not previously treated (ft3):
B58: Device Name (As Shown on Plan) | C58: Device Type | D58: Water Quality Volume for Sub-DA (ft3) | G58: Provided Volume that will drawdown 2-5 days (ft3) | J58: Nitrogen Removal Efficiency | K58: Sub-DA Nitrogen (lbs) | L58: Nitrogen Removed (lbs) | M58: Drawdown Time (hours)
D59: =IF('SITE SUMMARY'!$G$35="High",E163,"-") -> #DIV/0! | J59: =IF(ISERROR(VLOOKUP(C59,BMP,2,FALSE)),0,VLOOKUP(C59,BMP,2,FALSE)) -> 0 | K59: =IF(ISERROR($H$114),D56,$H$114+D56) -> 0 | L59: =IF(ISERROR(K59*J59),0,K59*J59) -> 0
J60: =IF(ISERROR(VLOOKUP(C60,BMP,2,FALSE)),0,VLOOKUP(C60,BMP,2,FALSE)) -> 0 | K60: =IF(ISERROR(K59-L59),0,K59-L59) -> 0 | L60: =IF(ISERROR(K60*J60),0,K60*J60) -> 0
J61: =IF(ISERROR(VLOOKUP(C61,BMP,2,FALSE)),0,VLOOKUP(C61,BMP,2,FALSE)) -> 0 | K61: =IF(ISERROR(K60-L60),0,K60-L60) -> 0 | L61: =IF(ISERROR(K61*J61),0,K61*J61) -> 0
J62: =IF(ISERROR(VLOOKUP(C62,BMP,2,FALSE)),0,VLOOKUP(C62,BMP,2,FALSE)) -> 0 | K62: =IF(ISERROR(K61-L61),0,K61-L61) -> 0 | L62: =IF(ISERROR(K62*J62),0,K62*J62) -> 0
J63: =IF(ISERROR(VLOOKUP(C63,BMP,2,FALSE)),0,VLOOKUP(C63,BMP,2,FALSE)) -> 0 | K63: =IF(ISERROR(K62-L62),0,K62-L62) -> 0 | L63: =IF(ISERROR(K63*J63),0,K63*J63) -> 0 | N63: =IF(G59>(D59+5),"Exceeds Available Volume!","") -> #DIV/0!
B64: Total Nitrogen remaining leaving the subbasin (lbs): | D64: =IF(J63>0,K63-L63,IF(J62>0,K62-L62,IF(J61>0,K61-L61,IF(J60>0,K60-L60,K59-L59)))) -> 0
B65: Sub-DA1(e) BMP(s)
B66: If Sub-DA1(e) is connected to upstream subbasin(s), enter the nitrogen leaving the most upstream subbasin(lbs):
B67: If Sub-DA1(e) is connected to upstream subbasin(s), enter the volume leaving the upstream subbasin(lbs):
B68: Device Name (As Shown on Plan) | C68: Device Type | D68: Water Quality Volume for Sub-DA (ft3) | G68: Provided Volume that will drawdown 2-5 days (ft3) | J68: Nitrogen Removal Efficiency | K68: Sub-DA Nitrogen (lbs) | L68: Nitrogen Removed (lbs) | M68: Drawdown Time (hours)
D69: =IF('SITE SUMMARY'!$G$35="High",E167,"-") -> #DIV/0! | J69: =IF(ISERROR(VLOOKUP(C69,BMP,2,FALSE)),0,VLOOKUP(C69,BMP,2,FALSE)) -> 0 | K69: =IF(ISERROR($I$114),D66,$I$114+D66) -> 0 | L69: =IF(ISERROR(K69*J69),0,K69*J69) -> 0
J70: =IF(ISERROR(VLOOKUP(C70,BMP,2,FALSE)),0,VLOOKUP(C70,BMP,2,FALSE)) -> 0 | K70: =IF(ISERROR(K69-L69),0,K69-L69) -> 0 | L70: =IF(ISERROR(K70*J70),0,K70*J70) -> 0
J71: =IF(ISERROR(VLOOKUP(C71,BMP,2,FALSE)),0,VLOOKUP(C71,BMP,2,FALSE)) -> 0 | K71: =IF(ISERROR(K70-L70),0,K70-L70) -> 0 | L71: =IF(ISERROR(K71*J71),0,K71*J71) -> 0
J72: =IF(ISERROR(VLOOKUP(C72,BMP,2,FALSE)),0,VLOOKUP(C72,BMP,2,FALSE)) -> 0 | K72: =IF(ISERROR(K71-L71),0,K71-L71) -> 0 | L72: =IF(ISERROR(K72*J72),0,K72*J72) -> 0
J73: =IF(ISERROR(VLOOKUP(C73,BMP,2,FALSE)),0,VLOOKUP(C73,BMP,2,FALSE)) -> 0 | K73: =IF(ISERROR(K72-L72),0,K72-L72) -> 0 | L73: =IF(ISERROR(K73*J73),0,K73*J73) -> 0 | N73: =IF(G69>(D69+5),"Exceeds Available Volume!","") -> #DIV/0!
B74: Total Nitrogen remaining leaving the subbasin (lbs): | D74: =IF(J73>0,K73-L73,IF(J72>0,K72-L72,IF(J71>0,K71-L71,IF(J70>0,K70-L70,K69-L69)))) -> 0
B75: DA1 BMP SUMMARY | N75: Note: Engineers are required to input post BMP peak flow and Tc for the 1-year, 2-year, and 10-year storms for each DA. The SW Design Tool uses the TR-55 method. The TR-55 method is preferred for post BMP calculations. If engineer uses a method/model other than TR-55 for the post-BMP peak discharge and runoff, engineer must also provide pre-development calculations from the method/model (in addition to the SW Design Tool) and pre-development calculations must be within 10% of results computed by the SW Design Tool). A summary sheet should be attached with the submittal to for all inputs used in design.
B76: Total Volume Treated (ft3)= | D76: =G29+G39+G49+G59+G69 -> #VALUE!
B77: Nitrogen Mitigated(lbs)= | D77: =SUM(L29:L33,L39:L43,L49:L53,L59:L63,L69:L73) -> 0
B78: 1-year, 24-hour storm
B79: Post BMP Volume of Runoff (ft3)(1-year)= | D79: =IF(('DA1'!H83-D76)<0,0,'DA1'!H83-D76) -> #VALUE!
B80: Post BMP Runoff (inches) = Q*(1-year)= | D80: =((((D79)/(C9*43560)))*12) -> #VALUE!
B81: Post BMP CN(1-year)= | D81: =IF(ISERROR(VLOOKUP($D$80,CN,2,TRUE)),0,VLOOKUP($D$80,CN,2,TRUE)) -> 0
B82: Post BMP Peak Discharge (cfs)= Q1-year=
B83: 2-year, 24-hour storm (LID)
B84: Post BMP Volume of Runoff (ft3)(2-year)= | D84: =IF(('DA1'!H88-D76)<0,0,'DA1'!H88-D76) -> #VALUE!
B85: Post BMP Runoff (inches) = Q*(2-year)= | D85: =((D84/(C9*43560)))*12 -> #VALUE!
B86: Post BMP CN(2-year)= | D86: =IF(ISERROR(VLOOKUP(D85,CN2YR,2,TRUE)),0,VLOOKUP(D85,CN2YR,2,TRUE)) -> 0
B87: Post BMP Peak Discharge (cfs)= Q(2-year)=
B88: 10-year, 24-hour storm (DIA)
B89: Post volume (10-year)= | D89: =('DA1'!H91/12)*('DA1'!H10*43560) -> #VALUE!
B90: Post BMP Volume of Runoff (ft3)(10-year)= | D90: =IF(('DA1'!H92-D76)<0,0,'DA1'!H92-D76) -> #VALUE!
B91: Post BMP Runoff (inches) = Q*(10-year)= | D91: =((D90/(C9*43560)))*12 -> #VALUE!
B92: Post BMP CN(10-year)= | D92: =IF(ISERROR(VLOOKUP(D91,CN2YR,2,TRUE)),0,VLOOKUP(D91,CN2YR,2,TRUE)) -> 0
B93: Post BMP Peak Discharge (cfs)= Q(10-year)=
B99: TO BE HIDDEN
B102: N-EXPORT COEFFICIENTS
B104: HSG | D104: TN Coeff. (lbs/ac/yr | E104: Sub-DA1(a) (lbs/yr) | F104: Sub-DA1(b) (lbs/yr) | G104: Sub-DA1(c) (lbs/yr) | H104: Sub-DA1(d) (lbs/yr) | I104: Sub-DA1(e) (lbs/yr)
B105: Pasture | D105: 1.2 | E105: =(SUM(D17:E17))*$D$105 -> 0 | F105: =(SUM(F17:G17))*D105 -> 0 | G105: =(SUM(H17:I17))*D105 -> 0 | H105: =(SUM(J17:K17))*D105 -> 0 | I105: =(SUM(L17:M17))*D105 -> 0 | L105: Yes
B106: Woods, Poor Condition | D106: 1.6 | E106: =(SUM(D18:E18))*$D$106 -> 0 | F106: =(SUM(F18:G18))*D106 -> 0 | G106: =(SUM(H18:I18))*D106 -> 0 | H106: =(SUM(J18:K18))*D106 -> 0 | I106: =(SUM(L18:M18))*D106 -> 0 | L106: No
B107: Woods, Fair Condition | D107: 1.2 | E107: =(SUM(D19:E19))*$D$107 -> 0 | F107: =(SUM(F19:G19))*D107 -> 0 | G107: =(SUM(H19:I19))*D107 -> 0 | H107: =(SUM(J19:K19))*D107 -> 0 | I107: =(SUM(L19:M19))*D107 -> 0
B108: Woods, Good Condition | D108: 0.8 | E108: =(SUM(D20:E20))*$D$108 -> 0 | F108: =(SUM(F20:G20))*D108 -> 0 | G108: =(SUM(H20:I20))*D108 -> 0 | H108: =(SUM(J20:K20))*D108 -> 0 | I108: =(SUM(L20:M20))*D108 -> 0
B109: Open Space, Poor Condition | D109: 1 | E109: =(SUM(D21:E21))*$D$109 -> 0 | F109: =(SUM(F21:G21))*D109 -> 0 | G109: =(SUM(H21:I21))*D109 -> 0 | H109: =(SUM(J21:K21))*D109 -> 0 | I109: =(SUM(L21:M21))*D109 -> 0
B110: Open Space, Fair Condition | D110: 0.8 | E110: =(SUM(D22:E22))*$D$110 -> 0 | F110: =(SUM(F22:G22))*D110 -> 0 | G110: =(SUM(H22:I22))*D110 -> 0 | H110: =(SUM(J22:K22))*D110 -> 0 | I110: =(SUM(L22:M22))*D110 -> 0
B111: Open Space, Good Condition | D111: 0.6 | E111: =(SUM(D23:E23))*$D$111 -> 0 | F111: =(SUM(F23:G23))*D111 -> 0 | G111: =(SUM(H23:I23))*D111 -> 0 | H111: =(SUM(J23:K23))*D111 -> 0 | I111: =(SUM(L23:M23))*D111 -> 0
B112: Reforestation (in dedicated OS) | D112: 0.6 | E112: =(SUM(D24:E24))*$D$112 -> 0 | F112: =(SUM(F24:G24))*D112 -> 0 | G112: =(SUM(H24:I24))*D112 -> 0 | H112: =(SUM(J24:K24))*D112 -> 0 | I112: =(SUM(L24:M24))*D112 -> 0
...

Sheet DA2_BMPs
B1: Project Name: | F1: ='SITE DATA'!F9 -> 0
B3: DRAINAGE AREA 2
B4: BMP CALCULATIONS
B8: DRAINAGE AREA 1 - BMP DEVICES AND ADJUSTMENTS | N8: LINKS/COMMENTS
B9: DA2 Site Acreage= | C9: ='DA2'!H10
B10: DA2 Off-Site Acreage= | C10: ='DA2'!H9-'DA2'!H10 -> #VALUE!
B11: Total Required Storage Volume TCN Requirement (ft3)= | C11: ='SITE SUMMARY'!G40 -> #VALUE! | N11: Storage Volume required based on project density classification.
B12: Total Required Storage Volume for DA2 1" Rainfall for High Density (ft3)= | C12: =IF('SITE SUMMARY'!G35="High",('DA2'!$D$80),0) -> #DIV/0! | D12: =IF($G$36="High",('DA1'!$D$80),"NA") -> NA | E12: =IF($G$36="High",('DA1'!$D$80),"NA") -> NA | F12: =IF($G$36="High",('DA1'!$D$80),"NA") -> NA | G12: =IF($G$36="High",('DA1'!$D$80),"NA") -> NA | H12: =IF($G$36="High",('DA1'!$D$80),"NA") -> NA | I12: =IF($G$36="High",('DA1'!$D$80),"NA") -> NA | J12: =IF($G$36="High",('DA1'!$D$80),"NA") -> NA | K12: =IF($G$36="High",('DA1'!$D$80),"NA") -> NA | ... M12: =IF($G$36="High",('DA1'!$D$80),"NA") -> NA
B13: Will site use underground detention/cistern? | C13: No | D13: Enter % of the year water will be reused= | G13: 0 | J13: Note: Supporting information/details should be submitted to demonstrate water usage. | N13: For cisterns, engineer shall input drainage area used for reuse in Sub-DA2(a) prior to entering further BMPs. Use of a cistern reduces total volume required for storage as well total nitrogen load. To receive total reduction, engineer must show year-round use of reclaimed water. Volume not reused may be treated by downstream BMP in another sub-DA.
B14: ENTER ACREAGE FOR ALL SUB-DRAINAGE AREAS IN DA
B15: HSG | D15: Sub-DA2(a) (Ac) | F15: Sub-DA2(b) (Ac) | H15: Sub-DA2(c) (Ac) | J15: Sub-DA2(d) (Ac) | L15: Sub-DA2(e) (Ac) | N15: Notes: DA is divided into sub-DAs to account for BMP watersheds and for remaining areas not managed by a BMP. BMPs in a series should be within the same sub-DA. Generally, subbasin data should be entered with the upstream subbasin completed first. Likewise, BMPs should be entered with the upstream BMP listed first (BMPs in a series assume constant storage volume).
D16: Site | E16: Off-site | F16: Site | G16: Off-site | H16: Site | I16: Off-site | J16: Site | K16: Off-site | L16: Site | M16: Off-site
B17: Pasture
B18: Woods, Poor Condition
B19: Woods, Fair Condition
B20: Woods, Good Condition
B21: Open Space, Poor Condition
B22: Open Space, Fair Condition
B23: Open Space, Good Condition
B24: Reforestation (in dedicated OS)
B25: Impervious | N25: =IF(SUM( D17:D25,F17:F25,H17:H25,J17:J25,L17:L25)=C9,"","DOES NOT MATCH SITE ACREAGES") -> DOES NOT MATCH SITE ACREAGES
B26: Total Acreage - To Hide | D26: =SUM(D17:D25) -> 0 | E26: =SUM(E17:E25) -> 0 | F26: =SUM(F17:F25) -> 0 | G26: =SUM(G17:G25) -> 0 | H26: =SUM(H17:H25) -> 0 | I26: =SUM(I17:I25) -> 0 | J26: =SUM(J17:J25) -> 0 | K26: =SUM(K17:K25) -> 0 | ... M26: =SUM(M17:M25) -> 0
B27: Sub-DA1(a) BMP(s)
B28: Device Name (As Shown on Plan) | C28: Device Type | D28: Water Quality Volume for Sub-DA (ft3) | G28: Provided Volume that will drawdown 2-5 days (ft3) | J28: Nitrogen Removal Efficiency | K28: Sub-DA Nitrogen (lbs) | L28: Nitrogen Removed (lbs) | M28: Drawdown Time (hours) | N28: Note: High density projects must use BMPs with 85% TSS removal (Bioretention, Stormwater Wetland, Wet Detention Pond, Sand Filter, and/or Infiltration Device).
D29: =IF('SITE SUMMARY'!$G$35="High",E151,"-") -> #DIV/0! | J29: =IF(ISERROR(VLOOKUP(C29,BMP,2,FALSE)),0,VLOOKUP(C29,BMP,2,FALSE)) -> 0 | K29: =IF(ISERROR($E$114),0,$E$114) -> 0 | L29: =IF(ISERROR(K29*J29),0,K29*J29) -> 0
J30: =IF(ISERROR(VLOOKUP(C30,BMP,2,FALSE)),0,VLOOKUP(C30,BMP,2,FALSE)) -> 0 | K30: =IF(ISERROR(K29-L29),0,K29-L29) -> 0 | L30: =IF(ISERROR(K30*J30),0,K30*J30) -> 0
J31: =IF(ISERROR(VLOOKUP(C31,BMP,2,FALSE)),0,VLOOKUP(C31,BMP,2,FALSE)) -> 0 | K31: =IF(ISERROR(K30-L30),0,K30-L30) -> 0 | L31: =IF(ISERROR(K31*J31),0,K31*J31) -> 0
J32: =IF(ISERROR(VLOOKUP(C32,BMP,2,FALSE)),0,VLOOKUP(C32,BMP,2,FALSE)) -> 0 | K32: =IF(ISERROR(K31-L31),0,K31-L31) -> 0 | L32: =IF(ISERROR(K32*J32),0,K32*J32) -> 0
J33: =IF(ISERROR(VLOOKUP(C33,BMP,2,FALSE)),0,VLOOKUP(C33,BMP,2,FALSE)) -> 0 | K33: =IF(ISERROR(K32-L32),0,K32-L32) -> 0 | L33: =IF(ISERROR(K33*J33),0,K33*J33) -> 0
B34: Total Nitrogen remaining leaving the subbasin (lbs): | D34: =IF(J33>0,K306-L33,IF(J32>0,K32-L32,IF(J31>0,K31-L31,IF(J30>0,K30-L30,K29-L29)))) -> 0
B35: Sub-DA1(b) BMP(s)
B36: If Sub-DA1(b) is connected to upstream subbasin(s), enter the nitrogen leaving the most upstream subbasin(lbs):
B37: If Sub-DA1(b) is connected to upstream subbasin(s), enter the volume leaving the upstream subbasin not previously treated (ft3):
B38: Device Name (As Shown on Plan) | C38: Device Type | D38: Water Quality Volume for Sub-DA (ft3) | G38: Provided Volume that will drawdown 2-5 days (ft3) | J38: Nitrogen Removal Efficiency | K38: Sub-DA Nitrogen (lbs) | L38: Nitrogen Removed (lbs) | M38: Drawdown Time (hours)
D39: =IF('SITE SUMMARY'!$G$35="High",E155,"-") -> #DIV/0! | J39: =IF(ISERROR(VLOOKUP(C39,BMP,2,FALSE)),0,VLOOKUP(C39,BMP,2,FALSE)) -> 0 | K39: =IF(ISERROR($F$114),D36,$F$114+D36) -> 0 | L39: =IF(ISERROR(K39*J39),0,K39*J39) -> 0
J40: =IF(ISERROR(VLOOKUP(C40,BMP,2,FALSE)),0,VLOOKUP(C40,BMP,2,FALSE)) -> 0 | K40: =IF(ISERROR(K39-L39),0,K39-L39) -> 0 | L40: =IF(ISERROR(K40*J40),0,K40*J40) -> 0
J41: =IF(ISERROR(VLOOKUP(C41,BMP,2,FALSE)),0,VLOOKUP(C41,BMP,2,FALSE)) -> 0 | K41: =IF(ISERROR(K40-L40),0,K40-L40) -> 0 | L41: =IF(ISERROR(K41*J41),0,K41*J41) -> 0
J42: =IF(ISERROR(VLOOKUP(C42,BMP,2,FALSE)),0,VLOOKUP(C42,BMP,2,FALSE)) -> 0 | K42: =IF(ISERROR(K41-L41),0,K41-L41) -> 0 | L42: =IF(ISERROR(K42*J42),0,K42*J42) -> 0
J43: =IF(ISERROR(VLOOKUP(C43,BMP,2,FALSE)),0,VLOOKUP(C43,BMP,2,FALSE)) -> 0 | K43: =IF(ISERROR(K42-L42),0,K42-L42) -> 0 | L43: =IF(ISERROR(K43*J43),0,K43*J43) -> 0
B44: Total Nitrogen remaining leaving the subbasin (lbs): | D44: =IF(J43>0,K43-L43,IF(J42>0,K42-L42,IF(J41>0,K41-L41,IF(J40>0,K40-L40,K39-L39)))) -> 0
B45: Sub-DA1 (c) BMP(s)
B46: If Sub-DA1(c) is connected to upstream subbasin(s), enter the nitrogen leaving the most upstream subbasin(lbs):
B47: If Sub-DA1(c) is connected to upstream subbasin(s), enter the volume leaving the upstream subbasin(lbs):
B48: Device Name (As Shown on Plan) | C48: Device Type | D48: Water Quality Volume for Sub-DA (ft3) | G48: Provided Volume that will drawdown 2-5 days (ft3) | J48: Nitrogen Removal Efficiency | K48: Sub-DA Nitrogen (lbs) | L48: Nitrogen Removed (lbs) | M48: Drawdown Time (hours)
D49: =IF('SITE SUMMARY'!$G$35="High",E159,"-") -> #DIV/0! | J49: =IF(ISERROR(VLOOKUP(C49,BMP,2,FALSE)),0,VLOOKUP(C49,BMP,2,FALSE)) -> 0 | K49: =IF(ISERROR($G$114),D46,$G$114+D46) -> 0 | L49: =IF(ISERROR(K49*J49),0,K49*J49) -> 0
J50: =IF(ISERROR(VLOOKUP(C50,BMP,2,FALSE)),0,VLOOKUP(C50,BMP,2,FALSE)) -> 0 | K50: =IF(ISERROR(K49-L49),0,K49-L49) -> 0 | L50: =IF(ISERROR(K50*J50),0,K50*J50) -> 0
J51: =IF(ISERROR(VLOOKUP(C51,BMP,2,FALSE)),0,VLOOKUP(C51,BMP,2,FALSE)) -> 0 | K51: =IF(ISERROR(K50-L50),0,K50-L50) -> 0 | L51: =IF(ISERROR(K51*J51),0,K51*J51) -> 0
J52: =IF(ISERROR(VLOOKUP(C52,BMP,2,FALSE)),0,VLOOKUP(C52,BMP,2,FALSE)) -> 0 | K52: =IF(ISERROR(K51-L51),0,K51-L51) -> 0 | L52: =IF(ISERROR(K52*J52),0,K52*J52) -> 0
J53: =IF(ISERROR(VLOOKUP(C53,BMP,2,FALSE)),0,VLOOKUP(C53,BMP,2,FALSE)) -> 0 | K53: =IF(ISERROR(K52-L52),0,K52-L52) -> 0 | L53: =IF(ISERROR(K53*J53),0,K53*J53) -> 0 | N53: =IF(G49>(D49+5),"Exceeds Available Volume!","") -> #DIV/0!
B54: Total Nitrogen remaining leaving the subbasin (lbs): | D54: =IF(J53>0,K326-L53,IF(J52>0,K52-L52,IF(J51>0,K51-L51,IF(J50>0,K50-L50,K49-L49)))) -> 0
B55: Sub-DA1(d) BMP(s)
B56: If Sub-DA1(d) is connected to upstream subbasin(s), enter the nitrogen leaving the most upstream subbasin(lbs):
B57: If Sub-DA1(d) is connected to upstream subbasin(s), enter the volume leaving the upstream subbasin not previously treated (ft3):
B58: Device Name (As Shown on Plan) | C58: Device Type | D58: Water Quality Volume for Sub-DA (ft3) | G58: Provided Volume that will drawdown 2-5 days (ft3) | J58: Nitrogen Removal Efficiency | K58: Sub-DA Nitrogen (lbs) | L58: Nitrogen Removed (lbs) | M58: Drawdown Time (hours)
D59: =IF('SITE SUMMARY'!$G$35="High",E163,"-") -> #DIV/0! | J59: =IF(ISERROR(VLOOKUP(C59,BMP,2,FALSE)),0,VLOOKUP(C59,BMP,2,FALSE)) -> 0 | K59: =IF(ISERROR($H$114),D56,$H$114+D56) -> 0 | L59: =IF(ISERROR(K59*J59),0,K59*J59) -> 0
J60: =IF(ISERROR(VLOOKUP(C60,BMP,2,FALSE)),0,VLOOKUP(C60,BMP,2,FALSE)) -> 0 | K60: =IF(ISERROR(K59-L59),0,K59-L59) -> 0 | L60: =IF(ISERROR(K60*J60),0,K60*J60) -> 0
J61: =IF(ISERROR(VLOOKUP(C61,BMP,2,FALSE)),0,VLOOKUP(C61,BMP,2,FALSE)) -> 0 | K61: =IF(ISERROR(K60-L60),0,K60-L60) -> 0 | L61: =IF(ISERROR(K61*J61),0,K61*J61) -> 0
J62: =IF(ISERROR(VLOOKUP(C62,BMP,2,FALSE)),0,VLOOKUP(C62,BMP,2,FALSE)) -> 0 | K62: =IF(ISERROR(K61-L61),0,K61-L61) -> 0 | L62: =IF(ISERROR(K62*J62),0,K62*J62) -> 0
J63: =IF(ISERROR(VLOOKUP(C63,BMP,2,FALSE)),0,VLOOKUP(C63,BMP,2,FALSE)) -> 0 | K63: =IF(ISERROR(K62-L62),0,K62-L62) -> 0 | L63: =IF(ISERROR(K63*J63),0,K63*J63) -> 0 | N63: =IF(G59>(D59+5),"Exceeds Available Volume!","") -> #DIV/0!
B64: Total Nitrogen remaining leaving the subbasin (lbs): | D64: =IF(J63>0,K63-L63,IF(J62>0,K62-L62,IF(J61>0,K61-L61,IF(J60>0,K60-L60,K59-L59)))) -> 0
B65: Sub-DA1(e) BMP(s)
B66: If Sub-DA1(e) is connected to upstream subbasin(s), enter the nitrogen leaving the most upstream subbasin(lbs):
B67: If Sub-DA1(e) is connected to upstream subbasin(s), enter the volume leaving the upstream subbasin(lbs):
B68: Device Name (As Shown on Plan) | C68: Device Type | D68: Water Quality Volume for Sub-DA (ft3) | G68: Provided Volume that will drawdown 2-5 days (ft3) | J68: Nitrogen Removal Efficiency | K68: Sub-DA Nitrogen (lbs) | L68: Nitrogen Removed (lbs) | M68: Drawdown Time (hours)
D69: =IF('SITE SUMMARY'!$G$35="High",E167,"-") -> #DIV/0! | J69: =IF(ISERROR(VLOOKUP(C69,BMP,2,FALSE)),0,VLOOKUP(C69,BMP,2,FALSE)) -> 0 | K69: =IF(ISERROR($I$114),D66,$I$114+D66) -> 0 | L69: =IF(ISERROR(K69*J69),0,K69*J69) -> 0
J70: =IF(ISERROR(VLOOKUP(C70,BMP,2,FALSE)),0,VLOOKUP(C70,BMP,2,FALSE)) -> 0 | K70: =IF(ISERROR(K69-L69),0,K69-L69) -> 0 | L70: =IF(ISERROR(K70*J70),0,K70*J70) -> 0
J71: =IF(ISERROR(VLOOKUP(C71,BMP,2,FALSE)),0,VLOOKUP(C71,BMP,2,FALSE)) -> 0 | K71: =IF(ISERROR(K70-L70),0,K70-L70) -> 0 | L71: =IF(ISERROR(K71*J71),0,K71*J71) -> 0
J72: =IF(ISERROR(VLOOKUP(C72,BMP,2,FALSE)),0,VLOOKUP(C72,BMP,2,FALSE)) -> 0 | K72: =IF(ISERROR(K71-L71),0,K71-L71) -> 0 | L72: =IF(ISERROR(K72*J72),0,K72*J72) -> 0
J73: =IF(ISERROR(VLOOKUP(C73,BMP,2,FALSE)),0,VLOOKUP(C73,BMP,2,FALSE)) -> 0 | K73: =IF(ISERROR(K72-L72),0,K72-L72) -> 0 | L73: =IF(ISERROR(K73*J73),0,K73*J73) -> 0 | N73: =IF(G69>(D69+5),"Exceeds Available Volume!","") -> #DIV/0!
B74: Total Nitrogen remaining leaving the subbasin (lbs): | D74: =IF(J73>0,K73-L73,IF(J72>0,K72-L72,IF(J71>0,K71-L71,IF(J70>0,K70-L70,K69-L69)))) -> 0
B75: DA2 BMP SUMMARY | N75: Note: Engineers are required to input post BMP peak flow and Tc for the 1-year, 2-year, and 10-year storms for each DA. The SW Design Tool uses the TR-55 method. The TR-55 method is preferred for post BMP calculations. If engineer uses a method/model other than TR-55 for the post-BMP peak discharge and runoff, engineer must also provide pre-development calculations from the method/model (in addition to the SW Design Tool) and pre-development calculations must be within 10% of results computed by the SW Design Tool). A summary sheet should be attached with the submittal to for all inputs used in design.
B76: Total Volume Treated (ft3)= | D76: =G29+G39+G49+G59+G69 -> 0
B77: Nitrogen Mitigated(lbs)= | D77: =SUM(L29:L33,L39:L43,L49:L53,L59:L63,L69:L73) -> 0
B78: 1-year, 24-hour storm
B79: Post BMP Volume of Runoff (ft3)(1-year)= | D79: =IF(('DA2'!H83-D76)<0,0,'DA2'!H83-D76) -> 0
B80: Post BMP Runoff (inches) = Q*(1-year)= | D80: =((((D79)/(C9*43560)))*12) -> #VALUE!
B81: Post BMP CN(1-year)= | D81: =IF(ISERROR(VLOOKUP($D$80,CN,2,TRUE)),0,VLOOKUP($D$80,CN,2,TRUE)) -> 0
B82: Post BMP Peak Discharge (cfs)= Q1-year=
B83: 2-year, 24-hour storm (LID)
B84: Post BMP Volume of Runoff (ft3)(2-year)= | D84: =IF(('DA2'!H88-D76)<0,0,'DA2'!H88-D76) -> #VALUE!
B85: Post BMP Runoff (inches) = Q*(2-year)= | D85: =((D84/(C9*43560)))*12 -> #VALUE!
B86: Post BMP CN(2-year)= | D86: =IF(ISERROR(VLOOKUP(D85,CN2YR,2,TRUE)),0,VLOOKUP(D85,CN2YR,2,TRUE)) -> 0
B87: Post BMP Peak Discharge (cfs)= Q(2-year)=
B88: 10-year, 24-hour storm (DIA)
B89: Post volume (10-year)= | D89: =('DA2'!H91/12)*('DA2'!H10*43560) -> #VALUE!
B90: Post BMP Volume of Runoff (ft3)(10-year)= | D90: =IF(('DA2'!H92-D76)<0,0,'DA2'!H92-D76) -> #VALUE!
B91: Post BMP Runoff (inches) = Q*(10-year)= | D91: =((D90/(C9*43560)))*12 -> #VALUE!
B92: Post BMP CN(10-year)= | D92: =IF(ISERROR(VLOOKUP(D91,CN2YR,2,TRUE)),0,VLOOKUP(D91,CN2YR,2,TRUE)) -> 0
B93: Post BMP Peak Discharge (cfs)= Q(10-year)=
B99: TO BE HIDDEN
B102: N-EXPORT COEFFICIENTS
B104: HSG | D104: TN Coeff. (lbs/ac/yr | E104: Sub-DA2(a) (lbs/yr) | F104: Sub-DA2(b) (lbs/yr) | G104: Sub-DA2(c) (lbs/yr) | H104: Sub-DA2(d) (lbs/yr) | I104: Sub-DA2(e) (lbs/yr)
B105: Pasture | D105: 1.2 | E105: =(SUM(D17:E17))*$D$105 -> 0 | F105: =(SUM(F17:G17))*D105 -> 0 | G105: =(SUM(H17:I17))*D105 -> 0 | H105: =(SUM(J17:K17))*D105 -> 0 | I105: =(SUM(L17:M17))*D105 -> 0 | L105: Yes
B106: Woods, Poor Condition | D106: 1.6 | E106: =(SUM(D18:E18))*$D$106 -> 0 | F106: =(SUM(F18:G18))*D106 -> 0 | G106: =(SUM(H18:I18))*D106 -> 0 | H106: =(SUM(J18:K18))*D106 -> 0 | I106: =(SUM(L18:M18))*D106 -> 0 | L106: No
B107: Woods, Fair Condition | D107: 1.2 | E107: =(SUM(D19:E19))*$D$107 -> 0 | F107: =(SUM(F19:G19))*D107 -> 0 | G107: =(SUM(H19:I19))*D107 -> 0 | H107: =(SUM(J19:K19))*D107 -> 0 | I107: =(SUM(L19:M19))*D107 -> 0
B108: Woods, Good Condition | D108: 0.8 | E108: =(SUM(D20:E20))*$D$108 -> 0 | F108: =(SUM(F20:G20))*D108 -> 0 | G108: =(SUM(H20:I20))*D108 -> 0 | H108: =(SUM(J20:K20))*D108 -> 0 | I108: =(SUM(L20:M20))*D108 -> 0
B109: Open Space, Poor Condition | D109: 1 | E109: =(SUM(D21:E21))*$D$109 -> 0 | F109: =(SUM(F21:G21))*D109 -> 0 | G109: =(SUM(H21:I21))*D109 -> 0 | H109: =(SUM(J21:K21))*D109 -> 0 | I109: =(SUM(L21:M21))*D109 -> 0
B110: Open Space, Fair Condition | D110: 0.8 | E110: =(SUM(D22:E22))*$D$110 -> 0 | F110: =(SUM(F22:G22))*D110 -> 0 | G110: =(SUM(H22:I22))*D110 -> 0 | H110: =(SUM(J22:K22))*D110 -> 0 | I110: =(SUM(L22:M22))*D110 -> 0
B111: Open Space, Good Condition | D111: 0.6 | E111: =(SUM(D23:E23))*$D$111 -> 0 | F111: =(SUM(F23:G23))*D111 -> 0 | G111: =(SUM(H23:I23))*D111 -> 0 | H111: =(SUM(J23:K23))*D111 -> 0 | I111: =(SUM(L23:M23))*D111 -> 0
B112: Reforestation (in dedicated OS) | D112: 0.6 | E112: =(SUM(D24:E24))*$D$112 -> 0 | F112: =(SUM(F24:G24))*D112 -> 0 | G112: =(SUM(H24:I24))*D112 -> 0 | H112: =(SUM(J24:K24))*D112 -> 0 | I112: =(SUM(L24:M24))*D112 -> 0
...

Sheet DA3_BMPs
B1: Project Name: | F1: ='SITE DATA'!F9 -> 0
B3: DRAINAGE AREA 3
B4: BMP CALCULATIONS
B8: DRAINAGE AREA 1 - BMP DEVICES AND ADJUSTMENTS | N8: LINKS/COMMENTS
B9: DA3 Site Acreage= | C9: ='DA3'!H10
B10: DA3 Off-Site Acreage= | C10: ='DA3'!H9-'DA3'!H10 -> #VALUE!
B11: Total Required Storage Volume TCN Requirement (ft3)= | C11: ='SITE SUMMARY'!G40 -> #VALUE! | N11: Storage Volume required based on project density classification.
B12: Total Required Storage Volume for DA3 1" Rainfall for High Density (ft3)= | C12: =IF('SITE SUMMARY'!G35="High",('DA3'!$D$80),0) -> #DIV/0! | D12: =IF($G$36="High",('DA1'!$D$80),"NA") -> NA | E12: =IF($G$36="High",('DA1'!$D$80),"NA") -> NA | F12: =IF($G$36="High",('DA1'!$D$80),"NA") -> NA | G12: =IF($G$36="High",('DA1'!$D$80),"NA") -> NA | H12: =IF($G$36="High",('DA1'!$D$80),"NA") -> NA | I12: =IF($G$36="High",('DA1'!$D$80),"NA") -> NA | J12: =IF($G$36="High",('DA1'!$D$80),"NA") -> NA | K12: =IF($G$36="High",('DA1'!$D$80),"NA") -> NA | ... M12: =IF($G$36="High",('DA1'!$D$80),"NA") -> NA
B13: Will site use underground detention/cistern? | C13: No | D13: Enter % of the year water will be reused= | G13: 0 | J13: Note: Supporting information/details should be submitted to demonstrate water usage. | N13: For cisterns, engineer shall input drainage area used for reuse in Sub-DA3(a) prior to entering further BMPs. Use of a cistern reduces total volume required for storage as well total nitrogen load. To receive total reduction, engineer must show year-round use of reclaimed water. Volume not reused may be treated by downstream BMP in another sub-DA.
B14: ENTER ACREAGE FOR ALL SUB-DRAINAGE AREAS IN DA
B15: HSG | D15: Sub-DA3(a) (Ac) | F15: Sub-DA3(b) (Ac) | H15: Sub-DA3(c) (Ac) | J15: Sub-DA3(d) (Ac) | L15: Sub-DA3(e) (Ac) | N15: Notes: DA is divided into sub-DAs to account for BMP watersheds and for remaining areas not managed by a BMP. BMPs in a series should be within the same sub-DA. Generally, subbasin data should be entered with the upstream subbasin completed first. Likewise, BMPs should be entered with the upstream BMP listed first (BMPs in a series assume constant storage volume).
D16: Site | E16: Off-site | F16: Site | G16: Off-site | H16: Site | I16: Off-site | J16: Site | K16: Off-site | L16: Site | M16: Off-site
B17: Pasture
B18: Woods, Poor Condition
B19: Woods, Fair Condition
B20: Woods, Good Condition
B21: Open Space, Poor Condition
B22: Open Space, Fair Condition
B23: Open Space, Good Condition
B24: Reforestation (in dedicated OS)
B25: Impervious | N25: =IF(SUM( D17:D25,F17:F25,H17:H25,J17:J25,L17:L25)=C9,"","DOES NOT MATCH SITE ACREAGES") -> DOES NOT MATCH SITE ACREAGES
B26: Total Acreage - To Hide | D26: =SUM(D17:D25) -> 0 | E26: =SUM(E17:E25) -> 0 | F26: =SUM(F17:F25) -> 0 | G26: =SUM(G17:G25) -> 0 | H26: =SUM(H17:H25) -> 0 | I26: =SUM(I17:I25) -> 0 | J26: =SUM(J17:J25) -> 0 | K26: =SUM(K17:K25) -> 0 | ... M26: =SUM(M17:M25) -> 0
B27: Sub-DA1(a) BMP(s)
B28: Device Name (As Shown on Plan) | C28: Device Type | D28: Water Quality Volume for Sub-DA (ft3) | G28: Provided Volume that will drawdown 2-5 days (ft3) | J28: Nitrogen Removal Efficiency | K28: Sub-DA Nitrogen (lbs) | L28: Nitrogen Removed (lbs) | M28: Drawdown Time (hours) | N28: Note: High density projects must use BMPs with 85% TSS removal (Bioretention, Stormwater Wetland, Wet Detention Pond, Sand Filter, and/or Infiltration Device).
D29: =IF('SITE SUMMARY'!$G$35="High",E151,"-") -> #DIV/0! | J29: =IF(ISERROR(VLOOKUP(C29,BMP,2,FALSE)),0,VLOOKUP(C29,BMP,2,FALSE)) -> 0 | K29: =IF(ISERROR($E$114),0,$E$114) -> 0 | L29: =IF(ISERROR(K29*J29),0,K29*J29) -> 0
J30: =IF(ISERROR(VLOOKUP(C30,BMP,2,FALSE)),0,VLOOKUP(C30,BMP,2,FALSE)) -> 0 | K30: =IF(ISERROR(K29-L29),0,K29-L29) -> 0 | L30: =IF(ISERROR(K30*J30),0,K30*J30) -> 0
J31: =IF(ISERROR(VLOOKUP(C31,BMP,2,FALSE)),0,VLOOKUP(C31,BMP,2,FALSE)) -> 0 | K31: =IF(ISERROR(K30-L30),0,K30-L30) -> 0 | L31: =IF(ISERROR(K31*J31),0,K31*J31) -> 0
J32: =IF(ISERROR(VLOOKUP(C32,BMP,2,FALSE)),0,VLOOKUP(C32,BMP,2,FALSE)) -> 0 | K32: =IF(ISERROR(K31-L31),0,K31-L31) -> 0 | L32: =IF(ISERROR(K32*J32),0,K32*J32) -> 0
J33: =IF(ISERROR(VLOOKUP(C33,BMP,2,FALSE)),0,VLOOKUP(C33,BMP,2,FALSE)) -> 0 | K33: =IF(ISERROR(K32-L32),0,K32-L32) -> 0 | L33: =IF(ISERROR(K33*J33),0,K33*J33) -> 0
B34: Total Nitrogen remaining leaving the subbasin (lbs): | D34: =IF(J33>0,K306-L33,IF(J32>0,K32-L32,IF(J31>0,K31-L31,IF(J30>0,K30-L30,K29-L29)))) -> 0
B35: Sub-DA1(b) BMP(s)
B36: If Sub-DA1(b) is connected to upstream subbasin(s), enter the nitrogen leaving the most upstream subbasin(lbs):
B37: If Sub-DA1(b) is connected to upstream subbasin(s), enter the volume leaving the upstream subbasin not previously treated (ft3):
B38: Device Name (As Shown on Plan) | C38: Device Type | D38: Water Quality Volume for Sub-DA (ft3) | G38: Provided Volume that will drawdown 2-5 days (ft3) | J38: Nitrogen Removal Efficiency | K38: Sub-DA Nitrogen (lbs) | L38: Nitrogen Removed (lbs) | M38: Drawdown Time (hours)
D39: =IF('SITE SUMMARY'!$G$35="High",E155,"-") -> #DIV/0! | J39: =IF(ISERROR(VLOOKUP(C39,BMP,2,FALSE)),0,VLOOKUP(C39,BMP,2,FALSE)) -> 0 | K39: =IF(ISERROR($F$114),D36,$F$114+D36) -> 0 | L39: =IF(ISERROR(K39*J39),0,K39*J39) -> 0
J40: =IF(ISERROR(VLOOKUP(C40,BMP,2,FALSE)),0,VLOOKUP(C40,BMP,2,FALSE)) -> 0 | K40: =IF(ISERROR(K39-L39),0,K39-L39) -> 0 | L40: =IF(ISERROR(K40*J40),0,K40*J40) -> 0
J41: =IF(ISERROR(VLOOKUP(C41,BMP,2,FALSE)),0,VLOOKUP(C41,BMP,2,FALSE)) -> 0 | K41: =IF(ISERROR(K40-L40),0,K40-L40) -> 0 | L41: =IF(ISERROR(K41*J41),0,K41*J41) -> 0
J42: =IF(ISERROR(VLOOKUP(C42,BMP,2,FALSE)),0,VLOOKUP(C42,BMP,2,FALSE)) -> 0 | K42: =IF(ISERROR(K41-L41),0,K41-L41) -> 0 | L42: =IF(ISERROR(K42*J42),0,K42*J42) -> 0
J43: =IF(ISERROR(VLOOKUP(C43,BMP,2,FALSE)),0,VLOOKUP(C43,BMP,2,FALSE)) -> 0 | K43: =IF(ISERROR(K42-L42),0,K42-L42) -> 0 | L43: =IF(ISERROR(K43*J43),0,K43*J43) -> 0
B44: Total Nitrogen remaining leaving the subbasin (lbs): | D44: =IF(J43>0,K43-L43,IF(J42>0,K42-L42,IF(J41>0,K41-L41,IF(J40>0,K40-L40,K39-L39)))) -> 0
B45: Sub-DA1 (c) BMP(s)
B46: If Sub-DA1(c) is connected to upstream subbasin(s), enter the nitrogen leaving the most upstream subbasin(lbs):
B47: If Sub-DA1(c) is connected to upstream subbasin(s), enter the volume leaving the upstream subbasin(lbs):
B48: Device Name (As Shown on Plan) | C48: Device Type | D48: Water Quality Volume for Sub-DA (ft3) | G48: Provided Volume that will drawdown 2-5 days (ft3) | J48: Nitrogen Removal Efficiency | K48: Sub-DA Nitrogen (lbs) | L48: Nitrogen Removed (lbs) | M48: Drawdown Time (hours)
D49: =IF('SITE SUMMARY'!$G$35="High",E159,"-") -> #DIV/0! | J49: =IF(ISERROR(VLOOKUP(C49,BMP,2,FALSE)),0,VLOOKUP(C49,BMP,2,FALSE)) -> 0 | K49: =IF(ISERROR($G$114),D46,$G$114+D46) -> 0 | L49: =IF(ISERROR(K49*J49),0,K49*J49) -> 0
J50: =IF(ISERROR(VLOOKUP(C50,BMP,2,FALSE)),0,VLOOKUP(C50,BMP,2,FALSE)) -> 0 | K50: =IF(ISERROR(K49-L49),0,K49-L49) -> 0 | L50: =IF(ISERROR(K50*J50),0,K50*J50) -> 0
J51: =IF(ISERROR(VLOOKUP(C51,BMP,2,FALSE)),0,VLOOKUP(C51,BMP,2,FALSE)) -> 0 | K51: =IF(ISERROR(K50-L50),0,K50-L50) -> 0 | L51: =IF(ISERROR(K51*J51),0,K51*J51) -> 0
J52: =IF(ISERROR(VLOOKUP(C52,BMP,2,FALSE)),0,VLOOKUP(C52,BMP,2,FALSE)) -> 0 | K52: =IF(ISERROR(K51-L51),0,K51-L51) -> 0 | L52: =IF(ISERROR(K52*J52),0,K52*J52) -> 0
J53: =IF(ISERROR(VLOOKUP(C53,BMP,2,FALSE)),0,VLOOKUP(C53,BMP,2,FALSE)) -> 0 | K53: =IF(ISERROR(K52-L52),0,K52-L52) -> 0 | L53: =IF(ISERROR(K53*J53),0,K53*J53) -> 0 | N53: =IF(G49>(D49+5),"Exceeds Available Volume!","") -> #DIV/0!
B54: Total Nitrogen remaining leaving the subbasin (lbs): | D54: =IF(J53>0,K326-L53,IF(J52>0,K52-L52,IF(J51>0,K51-L51,IF(J50>0,K50-L50,K49-L49)))) -> 0
B55: Sub-DA1(d) BMP(s)
B56: If Sub-DA1(d) is connected to upstream subbasin(s), enter the nitrogen leaving the most upstream subbasin(lbs):
B57: If Sub-DA1(d) is connected to upstream subbasin(s), enter the volume leaving the upstream subbasin not previously treated (ft3):
B58: Device Name (As Shown on Plan) | C58: Device Type | D58: Water Quality Volume for Sub-DA (ft3) | G58: Provided Volume that will drawdown 2-5 days (ft3) | J58: Nitrogen Removal Efficiency | K58: Sub-DA Nitrogen (lbs) | L58: Nitrogen Removed (lbs) | M58: Drawdown Time (hours)
D59: =IF('SITE SUMMARY'!$G$35="High",E163,"-") -> #DIV/0! | J59: =IF(ISERROR(VLOOKUP(C59,BMP,2,FALSE)),0,VLOOKUP(C59,BMP,2,FALSE)) -> 0 | K59: =IF(ISERROR($H$114),D56,$H$114+D56) -> 0 | L59: =IF(ISERROR(K59*J59),0,K59*J59) -> 0
J60: =IF(ISERROR(VLOOKUP(C60,BMP,2,FALSE)),0,VLOOKUP(C60,BMP,2,FALSE)) -> 0 | K60: =IF(ISERROR(K59-L59),0,K59-L59) -> 0 | L60: =IF(ISERROR(K60*J60),0,K60*J60) -> 0
J61: =IF(ISERROR(VLOOKUP(C61,BMP,2,FALSE)),0,VLOOKUP(C61,BMP,2,FALSE)) -> 0 | K61: =IF(ISERROR(K60-L60),0,K60-L60) -> 0 | L61: =IF(ISERROR(K61*J61),0,K61*J61) -> 0
J62: =IF(ISERROR(VLOOKUP(C62,BMP,2,FALSE)),0,VLOOKUP(C62,BMP,2,FALSE)) -> 0 | K62: =IF(ISERROR(K61-L61),0,K61-L61) -> 0 | L62: =IF(ISERROR(K62*J62),0,K62*J62) -> 0
J63: =IF(ISERROR(VLOOKUP(C63,BMP,2,FALSE)),0,VLOOKUP(C63,BMP,2,FALSE)) -> 0 | K63: =IF(ISERROR(K62-L62),0,K62-L62) -> 0 | L63: =IF(ISERROR(K63*J63),0,K63*J63) -> 0 | N63: =IF(G59>(D59+5),"Exceeds Available Volume!","") -> #DIV/0!
B64: Total Nitrogen remaining leaving the subbasin (lbs): | D64: =IF(J63>0,K63-L63,IF(J62>0,K62-L62,IF(J61>0,K61-L61,IF(J60>0,K60-L60,K59-L59)))) -> 0
B65: Sub-DA1(e) BMP(s)
B66: If Sub-DA1(e) is connected to upstream subbasin(s), enter the nitrogen leaving the most upstream subbasin(lbs):
B67: If Sub-DA1(e) is connected to upstream subbasin(s), enter the volume leaving the upstream subbasin(lbs):
B68: Device Name (As Shown on Plan) | C68: Device Type | D68: Water Quality Volume for Sub-DA (ft3) | G68: Provided Volume that will drawdown 2-5 days (ft3) | J68: Nitrogen Removal Efficiency | K68: Sub-DA Nitrogen (lbs) | L68: Nitrogen Removed (lbs) | M68: Drawdown Time (hours)
D69: =IF('SITE SUMMARY'!$G$35="High",E167,"-") -> #DIV/0! | J69: =IF(ISERROR(VLOOKUP(C69,BMP,2,FALSE)),0,VLOOKUP(C69,BMP,2,FALSE)) -> 0 | K69: =IF(ISERROR($I$114),D66,$I$114+D66) -> 0 | L69: =IF(ISERROR(K69*J69),0,K69*J69) -> 0
J70: =IF(ISERROR(VLOOKUP(C70,BMP,2,FALSE)),0,VLOOKUP(C70,BMP,2,FALSE)) -> 0 | K70: =IF(ISERROR(K69-L69),0,K69-L69) -> 0 | L70: =IF(ISERROR(K70*J70),0,K70*J70) -> 0
J71: =IF(ISERROR(VLOOKUP(C71,BMP,2,FALSE)),0,VLOOKUP(C71,BMP,2,FALSE)) -> 0 | K71: =IF(ISERROR(K70-L70),0,K70-L70) -> 0 | L71: =IF(ISERROR(K71*J71),0,K71*J71) -> 0
J72: =IF(ISERROR(VLOOKUP(C72,BMP,2,FALSE)),0,VLOOKUP(C72,BMP,2,FALSE)) -> 0 | K72: =IF(ISERROR(K71-L71),0,K71-L71) -> 0 | L72: =IF(ISERROR(K72*J72),0,K72*J72) -> 0
J73: =IF(ISERROR(VLOOKUP(C73,BMP,2,FALSE)),0,VLOOKUP(C73,BMP,2,FALSE)) -> 0 | K73: =IF(ISERROR(K72-L72),0,K72-L72) -> 0 | L73: =IF(ISERROR(K73*J73),0,K73*J73) -> 0 | N73: =IF(G69>(D69+5),"Exceeds Available Volume!","") -> #DIV/0!
B74: Total Nitrogen remaining leaving the subbasin (lbs): | D74: =IF(J73>0,K73-L73,IF(J72>0,K72-L72,IF(J71>0,K71-L71,IF(J70>0,K70-L70,K69-L69)))) -> 0
B75: DA3 BMP SUMMARY | N75: Note: Engineers are required to input post BMP peak flow and Tc for the 1-year, 2-year, and 10-year storms for each DA. The SW Design Tool uses the TR-55 method. The TR-55 method is preferred for post BMP calculations. If engineer uses a method/model other than TR-55 for the post-BMP peak discharge and runoff, engineer must also provide pre-development calculations from the method/model (in addition to the SW Design Tool) and pre-development calculations must be within 10% of results computed by the SW Design Tool). A summary sheet should be attached with the submittal to for all inputs used in design.
B76: Total Volume Treated (ft3)= | D76: =G29+G39+G49+G59+G69 -> 0
B77: Nitrogen Mitigated(lbs)= | D77: =SUM(L29:L33,L39:L43,L49:L53,L59:L63,L69:L73) -> 0
B78: 1-year, 24-hour storm
B79: Post BMP Volume of Runoff (ft3)(1-year)= | D79: =IF(('DA3'!H83-D76)<0,0,'DA3'!H83-D76) -> 0
B80: Post BMP Runoff (inches) = Q*(1-year)= | D80: =((((D79)/(C9*43560)))*12) -> #VALUE!
B81: Post BMP CN(1-year)= | D81: =IF(ISERROR(VLOOKUP($D$80,CN,2,TRUE)),0,VLOOKUP($D$80,CN,2,TRUE)) -> 0
B82: Post BMP Peak Discharge (cfs)= Q1-year=
B83: 2-year, 24-hour storm (LID)
B84: Post BMP Volume of Runoff (ft3)(2-year)= | D84: =IF(('DA3'!H88-D76)<0,0,'DA3'!H88-D76) -> #VALUE!
B85: Post BMP Runoff (inches) = Q*(2-year)= | D85: =((D84/(C9*43560)))*12 -> #VALUE!
B86: Post BMP CN(2-year)= | D86: =IF(ISERROR(VLOOKUP(D85,CN2YR,2,TRUE)),0,VLOOKUP(D85,CN2YR,2,TRUE)) -> 0
B87: Post BMP Peak Discharge (cfs)= Q(2-year)=
B88: 10-year, 24-hour storm (DIA)
B89: Post volume (10-year)= | D89: =('DA3'!H91/12)*('DA3'!H10*43560) -> #VALUE!
B90: Post BMP Volume of Runoff (ft3)(10-year)= | D90: =IF(('DA3'!H92-D76)<0,0,'DA3'!H92-D76) -> #VALUE!
B91: Post BMP Runoff (inches) = Q*(10-year)= | D91: =((D90/(C9*43560)))*12 -> #VALUE!
B92: Post BMP CN(10-year)= | D92: =IF(ISERROR(VLOOKUP(D91,CN2YR,2,TRUE)),0,VLOOKUP(D91,CN2YR,2,TRUE)) -> 0
B93: Post BMP Peak Discharge (cfs)= Q(10-year)=
B99: TO BE HIDDEN
B102: N-EXPORT COEFFICIENTS
B104: HSG | D104: TN Coeff. (lbs/ac/yr | E104: Sub-DA3(a) (lbs/yr) | F104: Sub-DA3(b) (lbs/yr) | G104: Sub-DA3(c) (lbs/yr) | H104: Sub-DA3(d) (lbs/yr) | I104: Sub-DA3(e) (lbs/yr)
B105: Pasture | D105: 1.2 | E105: =(SUM(D17:E17))*$D$105 -> 0 | F105: =(SUM(F17:G17))*D105 -> 0 | G105: =(SUM(H17:I17))*D105 -> 0 | H105: =(SUM(J17:K17))*D105 -> 0 | I105: =(SUM(L17:M17))*D105 -> 0 | L105: Yes
B106: Woods, Poor Condition | D106: 1.6 | E106: =(SUM(D18:E18))*$D$106 -> 0 | F106: =(SUM(F18:G18))*D106 -> 0 | G106: =(SUM(H18:I18))*D106 -> 0 | H106: =(SUM(J18:K18))*D106 -> 0 | I106: =(SUM(L18:M18))*D106 -> 0 | L106: No
B107: Woods, Fair Condition | D107: 1.2 | E107: =(SUM(D19:E19))*$D$107 -> 0 | F107: =(SUM(F19:G19))*D107 -> 0 | G107: =(SUM(H19:I19))*D107 -> 0 | H107: =(SUM(J19:K19))*D107 -> 0 | I107: =(SUM(L19:M19))*D107 -> 0
B108: Woods, Good Condition | D108: 0.8 | E108: =(SUM(D20:E20))*$D$108 -> 0 | F108: =(SUM(F20:G20))*D108 -> 0 | G108: =(SUM(H20:I20))*D108 -> 0 | H108: =(SUM(J20:K20))*D108 -> 0 | I108: =(SUM(L20:M20))*D108 -> 0
B109: Open Space, Poor Condition | D109: 1 | E109: =(SUM(D21:E21))*$D$109 -> 0 | F109: =(SUM(F21:G21))*D109 -> 0 | G109: =(SUM(H21:I21))*D109 -> 0 | H109: =(SUM(J21:K21))*D109 -> 0 | I109: =(SUM(L21:M21))*D109 -> 0
B110: Open Space, Fair Condition | D110: 0.8 | E110: =(SUM(D22:E22))*$D$110 -> 0 | F110: =(SUM(F22:G22))*D110 -> 0 | G110: =(SUM(H22:I22))*D110 -> 0 | H110: =(SUM(J22:K22))*D110 -> 0 | I110: =(SUM(L22:M22))*D110 -> 0
B111: Open Space, Good Condition | D111: 0.6 | E111: =(SUM(D23:E23))*$D$111 -> 0 | F111: =(SUM(F23:G23))*D111 -> 0 | G111: =(SUM(H23:I23))*D111 -> 0 | H111: =(SUM(J23:K23))*D111 -> 0 | I111: =(SUM(L23:M23))*D111 -> 0
B112: Reforestation (in dedicated OS) | D112: 0.6 | E112: =(SUM(D24:E24))*$D$112 -> 0 | F112: =(SUM(F24:G24))*D112 -> 0 | G112: =(SUM(H24:I24))*D112 -> 0 | H112: =(SUM(J24:K24))*D112 -> 0 | I112: =(SUM(L24:M24))*D112 -> 0
...

Sheet DA4_BMPs
B1: Project Name: | F1: ='SITE DATA'!F9 -> 0
B3: DRAINAGE AREA 4
B4: BMP CALCULATIONS
B8: DRAINAGE AREA 1 - BMP DEVICES AND ADJUSTMENTS | N8: LINKS/COMMENTS
B9: DA4 Site Acreage= | C9: ='DA4'!H10 -> 0
B10: DA4 Off-Site Acreage= | C10: ='DA4'!H9-'DA4'!H10 -> 0
B11: Total Required Storage Volume TCN Requirement (ft3)= | C11: ='SITE SUMMARY'!G40 -> #VALUE! | N11: Storage Volume required based on project density classification.
B12: Total Required Storage Volume for DA4 1" Rainfall for High Density (ft3)= | C12: =IF('SITE SUMMARY'!G35="High",('DA4'!$D$80),0) -> #DIV/0! | D12: =IF($G$36="High",('DA1'!$D$80),"NA") -> NA | E12: =IF($G$36="High",('DA1'!$D$80),"NA") -> NA | F12: =IF($G$36="High",('DA1'!$D$80),"NA") -> NA | G12: =IF($G$36="High",('DA1'!$D$80),"NA") -> NA | H12: =IF($G$36="High",('DA1'!$D$80),"NA") -> NA | I12: =IF($G$36="High",('DA1'!$D$80),"NA") -> NA | J12: =IF($G$36="High",('DA1'!$D$80),"NA") -> NA | K12: =IF($G$36="High",('DA1'!$D$80),"NA") -> NA | ... M12: =IF($G$36="High",('DA1'!$D$80),"NA") -> NA
B13: Will site use underground detention/cistern? | D13: Enter % of the year water will be reused= | J13: Note: Supporting information/details should be submitted to demonstrate water usage. | N13: For cisterns, engineer shall input drainage area used for reuse in Sub-DA4(a) prior to entering further BMPs. Use of a cistern reduces total volume required for storage as well total nitrogen load. To receive total reduction, engineer must show year-round use of reclaimed water. Volume not reused may be treated by downstream BMP in another sub-DA.
B14: ENTER ACREAGE FOR ALL SUB-DRAINAGE AREAS IN DA
B15: HSG | D15: Sub-DA4(a) (Ac) | F15: Sub-DA4(b) (Ac) | H15: Sub-DA4(c) (Ac) | J15: Sub-DA4(d) (Ac) | L15: Sub-DA4(e) (Ac) | N15: Notes: DA is divided into sub-DAs to account for BMP watersheds and for remaining areas not managed by a BMP. BMPs in a series should be within the same sub-DA. Generally, subbasin data should be entered with the upstream subbasin completed first. Likewise, BMPs should be entered with the upstream BMP listed first (BMPs in a series assume constant storage volume).
D16: Site | E16: Off-site | F16: Site | G16: Off-site | H16: Site | I16: Off-site | J16: Site | K16: Off-site | L16: Site | M16: Off-site
B17: Pasture
B18: Woods, Poor Condition
B19: Woods, Fair Condition
B20: Woods, Good Condition
B21: Open Space, Poor Condition
B22: Open Space, Fair Condition
B23: Open Space, Good Condition
B24: Reforestation (in dedicated OS)
B25: Impervious | N25: =IF(SUM( D17:D25,F17:F25,H17:H25,J17:J25,L17:L25)=C9,"","DOES NOT MATCH SITE ACREAGES")
B26: Total Acreage - To Hide | D26: =SUM(D17:D25) -> 0 | E26: =SUM(E17:E25) -> 0 | F26: =SUM(F17:F25) -> 0 | G26: =SUM(G17:G25) -> 0 | H26: =SUM(H17:H25) -> 0 | I26: =SUM(I17:I25) -> 0 | J26: =SUM(J17:J25) -> 0 | K26: =SUM(K17:K25) -> 0 | ... M26: =SUM(M17:M25) -> 0
B27: Sub-DA1(a) BMP(s)
B28: Device Name (As Shown on Plan) | C28: Device Type | D28: Water Quality Volume for Sub-DA (ft3) | G28: Provided Volume that will drawdown 2-5 days (ft3) | J28: Nitrogen Removal Efficiency | K28: Sub-DA Nitrogen (lbs) | L28: Nitrogen Removed (lbs) | M28: Drawdown Time (hours) | N28: Note: High density projects must use BMPs with 85% TSS removal (Bioretention, Stormwater Wetland, Wet Detention Pond, Sand Filter, and/or Infiltration Device).
D29: =IF('SITE SUMMARY'!$G$35="High",E151,"-") -> #DIV/0! | J29: =IF(ISERROR(VLOOKUP(C29,BMP,2,FALSE)),0,VLOOKUP(C29,BMP,2,FALSE)) -> 0 | K29: =IF(ISERROR($E$114),0,$E$114) -> 0 | L29: =IF(ISERROR(K29*J29),0,K29*J29) -> 0
J30: =IF(ISERROR(VLOOKUP(C30,BMP,2,FALSE)),0,VLOOKUP(C30,BMP,2,FALSE)) -> 0 | K30: =IF(ISERROR(K29-L29),0,K29-L29) -> 0 | L30: =IF(ISERROR(K30*J30),0,K30*J30) -> 0
J31: =IF(ISERROR(VLOOKUP(C31,BMP,2,FALSE)),0,VLOOKUP(C31,BMP,2,FALSE)) -> 0 | K31: =IF(ISERROR(K30-L30),0,K30-L30) -> 0 | L31: =IF(ISERROR(K31*J31),0,K31*J31) -> 0
J32: =IF(ISERROR(VLOOKUP(C32,BMP,2,FALSE)),0,VLOOKUP(C32,BMP,2,FALSE)) -> 0 | K32: =IF(ISERROR(K31-L31),0,K31-L31) -> 0 | L32: =IF(ISERROR(K32*J32),0,K32*J32) -> 0
J33: =IF(ISERROR(VLOOKUP(C33,BMP,2,FALSE)),0,VLOOKUP(C33,BMP,2,FALSE)) -> 0 | K33: =IF(ISERROR(K32-L32),0,K32-L32) -> 0 | L33: =IF(ISERROR(K33*J33),0,K33*J33) -> 0
B34: Total Nitrogen remaining leaving the subbasin (lbs): | D34: =IF(J33>0,K306-L33,IF(J32>0,K32-L32,IF(J31>0,K31-L31,IF(J30>0,K30-L30,K29-L29)))) -> 0
B35: Sub-DA1(b) BMP(s)
B36: If Sub-DA1(b) is connected to upstream subbasin(s), enter the nitrogen leaving the most upstream subbasin(lbs):
B37: If Sub-DA1(b) is connected to upstream subbasin(s), enter the volume leaving the upstream subbasin not previously treated (ft3):
B38: Device Name (As Shown on Plan) | C38: Device Type | D38: Water Quality Volume for Sub-DA (ft3) | G38: Provided Volume that will drawdown 2-5 days (ft3) | J38: Nitrogen Removal Efficiency | K38: Sub-DA Nitrogen (lbs) | L38: Nitrogen Removed (lbs) | M38: Drawdown Time (hours)
D39: =IF('SITE SUMMARY'!$G$35="High",E155,"-") -> #DIV/0! | J39: =IF(ISERROR(VLOOKUP(C39,BMP,2,FALSE)),0,VLOOKUP(C39,BMP,2,FALSE)) -> 0 | K39: =IF(ISERROR($F$114),D36,$F$114+D36) -> 0 | L39: =IF(ISERROR(K39*J39),0,K39*J39) -> 0
J40: =IF(ISERROR(VLOOKUP(C40,BMP,2,FALSE)),0,VLOOKUP(C40,BMP,2,FALSE)) -> 0 | K40: =IF(ISERROR(K39-L39),0,K39-L39) -> 0 | L40: =IF(ISERROR(K40*J40),0,K40*J40) -> 0
J41: =IF(ISERROR(VLOOKUP(C41,BMP,2,FALSE)),0,VLOOKUP(C41,BMP,2,FALSE)) -> 0 | K41: =IF(ISERROR(K40-L40),0,K40-L40) -> 0 | L41: =IF(ISERROR(K41*J41),0,K41*J41) -> 0
J42: =IF(ISERROR(VLOOKUP(C42,BMP,2,FALSE)),0,VLOOKUP(C42,BMP,2,FALSE)) -> 0 | K42: =IF(ISERROR(K41-L41),0,K41-L41) -> 0 | L42: =IF(ISERROR(K42*J42),0,K42*J42) -> 0
J43: =IF(ISERROR(VLOOKUP(C43,BMP,2,FALSE)),0,VLOOKUP(C43,BMP,2,FALSE)) -> 0 | K43: =IF(ISERROR(K42-L42),0,K42-L42) -> 0 | L43: =IF(ISERROR(K43*J43),0,K43*J43) -> 0
B44: Total Nitrogen remaining leaving the subbasin (lbs): | D44: =IF(J43>0,K43-L43,IF(J42>0,K42-L42,IF(J41>0,K41-L41,IF(J40>0,K40-L40,K39-L39)))) -> 0
B45: Sub-DA1 (c) BMP(s)
B46: If Sub-DA1(c) is connected to upstream subbasin(s), enter the nitrogen leaving the most upstream subbasin(lbs):
B47: If Sub-DA1(c) is connected to upstream subbasin(s), enter the volume leaving the upstream subbasin(lbs):
B48: Device Name (As Shown on Plan) | C48: Device Type | D48: Water Quality Volume for Sub-DA (ft3) | G48: Provided Volume that will drawdown 2-5 days (ft3) | J48: Nitrogen Removal Efficiency | K48: Sub-DA Nitrogen (lbs) | L48: Nitrogen Removed (lbs) | M48: Drawdown Time (hours)
D49: =IF('SITE SUMMARY'!$G$35="High",E159,"-") -> #DIV/0! | J49: =IF(ISERROR(VLOOKUP(C49,BMP,2,FALSE)),0,VLOOKUP(C49,BMP,2,FALSE)) -> 0 | K49: =IF(ISERROR($G$114),D46,$G$114+D46) -> 0 | L49: =IF(ISERROR(K49*J49),0,K49*J49) -> 0
J50: =IF(ISERROR(VLOOKUP(C50,BMP,2,FALSE)),0,VLOOKUP(C50,BMP,2,FALSE)) -> 0 | K50: =IF(ISERROR(K49-L49),0,K49-L49) -> 0 | L50: =IF(ISERROR(K50*J50),0,K50*J50) -> 0
J51: =IF(ISERROR(VLOOKUP(C51,BMP,2,FALSE)),0,VLOOKUP(C51,BMP,2,FALSE)) -> 0 | K51: =IF(ISERROR(K50-L50),0,K50-L50) -> 0 | L51: =IF(ISERROR(K51*J51),0,K51*J51) -> 0
J52: =IF(ISERROR(VLOOKUP(C52,BMP,2,FALSE)),0,VLOOKUP(C52,BMP,2,FALSE)) -> 0 | K52: =IF(ISERROR(K51-L51),0,K51-L51) -> 0 | L52: =IF(ISERROR(K52*J52),0,K52*J52) -> 0
J53: =IF(ISERROR(VLOOKUP(C53,BMP,2,FALSE)),0,VLOOKUP(C53,BMP,2,FALSE)) -> 0 | K53: =IF(ISERROR(K52-L52),0,K52-L52) -> 0 | L53: =IF(ISERROR(K53*J53),0,K53*J53) -> 0 | N53: =IF(G49>(D49+5),"Exceeds Available Volume!","") -> #DIV/0!
B54: Total Nitrogen remaining leaving the subbasin (lbs): | D54: =IF(J53>0,K326-L53,IF(J52>0,K52-L52,IF(J51>0,K51-L51,IF(J50>0,K50-L50,K49-L49)))) -> 0
B55: Sub-DA1(d) BMP(s)
B56: If Sub-DA1(d) is connected to upstream subbasin(s), enter the nitrogen leaving the most upstream subbasin(lbs):
B57: If Sub-DA1(d) is connected to upstream subbasin(s), enter the volume leaving the upstream subbasin not previously treated (ft3):
B58: Device Name (As Shown on Plan) | C58: Device Type | D58: Water Quality Volume for Sub-DA (ft3) | G58: Provided Volume that will drawdown 2-5 days (ft3) | J58: Nitrogen Removal Efficiency | K58: Sub-DA Nitrogen (lbs) | L58: Nitrogen Removed (lbs) | M58: Drawdown Time (hours)
D59: =IF('SITE SUMMARY'!$G$35="High",E163,"-") -> #DIV/0! | J59: =IF(ISERROR(VLOOKUP(C59,BMP,2,FALSE)),0,VLOOKUP(C59,BMP,2,FALSE)) -> 0 | K59: =IF(ISERROR($H$114),D56,$H$114+D56) -> 0 | L59: =IF(ISERROR(K59*J59),0,K59*J59) -> 0
J60: =IF(ISERROR(VLOOKUP(C60,BMP,2,FALSE)),0,VLOOKUP(C60,BMP,2,FALSE)) -> 0 | K60: =IF(ISERROR(K59-L59),0,K59-L59) -> 0 | L60: =IF(ISERROR(K60*J60),0,K60*J60) -> 0
J61: =IF(ISERROR(VLOOKUP(C61,BMP,2,FALSE)),0,VLOOKUP(C61,BMP,2,FALSE)) -> 0 | K61: =IF(ISERROR(K60-L60),0,K60-L60) -> 0 | L61: =IF(ISERROR(K61*J61),0,K61*J61) -> 0
J62: =IF(ISERROR(VLOOKUP(C62,BMP,2,FALSE)),0,VLOOKUP(C62,BMP,2,FALSE)) -> 0 | K62: =IF(ISERROR(K61-L61),0,K61-L61) -> 0 | L62: =IF(ISERROR(K62*J62),0,K62*J62) -> 0
J63: =IF(ISERROR(VLOOKUP(C63,BMP,2,FALSE)),0,VLOOKUP(C63,BMP,2,FALSE)) -> 0 | K63: =IF(ISERROR(K62-L62),0,K62-L62) -> 0 | L63: =IF(ISERROR(K63*J63),0,K63*J63) -> 0 | N63: =IF(G59>(D59+5),"Exceeds Available Volume!","") -> #DIV/0!
B64: Total Nitrogen remaining leaving the subbasin (lbs): | D64: =IF(J63>0,K63-L63,IF(J62>0,K62-L62,IF(J61>0,K61-L61,IF(J60>0,K60-L60,K59-L59)))) -> 0
B65: Sub-DA1(e) BMP(s)
B66: If Sub-DA1(e) is connected to upstream subbasin(s), enter the nitrogen leaving the most upstream subbasin(lbs):
B67: If Sub-DA1(e) is connected to upstream subbasin(s), enter the volume leaving the upstream subbasin(lbs):
B68: Device Name (As Shown on Plan) | C68: Device Type | D68: Water Quality Volume for Sub-DA (ft3) | G68: Provided Volume that will drawdown 2-5 days (ft3) | J68: Nitrogen Removal Efficiency | K68: Sub-DA Nitrogen (lbs) | L68: Nitrogen Removed (lbs) | M68: Drawdown Time (hours)
D69: =IF('SITE SUMMARY'!$G$35="High",E167,"-") -> #DIV/0! | J69: =IF(ISERROR(VLOOKUP(C69,BMP,2,FALSE)),0,VLOOKUP(C69,BMP,2,FALSE)) -> 0 | K69: =IF(ISERROR($I$114),D66,$I$114+D66) -> 0 | L69: =IF(ISERROR(K69*J69),0,K69*J69) -> 0
J70: =IF(ISERROR(VLOOKUP(C70,BMP,2,FALSE)),0,VLOOKUP(C70,BMP,2,FALSE)) -> 0 | K70: =IF(ISERROR(K69-L69),0,K69-L69) -> 0 | L70: =IF(ISERROR(K70*J70),0,K70*J70) -> 0
J71: =IF(ISERROR(VLOOKUP(C71,BMP,2,FALSE)),0,VLOOKUP(C71,BMP,2,FALSE)) -> 0 | K71: =IF(ISERROR(K70-L70),0,K70-L70) -> 0 | L71: =IF(ISERROR(K71*J71),0,K71*J71) -> 0
J72: =IF(ISERROR(VLOOKUP(C72,BMP,2,FALSE)),0,VLOOKUP(C72,BMP,2,FALSE)) -> 0 | K72: =IF(ISERROR(K71-L71),0,K71-L71) -> 0 | L72: =IF(ISERROR(K72*J72),0,K72*J72) -> 0
J73: =IF(ISERROR(VLOOKUP(C73,BMP,2,FALSE)),0,VLOOKUP(C73,BMP,2,FALSE)) -> 0 | K73: =IF(ISERROR(K72-L72),0,K72-L72) -> 0 | L73: =IF(ISERROR(K73*J73),0,K73*J73) -> 0 | N73: =IF(G69>(D69+5),"Exceeds Available Volume!","") -> #DIV/0!
B74: Total Nitrogen remaining leaving the subbasin (lbs): | D74: =IF(J73>0,K73-L73,IF(J72>0,K72-L72,IF(J71>0,K71-L71,IF(J70>0,K70-L70,K69-L69)))) -> 0
B75: DA4 BMP SUMMARY | N75: Note: Engineers are required to input post BMP peak flow and Tc for the 1-year, 2-year, and 10-year storms for each DA. The SW Design Tool uses the TR-55 method. The TR-55 method is preferred for post BMP calculations. If engineer uses a method/model other than TR-55 for the post-BMP peak discharge and runoff, engineer must also provide pre-development calculations from the method/model (in addition to the SW Design Tool) and pre-development calculations must be within 10% of results computed by the SW Design Tool). A summary sheet should be attached with the submittal to for all inputs used in design.
B76: Total Volume Treated (ft3)= | D76: =G29+G39+G49+G59+G69 -> 0
B77: Nitrogen Mitigated(lbs)= | D77: =SUM(L29:L33,L39:L43,L49:L53,L59:L63,L69:L73) -> 0
B78: 1-year, 24-hour storm
B79: Post BMP Volume of Runoff (ft3)(1-year)= | D79: =IF(('DA4'!H83-D76)<0,0,'DA4'!H83-D76) -> 0
B80: Post BMP Runoff (inches) = Q*(1-year)= | D80: =((((D79)/(C9*43560)))*12) -> #DIV/0!
B81: Post BMP CN(1-year)= | D81: =IF(ISERROR(VLOOKUP($D$80,CN,2,TRUE)),0,VLOOKUP($D$80,CN,2,TRUE)) -> 0
B82: Post BMP Peak Discharge (cfs)= Q1-year=
B83: 2-year, 24-hour storm (LID)
B84: Post BMP Volume of Runoff (ft3)(2-year)= | D84: =IF(('DA4'!H88-D76)<0,0,'DA4'!H88-D76) -> #DIV/0!
B85: Post BMP Runoff (inches) = Q*(2-year)= | D85: =((D84/(C9*43560)))*12 -> #DIV/0!
B86: Post BMP CN(2-year)= | D86: =IF(ISERROR(VLOOKUP(D85,CN2YR,2,TRUE)),0,VLOOKUP(D85,CN2YR,2,TRUE)) -> 0
B87: Post BMP Peak Discharge (cfs)= Q(2-year)=
B88: 10-year, 24-hour storm (DIA)
B89: Post volume (10-year)= | D89: =('DA4'!H91/12)*('DA4'!H10*43560) -> #DIV/0!
B90: Post BMP Volume of Runoff (ft3)(10-year)= | D90: =IF(('DA4'!H92-D76)<0,0,'DA4'!H92-D76) -> #DIV/0!
B91: Post BMP Runoff (inches) = Q*(10-year)= | D91: =((D90/(C9*43560)))*12 -> #DIV/0!
B92: Post BMP CN(10-year)= | D92: =IF(ISERROR(VLOOKUP(D91,CN2YR,2,TRUE)),0,VLOOKUP(D91,CN2YR,2,TRUE)) -> 0
B93: Post BMP Peak Discharge (cfs)= Q(10-year)=
B99: TO BE HIDDEN
B102: N-EXPORT COEFFICIENTS
B104: HSG | D104: TN Coeff. (lbs/ac/yr | E104: Sub-DA4(a) (lbs/yr) | F104: Sub-DA4(b) (lbs/yr) | G104: Sub-DA4(c) (lbs/yr) | H104: Sub-DA4(d) (lbs/yr) | I104: Sub-DA4(e) (lbs/yr)
B105: Pasture | D105: 1.2 | E105: =(SUM(D17:E17))*$D$105 -> 0 | F105: =(SUM(F17:G17))*D105 -> 0 | G105: =(SUM(H17:I17))*D105 -> 0 | H105: =(SUM(J17:K17))*D105 -> 0 | I105: =(SUM(L17:M17))*D105 -> 0 | L105: Yes
B106: Woods, Poor Condition | D106: 1.6 | E106: =(SUM(D18:E18))*$D$106 -> 0 | F106: =(SUM(F18:G18))*D106 -> 0 | G106: =(SUM(H18:I18))*D106 -> 0 | H106: =(SUM(J18:K18))*D106 -> 0 | I106: =(SUM(L18:M18))*D106 -> 0 | L106: No
B107: Woods, Fair Condition | D107: 1.2 | E107: =(SUM(D19:E19))*$D$107 -> 0 | F107: =(SUM(F19:G19))*D107 -> 0 | G107: =(SUM(H19:I19))*D107 -> 0 | H107: =(SUM(J19:K19))*D107 -> 0 | I107: =(SUM(L19:M19))*D107 -> 0
B108: Woods, Good Condition | D108: 0.8 | E108: =(SUM(D20:E20))*$D$108 -> 0 | F108: =(SUM(F20:G20))*D108 -> 0 | G108: =(SUM(H20:I20))*D108 -> 0 | H108: =(SUM(J20:K20))*D108 -> 0 | I108: =(SUM(L20:M20))*D108 -> 0
B109: Open Space, Poor Condition | D109: 1 | E109: =(SUM(D21:E21))*$D$109 -> 0 | F109: =(SUM(F21:G21))*D109 -> 0 | G109: =(SUM(H21:I21))*D109 -> 0 | H109: =(SUM(J21:K21))*D109 -> 0 | I109: =(SUM(L21:M21))*D109 -> 0
B110: Open Space, Fair Condition | D110: 0.8 | E110: =(SUM(D22:E22))*$D$110 -> 0 | F110: =(SUM(F22:G22))*D110 -> 0 | G110: =(SUM(H22:I22))*D110 -> 0 | H110: =(SUM(J22:K22))*D110 -> 0 | I110: =(SUM(L22:M22))*D110 -> 0
B111: Open Space, Good Condition | D111: 0.6 | E111: =(SUM(D23:E23))*$D$111 -> 0 | F111: =(SUM(F23:G23))*D111 -> 0 | G111: =(SUM(H23:I23))*D111 -> 0 | H111: =(SUM(J23:K23))*D111 -> 0 | I111: =(SUM(L23:M23))*D111 -> 0
B112: Reforestation (in dedicated OS) | D112: 0.6 | E112: =(SUM(D24:E24))*$D$112 -> 0 | F112: =(SUM(F24:G24))*D112 -> 0 | G112: =(SUM(H24:I24))*D112 -> 0 | H112: =(SUM(J24:K24))*D112 -> 0 | I112: =(SUM(L24:M24))*D112 -> 0
...

Sheet DA5_BMPs
B1: Project Name: | F1: ='SITE DATA'!F9 -> 0
B3: DRAINAGE AREA 5
B4: BMP CALCULATIONS
B8: DRAINAGE AREA 1 - BMP DEVICES AND ADJUSTMENTS | N8: LINKS/COMMENTS
B9: DA5 Site Acreage= | C9: ='DA5'!H10 -> 0
B10: DA5 Off-Site Acreage= | C10: ='DA5'!H9-'DA5'!H10 -> 0
B11: Total Required Storage Volume TCN Requirement (ft3)= | C11: ='SITE SUMMARY'!G40 -> #VALUE! | N11: Storage Volume required based on project density classification.
B12: Total Required Storage Volume for DA5 1" Rainfall for High Density (ft3)= | C12: =IF('SITE SUMMARY'!G35="High",('DA5'!$D$80),0) -> #DIV/0! | D12: =IF($G$36="High",('DA1'!$D$80),"NA") -> NA | E12: =IF($G$36="High",('DA1'!$D$80),"NA") -> NA | F12: =IF($G$36="High",('DA1'!$D$80),"NA") -> NA | G12: =IF($G$36="High",('DA1'!$D$80),"NA") -> NA | H12: =IF($G$36="High",('DA1'!$D$80),"NA") -> NA | I12: =IF($G$36="High",('DA1'!$D$80),"NA") -> NA | J12: =IF($G$36="High",('DA1'!$D$80),"NA") -> NA | K12: =IF($G$36="High",('DA1'!$D$80),"NA") -> NA | ... M12: =IF($G$36="High",('DA1'!$D$80),"NA") -> NA
B13: Will site use underground detention/cistern? | D13: Enter % of the year water will be reused= | J13: Note: Supporting information/details should be submitted to demonstrate water usage. | N13: For cisterns, engineer shall input drainage area used for reuse in Sub-DA5(a) prior to entering further BMPs. Use of a cistern reduces total volume required for storage as well total nitrogen load. To receive total reduction, engineer must show year-round use of reclaimed water. Volume not reused may be treated by downstream BMP in another sub-DA.
B14: ENTER ACREAGE FOR ALL SUB-DRAINAGE AREAS IN DA
B15: HSG | D15: Sub-DA5(a) (Ac) | F15: Sub-DA5(b) (Ac) | H15: Sub-DA5(c) (Ac) | J15: Sub-DA5(d) (Ac) | L15: Sub-DA5(e) (Ac) | N15: Notes: DA is divided into sub-DAs to account for BMP watersheds and for remaining areas not managed by a BMP. BMPs in a series should be within the same sub-DA. Generally, subbasin data should be entered with the upstream subbasin completed first. Likewise, BMPs should be entered with the upstream BMP listed first (BMPs in a series assume constant storage volume).
D16: Site | E16: Off-site | F16: Site | G16: Off-site | H16: Site | I16: Off-site | J16: Site | K16: Off-site | L16: Site | M16: Off-site
B17: Pasture
B18: Woods, Poor Condition
B19: Woods, Fair Condition
B20: Woods, Good Condition
B21: Open Space, Poor Condition
B22: Open Space, Fair Condition
B23: Open Space, Good Condition
B24: Reforestation (in dedicated OS)
B25: Impervious | N25: =IF(SUM( D17:D25,F17:F25,H17:H25,J17:J25,L17:L25)=C9,"","DOES NOT MATCH SITE ACREAGES")
B26: Total Acreage - To Hide | D26: =SUM(D17:D25) -> 0 | E26: =SUM(E17:E25) -> 0 | F26: =SUM(F17:F25) -> 0 | G26: =SUM(G17:G25) -> 0 | H26: =SUM(H17:H25) -> 0 | I26: =SUM(I17:I25) -> 0 | J26: =SUM(J17:J25) -> 0 | K26: =SUM(K17:K25) -> 0 | ... M26: =SUM(M17:M25) -> 0
B27: Sub-DA1(a) BMP(s)
B28: Device Name (As Shown on Plan) | C28: Device Type | D28: Water Quality Volume for Sub-DA (ft3) | G28: Provided Volume that will drawdown 2-5 days (ft3) | J28: Nitrogen Removal Efficiency | K28: Sub-DA Nitrogen (lbs) | L28: Nitrogen Removed (lbs) | M28: Drawdown Time (hours) | N28: Note: High density projects must use BMPs with 85% TSS removal (Bioretention, Stormwater Wetland, Wet Detention Pond, Sand Filter, and/or Infiltration Device).
D29: =IF('SITE SUMMARY'!$G$35="High",E151,"-") -> #DIV/0! | J29: =IF(ISERROR(VLOOKUP(C29,BMP,2,FALSE)),0,VLOOKUP(C29,BMP,2,FALSE)) -> 0 | K29: =IF(ISERROR($E$114),0,$E$114) -> 0 | L29: =IF(ISERROR(K29*J29),0,K29*J29) -> 0
J30: =IF(ISERROR(VLOOKUP(C30,BMP,2,FALSE)),0,VLOOKUP(C30,BMP,2,FALSE)) -> 0 | K30: =IF(ISERROR(K29-L29),0,K29-L29) -> 0 | L30: =IF(ISERROR(K30*J30),0,K30*J30) -> 0
J31: =IF(ISERROR(VLOOKUP(C31,BMP,2,FALSE)),0,VLOOKUP(C31,BMP,2,FALSE)) -> 0 | K31: =IF(ISERROR(K30-L30),0,K30-L30) -> 0 | L31: =IF(ISERROR(K31*J31),0,K31*J31) -> 0
J32: =IF(ISERROR(VLOOKUP(C32,BMP,2,FALSE)),0,VLOOKUP(C32,BMP,2,FALSE)) -> 0 | K32: =IF(ISERROR(K31-L31),0,K31-L31) -> 0 | L32: =IF(ISERROR(K32*J32),0,K32*J32) -> 0
J33: =IF(ISERROR(VLOOKUP(C33,BMP,2,FALSE)),0,VLOOKUP(C33,BMP,2,FALSE)) -> 0 | K33: =IF(ISERROR(K32-L32),0,K32-L32) -> 0 | L33: =IF(ISERROR(K33*J33),0,K33*J33) -> 0
B34: Total Nitrogen remaining leaving the subbasin (lbs): | D34: =IF(J33>0,K306-L33,IF(J32>0,K32-L32,IF(J31>0,K31-L31,IF(J30>0,K30-L30,K29-L29)))) -> 0
B35: Sub-DA1(b) BMP(s)
B36: If Sub-DA1(b) is connected to upstream subbasin(s), enter the nitrogen leaving the most upstream subbasin(lbs):
B37: If Sub-DA1(b) is connected to upstream subbasin(s), enter the volume leaving the upstream subbasin not previously treated (ft3):
B38: Device Name (As Shown on Plan) | C38: Device Type | D38: Water Quality Volume for Sub-DA (ft3) | G38: Provided Volume that will drawdown 2-5 days (ft3) | J38: Nitrogen Removal Efficiency | K38: Sub-DA Nitrogen (lbs) | L38: Nitrogen Removed (lbs) | M38: Drawdown Time (hours)
D39: =IF('SITE SUMMARY'!$G$35="High",E155,"-") -> #DIV/0! | J39: =IF(ISERROR(VLOOKUP(C39,BMP,2,FALSE)),0,VLOOKUP(C39,BMP,2,FALSE)) -> 0 | K39: =IF(ISERROR($F$114),D36,$F$114+D36) -> 0 | L39: =IF(ISERROR(K39*J39),0,K39*J39) -> 0
J40: =IF(ISERROR(VLOOKUP(C40,BMP,2,FALSE)),0,VLOOKUP(C40,BMP,2,FALSE)) -> 0 | K40: =IF(ISERROR(K39-L39),0,K39-L39) -> 0 | L40: =IF(ISERROR(K40*J40),0,K40*J40) -> 0
J41: =IF(ISERROR(VLOOKUP(C41,BMP,2,FALSE)),0,VLOOKUP(C41,BMP,2,FALSE)) -> 0 | K41: =IF(ISERROR(K40-L40),0,K40-L40) -> 0 | L41: =IF(ISERROR(K41*J41),0,K41*J41) -> 0
J42: =IF(ISERROR(VLOOKUP(C42,BMP,2,FALSE)),0,VLOOKUP(C42,BMP,2,FALSE)) -> 0 | K42: =IF(ISERROR(K41-L41),0,K41-L41) -> 0 | L42: =IF(ISERROR(K42*J42),0,K42*J42) -> 0
J43: =IF(ISERROR(VLOOKUP(C43,BMP,2,FALSE)),0,VLOOKUP(C43,BMP,2,FALSE)) -> 0 | K43: =IF(ISERROR(K42-L42),0,K42-L42) -> 0 | L43: =IF(ISERROR(K43*J43),0,K43*J43) -> 0
B44: Total Nitrogen remaining leaving the subbasin (lbs): | D44: =IF(J43>0,K43-L43,IF(J42>0,K42-L42,IF(J41>0,K41-L41,IF(J40>0,K40-L40,K39-L39)))) -> 0
B45: Sub-DA1 (c) BMP(s)
B46: If Sub-DA1(c) is connected to upstream subbasin(s), enter the nitrogen leaving the most upstream subbasin(lbs):
B47: If Sub-DA1(c) is connected to upstream subbasin(s), enter the volume leaving the upstream subbasin(lbs):
B48: Device Name (As Shown on Plan) | C48: Device Type | D48: Water Quality Volume for Sub-DA (ft3) | G48: Provided Volume that will drawdown 2-5 days (ft3) | J48: Nitrogen Removal Efficiency | K48: Sub-DA Nitrogen (lbs) | L48: Nitrogen Removed (lbs) | M48: Drawdown Time (hours)
D49: =IF('SITE SUMMARY'!$G$35="High",E159,"-") -> #DIV/0! | J49: =IF(ISERROR(VLOOKUP(C49,BMP,2,FALSE)),0,VLOOKUP(C49,BMP,2,FALSE)) -> 0 | K49: =IF(ISERROR($G$114),D46,$G$114+D46) -> 0 | L49: =IF(ISERROR(K49*J49),0,K49*J49) -> 0
J50: =IF(ISERROR(VLOOKUP(C50,BMP,2,FALSE)),0,VLOOKUP(C50,BMP,2,FALSE)) -> 0 | K50: =IF(ISERROR(K49-L49),0,K49-L49) -> 0 | L50: =IF(ISERROR(K50*J50),0,K50*J50) -> 0
J51: =IF(ISERROR(VLOOKUP(C51,BMP,2,FALSE)),0,VLOOKUP(C51,BMP,2,FALSE)) -> 0 | K51: =IF(ISERROR(K50-L50),0,K50-L50) -> 0 | L51: =IF(ISERROR(K51*J51),0,K51*J51) -> 0
J52: =IF(ISERROR(VLOOKUP(C52,BMP,2,FALSE)),0,VLOOKUP(C52,BMP,2,FALSE)) -> 0 | K52: =IF(ISERROR(K51-L51),0,K51-L51) -> 0 | L52: =IF(ISERROR(K52*J52),0,K52*J52) -> 0
J53: =IF(ISERROR(VLOOKUP(C53,BMP,2,FALSE)),0,VLOOKUP(C53,BMP,2,FALSE)) -> 0 | K53: =IF(ISERROR(K52-L52),0,K52-L52) -> 0 | L53: =IF(ISERROR(K53*J53),0,K53*J53) -> 0 | N53: =IF(G49>(D49+5),"Exceeds Available Volume!","") -> #DIV/0!
B54: Total Nitrogen remaining leaving the subbasin (lbs): | D54: =IF(J53>0,K326-L53,IF(J52>0,K52-L52,IF(J51>0,K51-L51,IF(J50>0,K50-L50,K49-L49)))) -> 0
B55: Sub-DA1(d) BMP(s)
B56: If Sub-DA1(d) is connected to upstream subbasin(s), enter the nitrogen leaving the most upstream subbasin(lbs):
B57: If Sub-DA1(d) is connected to upstream subbasin(s), enter the volume leaving the upstream subbasin not previously treated (ft3):
B58: Device Name (As Shown on Plan) | C58: Device Type | D58: Water Quality Volume for Sub-DA (ft3) | G58: Provided Volume that will drawdown 2-5 days (ft3) | J58: Nitrogen Removal Efficiency | K58: Sub-DA Nitrogen (lbs) | L58: Nitrogen Removed (lbs) | M58: Drawdown Time (hours)
D59: =IF('SITE SUMMARY'!$G$35="High",E163,"-") -> #DIV/0! | J59: =IF(ISERROR(VLOOKUP(C59,BMP,2,FALSE)),0,VLOOKUP(C59,BMP,2,FALSE)) -> 0 | K59: =IF(ISERROR($H$114),D56,$H$114+D56) -> 0 | L59: =IF(ISERROR(K59*J59),0,K59*J59) -> 0
J60: =IF(ISERROR(VLOOKUP(C60,BMP,2,FALSE)),0,VLOOKUP(C60,BMP,2,FALSE)) -> 0 | K60: =IF(ISERROR(K59-L59),0,K59-L59) -> 0 | L60: =IF(ISERROR(K60*J60),0,K60*J60) -> 0
J61: =IF(ISERROR(VLOOKUP(C61,BMP,2,FALSE)),0,VLOOKUP(C61,BMP,2,FALSE)) -> 0 | K61: =IF(ISERROR(K60-L60),0,K60-L60) -> 0 | L61: =IF(ISERROR(K61*J61),0,K61*J61) -> 0
J62: =IF(ISERROR(VLOOKUP(C62,BMP,2,FALSE)),0,VLOOKUP(C62,BMP,2,FALSE)) -> 0 | K62: =IF(ISERROR(K61-L61),0,K61-L61) -> 0 | L62: =IF(ISERROR(K62*J62),0,K62*J62) -> 0
J63: =IF(ISERROR(VLOOKUP(C63,BMP,2,FALSE)),0,VLOOKUP(C63,BMP,2,FALSE)) -> 0 | K63: =IF(ISERROR(K62-L62),0,K62-L62) -> 0 | L63: =IF(ISERROR(K63*J63),0,K63*J63) -> 0 | N63: =IF(G59>(D59+5),"Exceeds Available Volume!","") -> #DIV/0!
B64: Total Nitrogen remaining leaving the subbasin (lbs): | D64: =IF(J63>0,K63-L63,IF(J62>0,K62-L62,IF(J61>0,K61-L61,IF(J60>0,K60-L60,K59-L59)))) -> 0
B65: Sub-DA1(e) BMP(s)
B66: If Sub-DA1(e) is connected to upstream subbasin(s), enter the nitrogen leaving the most upstream subbasin(lbs):
B67: If Sub-DA1(e) is connected to upstream subbasin(s), enter the volume leaving the upstream subbasin(lbs):
B68: Device Name (As Shown on Plan) | C68: Device Type | D68: Water Quality Volume for Sub-DA (ft3) | G68: Provided Volume that will drawdown 2-5 days (ft3) | J68: Nitrogen Removal Efficiency | K68: Sub-DA Nitrogen (lbs) | L68: Nitrogen Removed (lbs) | M68: Drawdown Time (hours)
D69: =IF('SITE SUMMARY'!$G$35="High",E167,"-") -> #DIV/0! | J69: =IF(ISERROR(VLOOKUP(C69,BMP,2,FALSE)),0,VLOOKUP(C69,BMP,2,FALSE)) -> 0 | K69: =IF(ISERROR($I$114),D66,$I$114+D66) -> 0 | L69: =IF(ISERROR(K69*J69),0,K69*J69) -> 0
J70: =IF(ISERROR(VLOOKUP(C70,BMP,2,FALSE)),0,VLOOKUP(C70,BMP,2,FALSE)) -> 0 | K70: =IF(ISERROR(K69-L69),0,K69-L69) -> 0 | L70: =IF(ISERROR(K70*J70),0,K70*J70) -> 0
J71: =IF(ISERROR(VLOOKUP(C71,BMP,2,FALSE)),0,VLOOKUP(C71,BMP,2,FALSE)) -> 0 | K71: =IF(ISERROR(K70-L70),0,K70-L70) -> 0 | L71: =IF(ISERROR(K71*J71),0,K71*J71) -> 0
J72: =IF(ISERROR(VLOOKUP(C72,BMP,2,FALSE)),0,VLOOKUP(C72,BMP,2,FALSE)) -> 0 | K72: =IF(ISERROR(K71-L71),0,K71-L71) -> 0 | L72: =IF(ISERROR(K72*J72),0,K72*J72) -> 0
J73: =IF(ISERROR(VLOOKUP(C73,BMP,2,FALSE)),0,VLOOKUP(C73,BMP,2,FALSE)) -> 0 | K73: =IF(ISERROR(K72-L72),0,K72-L72) -> 0 | L73: =IF(ISERROR(K73*J73),0,K73*J73) -> 0 | N73: =IF(G69>(D69+5),"Exceeds Available Volume!","") -> #DIV/0!
B74: Total Nitrogen remaining leaving the subbasin (lbs): | D74: =IF(J73>0,K73-L73,IF(J72>0,K72-L72,IF(J71>0,K71-L71,IF(J70>0,K70-L70,K69-L69)))) -> 0
B75: DA5 BMP SUMMARY | N75: Note: Engineers are required to input post BMP peak flow and Tc for the 1-year, 2-year, and 10-year storms for each DA. The SW Design Tool uses the TR-55 method. The TR-55 method is preferred for post BMP calculations. If engineer uses a method/model other than TR-55 for the post-BMP peak discharge and runoff, engineer must also provide pre-development calculations from the method/model (in addition to the SW Design Tool) and pre-development calculations must be within 10% of results computed by the SW Design Tool). A summary sheet should be attached with the submittal to for all inputs used in design.
B76: Total Volume Treated (ft3)= | D76: =G29+G39+G49+G59+G69 -> 0
B77: Nitrogen Mitigated(lbs)= | D77: =SUM(L29:L33,L39:L43,L49:L53,L59:L63,L69:L73) -> 0
B78: 1-year, 24-hour storm
B79: Post BMP Volume of Runoff (ft3)(1-year)= | D79: =IF(('DA5'!H83-D76)<0,0,'DA5'!H83-D76) -> 0
B80: Post BMP Runoff (inches) = Q*(1-year)= | D80: =((((D79)/(C9*43560)))*12) -> #DIV/0!
B81: Post BMP CN(1-year)= | D81: =IF(ISERROR(VLOOKUP($D$80,CN,2,TRUE)),0,VLOOKUP($D$80,CN,2,TRUE)) -> 0
B82: Post BMP Peak Discharge (cfs)= Q1-year=
B83: 2-year, 24-hour storm (LID)
B84: Post BMP Volume of Runoff (ft3)(2-year)= | D84: =IF(('DA5'!H88-D76)<0,0,'DA5'!H88-D76) -> #DIV/0!
B85: Post BMP Runoff (inches) = Q*(2-year)= | D85: =((D84/(C9*43560)))*12 -> #DIV/0!
B86: Post BMP CN(2-year)= | D86: =IF(ISERROR(VLOOKUP(D85,CN2YR,2,TRUE)),0,VLOOKUP(D85,CN2YR,2,TRUE)) -> 0
B87: Post BMP Peak Discharge (cfs)= Q(2-year)=
B88: 10-year, 24-hour storm (DIA)
B89: Post volume (10-year)= | D89: =('DA5'!H91/12)*('DA5'!H10*43560) -> #DIV/0!
B90: Post BMP Volume of Runoff (ft3)(10-year)= | D90: =IF(('DA5'!H92-D76)<0,0,'DA5'!H92-D76) -> #DIV/0!
B91: Post BMP Runoff (inches) = Q*(10-year)= | D91: =((D90/(C9*43560)))*12 -> #DIV/0!
B92: Post BMP CN(10-year)= | D92: =IF(ISERROR(VLOOKUP(D91,CN2YR,2,TRUE)),0,VLOOKUP(D91,CN2YR,2,TRUE)) -> 0
B93: Post BMP Peak Discharge (cfs)= Q(10-year)=
B99: TO BE HIDDEN
B102: N-EXPORT COEFFICIENTS
B104: HSG | D104: TN Coeff. (lbs/ac/yr | E104: Sub-DA5(a) (lbs/yr) | F104: Sub-DA5(b) (lbs/yr) | G104: Sub-DA5(c) (lbs/yr) | H104: Sub-DA5(d) (lbs/yr) | I104: Sub-DA5(e) (lbs/yr)
B105: Pasture | D105: 1.2 | E105: =(SUM(D17:E17))*$D$105 -> 0 | F105: =(SUM(F17:G17))*D105 -> 0 | G105: =(SUM(H17:I17))*D105 -> 0 | H105: =(SUM(J17:K17))*D105 -> 0 | I105: =(SUM(L17:M17))*D105 -> 0 | L105: Yes
B106: Woods, Poor Condition | D106: 1.6 | E106: =(SUM(D18:E18))*$D$106 -> 0 | F106: =(SUM(F18:G18))*D106 -> 0 | G106: =(SUM(H18:I18))*D106 -> 0 | H106: =(SUM(J18:K18))*D106 -> 0 | I106: =(SUM(L18:M18))*D106 -> 0 | L106: No
B107: Woods, Fair Condition | D107: 1.2 | E107: =(SUM(D19:E19))*$D$107 -> 0 | F107: =(SUM(F19:G19))*D107 -> 0 | G107: =(SUM(H19:I19))*D107 -> 0 | H107: =(SUM(J19:K19))*D107 -> 0 | I107: =(SUM(L19:M19))*D107 -> 0
B108: Woods, Good Condition | D108: 0.8 | E108: =(SUM(D20:E20))*$D$108 -> 0 | F108: =(SUM(F20:G20))*D108 -> 0 | G108: =(SUM(H20:I20))*D108 -> 0 | H108: =(SUM(J20:K20))*D108 -> 0 | I108: =(SUM(L20:M20))*D108 -> 0
B109: Open Space, Poor Condition | D109: 1 | E109: =(SUM(D21:E21))*$D$109 -> 0 | F109: =(SUM(F21:G21))*D109 -> 0 | G109: =(SUM(H21:I21))*D109 -> 0 | H109: =(SUM(J21:K21))*D109 -> 0 | I109: =(SUM(L21:M21))*D109 -> 0
B110: Open Space, Fair Condition | D110: 0.8 | E110: =(SUM(D22:E22))*$D$110 -> 0 | F110: =(SUM(F22:G22))*D110 -> 0 | G110: =(SUM(H22:I22))*D110 -> 0 | H110: =(SUM(J22:K22))*D110 -> 0 | I110: =(SUM(L22:M22))*D110 -> 0
B111: Open Space, Good Condition | D111: 0.6 | E111: =(SUM(D23:E23))*$D$111 -> 0 | F111: =(SUM(F23:G23))*D111 -> 0 | G111: =(SUM(H23:I23))*D111 -> 0 | H111: =(SUM(J23:K23))*D111 -> 0 | I111: =(SUM(L23:M23))*D111 -> 0
B112: Reforestation (in dedicated OS) | D112: 0.6 | E112: =(SUM(D24:E24))*$D$112 -> 0 | F112: =(SUM(F24:G24))*D112 -> 0 | G112: =(SUM(H24:I24))*D112 -> 0 | H112: =(SUM(J24:K24))*D112 -> 0 | I112: =(SUM(L24:M24))*D112 -> 0
...

Sheet DA6_BMPs
B1: Project Name: | F1: ='SITE DATA'!F9 -> 0
B3: DRAINAGE AREA 6
B4: BMP CALCULATIONS
B8: DRAINAGE AREA 1 - BMP DEVICES AND ADJUSTMENTS | N8: LINKS/COMMENTS
B9: DA6 Site Acreage= | C9: ='DA6'!H10 -> 0
B10: DA6 Off-Site Acreage= | C10: ='DA6'!H9-'DA6'!H10 -> 0
B11: Total Required Storage Volume TCN Requirement (ft3)= | C11: ='SITE SUMMARY'!G40 -> #VALUE! | N11: Storage Volume required based on project density classification.
B12: Total Required Storage Volume for DA6 1" Rainfall for High Density (ft3)= | C12: =IF('SITE SUMMARY'!G35="High",('DA6'!$D$80),0) -> #DIV/0! | D12: =IF($G$36="High",('DA1'!$D$80),"NA") -> NA | E12: =IF($G$36="High",('DA1'!$D$80),"NA") -> NA | F12: =IF($G$36="High",('DA1'!$D$80),"NA") -> NA | G12: =IF($G$36="High",('DA1'!$D$80),"NA") -> NA | H12: =IF($G$36="High",('DA1'!$D$80),"NA") -> NA | I12: =IF($G$36="High",('DA1'!$D$80),"NA") -> NA | J12: =IF($G$36="High",('DA1'!$D$80),"NA") -> NA | K12: =IF($G$36="High",('DA1'!$D$80),"NA") -> NA | ... M12: =IF($G$36="High",('DA1'!$D$80),"NA") -> NA
B13: Will site use underground detention/cistern? | D13: Enter % of the year water will be reused= | J13: Note: Supporting information/details should be submitted to demonstrate water usage. | N13: For cisterns, engineer shall input drainage area used for reuse in Sub-DA6(a) prior to entering further BMPs. Use of a cistern reduces total volume required for storage as well total nitrogen load. To receive total reduction, engineer must show year-round use of reclaimed water. Volume not reused may be treated by downstream BMP in another sub-DA.
B14: ENTER ACREAGE FOR ALL SUB-DRAINAGE AREAS IN DA
B15: HSG | D15: Sub-DA6(a) (Ac) | F15: Sub-DA6(b) (Ac) | H15: Sub-DA6(c) (Ac) | J15: Sub-DA6(d) (Ac) | L15: Sub-DA6(e) (Ac) | N15: Notes: DA is divided into sub-DAs to account for BMP watersheds and for remaining areas not managed by a BMP. BMPs in a series should be within the same sub-DA. Generally, subbasin data should be entered with the upstream subbasin completed first. Likewise, BMPs should be entered with the upstream BMP listed first (BMPs in a series assume constant storage volume).
D16: Site | E16: Off-site | F16: Site | G16: Off-site | H16: Site | I16: Off-site | J16: Site | K16: Off-site | L16: Site | M16: Off-site
B17: Pasture
B18: Woods, Poor Condition
B19: Woods, Fair Condition
B20: Woods, Good Condition
B21: Open Space, Poor Condition
B22: Open Space, Fair Condition
B23: Open Space, Good Condition
B24: Reforestation (in dedicated OS)
B25: Impervious | N25: =IF(SUM( D17:D25,F17:F25,H17:H25,J17:J25,L17:L25)=C9,"","DOES NOT MATCH SITE ACREAGES")
B26: Total Acreage - To Hide | D26: =SUM(D17:D25) -> 0 | E26: =SUM(E17:E25) -> 0 | F26: =SUM(F17:F25) -> 0 | G26: =SUM(G17:G25) -> 0 | H26: =SUM(H17:H25) -> 0 | I26: =SUM(I17:I25) -> 0 | J26: =SUM(J17:J25) -> 0 | K26: =SUM(K17:K25) -> 0 | ... M26: =SUM(M17:M25) -> 0
B27: Sub-DA1(a) BMP(s)
B28: Device Name (As Shown on Plan) | C28: Device Type | D28: Water Quality Volume for Sub-DA (ft3) | G28: Provided Volume that will drawdown 2-5 days (ft3) | J28: Nitrogen Removal Efficiency | K28: Sub-DA Nitrogen (lbs) | L28: Nitrogen Removed (lbs) | M28: Drawdown Time (hours) | N28: Note: High density projects must use BMPs with 85% TSS removal (Bioretention, Stormwater Wetland, Wet Detention Pond, Sand Filter, and/or Infiltration Device).
D29: =IF('SITE SUMMARY'!$G$35="High",E151,"-") -> #DIV/0! | J29: =IF(ISERROR(VLOOKUP(C29,BMP,2,FALSE)),0,VLOOKUP(C29,BMP,2,FALSE)) -> 0 | K29: =IF(ISERROR($E$114),0,$E$114) -> 0 | L29: =IF(ISERROR(K29*J29),0,K29*J29) -> 0
J30: =IF(ISERROR(VLOOKUP(C30,BMP,2,FALSE)),0,VLOOKUP(C30,BMP,2,FALSE)) -> 0 | K30: =IF(ISERROR(K29-L29),0,K29-L29) -> 0 | L30: =IF(ISERROR(K30*J30),0,K30*J30) -> 0
